Back to Multiple platform build/check report for BioC 3.13
AB[C]DEFGHIJKLMNOPQRSTUVWXYZ

This page was generated on 2021-09-13 15:05:31 -0400 (Mon, 13 Sep 2021).

All results for package cummeRbund

To the developers/maintainers of the cummeRbund package:
- Please allow up to 24 hours (and sometimes 48 hours) for your latest push to git@git.bioconductor.org:packages/cummeRbund.git to
reflect on this report. See How and When does the builder pull? When will my changes propagate? here for more information.
- Make sure to use the following settings in order to reproduce any error or warning you see on this page.

raw results

Package 424/2041HostnameOS / ArchINSTALLBUILDCHECKBUILD BIN
cummeRbund 2.34.0  (landing page)
Loyal A. Goff
Snapshot Date: 2021-09-12 04:50:10 -0400 (Sun, 12 Sep 2021)
git_url: https://git.bioconductor.org/packages/cummeRbund
git_branch: RELEASE_3_13
git_last_commit: e2ae106
git_last_commit_date: 2021-05-19 11:50:10 -0400 (Wed, 19 May 2021)
nebbiolo1Linux (Ubuntu 20.04.2 LTS) / x86_64  OK    OK    WARNINGS  UNNEEDED, same version is already published
tokay2Windows Server 2012 R2 Standard / x64  OK    OK    WARNINGS    OK  UNNEEDED, same version is already published
machv2macOS 10.14.6 Mojave / x86_64  OK    OK    WARNINGS    OK  UNNEEDED, same version is already published

Results for Bioconductor software packages that depend directly on package cummeRbund

QUICK STATSOS / ArchINSTALLBUILDCHECKBUILD BIN
nebbiolo1Linux (Ubuntu 20.04.2 LTS) / x86_64
001
001
0001
tokay2Windows Server 2012 R2 Standard / x64
001
001
0001
001
machv2macOS 10.14.6 Mojave / x86_64
001
001
0001
001
Package 1/1HostnameOS / ArchINSTALLBUILDCHECKBUILD BIN
meshr 1.28.0  (landing page)
Koki Tsuyuzaki
git_last_commit: f8913a9
git_last_commit_date: 2021-05-19 12:04:51 -0400
nebbiolo1Linux (Ubuntu 20.04.2 LTS) / x86_64  OK    OK    OK  UNNEEDED, same version is already published
tokay2Windows Server 2012 R2 Standard / x64  OK    OK    OK    OK  UNNEEDED, same version is already published
machv2macOS 10.14.6 Mojave / x86_64  OK    OK    OK    OK  UNNEEDED, same version is already published