Index of /checkResults/release/bioc-LATEST/csdR/raw-results/merida1

[ICO]NameLast modifiedSizeDescription

[DIR]Parent Directory  -  
[TXT]buildbin-out.txt20-Jul-2024 06:39 4.7K 
[   ]buildbin-summary.dcf20-Jul-2024 06:39 512  
[TXT]buildsrc-out.txt20-Jul-2024 06:39 897  
[   ]buildsrc-summary.dcf20-Jul-2024 06:39 419  
[TXT]checksrc-out.txt20-Jul-2024 06:39 4.0K 
[   ]checksrc-summary.dcf20-Jul-2024 06:39 432  
[TXT]install-out.txt20-Jul-2024 06:39 2.7K 
[   ]install-summary.dcf20-Jul-2024 06:39 263