Back to Multiple platform build/check report for BioC 3.13
AB[C]DEFGHIJKLMNOPQRSTUVWXYZ

This page was generated on 2021-09-20 15:05:09 -0400 (Mon, 20 Sep 2021).

INSTALL results for coseq on tokay2

To the developers/maintainers of the coseq package:
- Please allow up to 24 hours (and sometimes 48 hours) for your latest push to git@git.bioconductor.org:packages/coseq.git to
reflect on this report. See How and When does the builder pull? When will my changes propagate? here for more information.
- Make sure to use the following settings in order to reproduce any error or warning you see on this page.

raw results

Package 397/2041HostnameOS / ArchINSTALLBUILDCHECKBUILD BIN
coseq 1.16.0  (landing page)
Andrea Rau
Snapshot Date: 2021-09-19 04:50:10 -0400 (Sun, 19 Sep 2021)
git_url: https://git.bioconductor.org/packages/coseq
git_branch: RELEASE_3_13
git_last_commit: e1d4441
git_last_commit_date: 2021-05-19 12:25:17 -0400 (Wed, 19 May 2021)
nebbiolo1Linux (Ubuntu 20.04.2 LTS) / x86_64  OK    OK    OK  UNNEEDED, same version is already published
tokay2Windows Server 2012 R2 Standard / x64  OK    OK    OK    OK  UNNEEDED, same version is already published
machv2macOS 10.14.6 Mojave / x86_64  OK    OK    OK    OK  UNNEEDED, same version is already published

Summary

Package: coseq
Version: 1.16.0
Command: C:\cygwin\bin\curl.exe -O http://155.52.207.165/BBS/3.13/bioc/src/contrib/coseq_1.16.0.tar.gz && rm -rf coseq.buildbin-libdir && mkdir coseq.buildbin-libdir && C:\Users\biocbuild\bbs-3.13-bioc\R\bin\R.exe CMD INSTALL --merge-multiarch --build --library=coseq.buildbin-libdir coseq_1.16.0.tar.gz && C:\Users\biocbuild\bbs-3.13-bioc\R\bin\R.exe CMD INSTALL coseq_1.16.0.zip && rm coseq_1.16.0.tar.gz coseq_1.16.0.zip
StartedAt: 2021-09-19 09:02:55 -0400 (Sun, 19 Sep 2021)
EndedAt: 2021-09-19 09:04:11 -0400 (Sun, 19 Sep 2021)
EllapsedTime: 76.0 seconds
RetCode: 0
Status:   OK  

Command output

##############################################################################
##############################################################################
###
### Running command:
###
###   C:\cygwin\bin\curl.exe -O http://155.52.207.165/BBS/3.13/bioc/src/contrib/coseq_1.16.0.tar.gz && rm -rf coseq.buildbin-libdir && mkdir coseq.buildbin-libdir && C:\Users\biocbuild\bbs-3.13-bioc\R\bin\R.exe CMD INSTALL --merge-multiarch --build --library=coseq.buildbin-libdir coseq_1.16.0.tar.gz && C:\Users\biocbuild\bbs-3.13-bioc\R\bin\R.exe CMD INSTALL coseq_1.16.0.zip && rm coseq_1.16.0.tar.gz coseq_1.16.0.zip
###
##############################################################################
##############################################################################


  % Total    % Received % Xferd  Average Speed   Time    Time     Time  Current
                                 Dload  Upload   Total   Spent    Left  Speed

  0     0    0     0    0     0      0      0 --:--:-- --:--:-- --:--:--     0
100  318k  100  318k    0     0   531k      0 --:--:-- --:--:-- --:--:--  532k

install for i386

* installing *source* package 'coseq' ...
** using staged installation
** R
** data
** inst
** byte-compile and prepare package for lazy loading
Creating a new generic function for 'plot' in package 'coseq'
** help
*** installing help indices
  converting help for package 'coseq'
    finding HTML links ... done
    NormMixClus                             html  
    NormMixClusK                            html  
    NormMixParam                            html  
    clusterEntropy                          html  
    clusterInertia                          html  
    compareARI                              html  
    compareICL                              html  
    convertLegacyCoseq                      html  
    coseq-package                           html  
    coseq                                   html  
    coseqHelpers                            html  
    coseqResults                            html  
    coseqRun                                html  
    fietz                                   html  
    kmeansProbaPost                         html  
    logclr                                  html  
    matchContTable                          html  
    plot                                    html  
    summary                                 html  
    transformRNAseq                         html  
** building package indices
** installing vignettes
** testing if installed package can be loaded from temporary location
** testing if installed package can be loaded from final location
** testing if installed package keeps a record of temporary installation path

install for x64

* installing *source* package 'coseq' ...
** testing if installed package can be loaded
* MD5 sums
packaged installation of 'coseq' as coseq_1.16.0.zip
* DONE (coseq)
* installing to library 'C:/Users/biocbuild/bbs-3.13-bioc/R/library'
package 'coseq' successfully unpacked and MD5 sums checked