Back to Multiple platform build/check report for BioC 3.13
AB[C]DEFGHIJKLMNOPQRSTUVWXYZ

This page was generated on 2021-09-24 15:05:42 -0400 (Fri, 24 Sep 2021).

BUILD results for coseq on nebbiolo1

To the developers/maintainers of the coseq package:
- Please allow up to 24 hours (and sometimes 48 hours) for your latest push to git@git.bioconductor.org:packages/coseq.git to
reflect on this report. See How and When does the builder pull? When will my changes propagate? here for more information.
- Make sure to use the following settings in order to reproduce any error or warning you see on this page.

raw results

Package 397/2041HostnameOS / ArchINSTALLBUILDCHECKBUILD BIN
coseq 1.16.0  (landing page)
Andrea Rau
Snapshot Date: 2021-09-23 04:50:12 -0400 (Thu, 23 Sep 2021)
git_url: https://git.bioconductor.org/packages/coseq
git_branch: RELEASE_3_13
git_last_commit: e1d4441
git_last_commit_date: 2021-05-19 12:25:17 -0400 (Wed, 19 May 2021)
nebbiolo1Linux (Ubuntu 20.04.2 LTS) / x86_64  OK    OK    OK  UNNEEDED, same version is already published
tokay2Windows Server 2012 R2 Standard / x64  OK    OK    OK    OK  UNNEEDED, same version is already published
machv2macOS 10.14.6 Mojave / x86_64  OK    OK    OK    OK  UNNEEDED, same version is already published

Summary

Package: coseq
Version: 1.16.0
Command: /home/biocbuild/bbs-3.13-bioc/R/bin/R CMD build --keep-empty-dirs --no-resave-data coseq
StartedAt: 2021-09-23 07:00:47 -0400 (Thu, 23 Sep 2021)
EndedAt: 2021-09-23 07:04:39 -0400 (Thu, 23 Sep 2021)
EllapsedTime: 231.8 seconds
RetCode: 0
Status:   OK  
PackageFile: coseq_1.16.0.tar.gz
PackageFileSize: 1.623 MiB

Command output

##############################################################################
##############################################################################
###
### Running command:
###
###   /home/biocbuild/bbs-3.13-bioc/R/bin/R CMD build --keep-empty-dirs --no-resave-data coseq
###
##############################################################################
##############################################################################


* checking for file ‘coseq/DESCRIPTION’ ... OK
* preparing ‘coseq’:
* checking DESCRIPTION meta-information ... OK
* installing the package to build vignettes
* creating vignettes ... OK
* checking for LF line-endings in source and make files and shell scripts
* checking for empty or unneeded directories
* looking to see if a ‘data/datalist’ file should be added
* building ‘coseq_1.16.0.tar.gz’