Back to Multiple platform build/check report for BioC 3.13
AB[C]DEFGHIJKLMNOPQRSTUVWXYZ

This page was generated on 2021-09-13 15:06:21 -0400 (Mon, 13 Sep 2021).

CHECK results for copynumber on tokay2

To the developers/maintainers of the copynumber package:
- Please allow up to 24 hours (and sometimes 48 hours) for your latest push to git@git.bioconductor.org:packages/copynumber.git to
reflect on this report. See How and When does the builder pull? When will my changes propagate? here for more information.
- Make sure to use the following settings in order to reproduce any error or warning you see on this page.

raw results

Package 387/2041HostnameOS / ArchINSTALLBUILDCHECKBUILD BIN
copynumber 1.32.0  (landing page)
Gro Nilsen
Snapshot Date: 2021-09-12 04:50:10 -0400 (Sun, 12 Sep 2021)
git_url: https://git.bioconductor.org/packages/copynumber
git_branch: RELEASE_3_13
git_last_commit: 7a14096
git_last_commit_date: 2021-05-19 11:58:32 -0400 (Wed, 19 May 2021)
nebbiolo1Linux (Ubuntu 20.04.2 LTS) / x86_64  OK    OK    OK  UNNEEDED, same version is already published
tokay2Windows Server 2012 R2 Standard / x64  OK    OK    OK    OK  UNNEEDED, same version is already published
machv2macOS 10.14.6 Mojave / x86_64  OK    OK    OK    OK  UNNEEDED, same version is already published

Summary

Package: copynumber
Version: 1.32.0
Command: C:\Users\biocbuild\bbs-3.13-bioc\R\bin\R.exe CMD check --force-multiarch --install=check:copynumber.install-out.txt --library=C:\Users\biocbuild\bbs-3.13-bioc\R\library --no-vignettes --timings copynumber_1.32.0.tar.gz
StartedAt: 2021-09-12 20:56:56 -0400 (Sun, 12 Sep 2021)
EndedAt: 2021-09-12 20:59:56 -0400 (Sun, 12 Sep 2021)
EllapsedTime: 180.1 seconds
RetCode: 0
Status:   OK  
CheckDir: copynumber.Rcheck
Warnings: 0

Command output

##############################################################################
##############################################################################
###
### Running command:
###
###   C:\Users\biocbuild\bbs-3.13-bioc\R\bin\R.exe CMD check --force-multiarch --install=check:copynumber.install-out.txt --library=C:\Users\biocbuild\bbs-3.13-bioc\R\library --no-vignettes --timings copynumber_1.32.0.tar.gz
###
##############################################################################
##############################################################################


* using log directory 'C:/Users/biocbuild/bbs-3.13-bioc/meat/copynumber.Rcheck'
* using R version 4.1.1 (2021-08-10)
* using platform: x86_64-w64-mingw32 (64-bit)
* using session charset: ISO8859-1
* using option '--no-vignettes'
* checking for file 'copynumber/DESCRIPTION' ... OK
* this is package 'copynumber' version '1.32.0'
* checking package namespace information ... OK
* checking package dependencies ... OK
* checking if this is a source package ... OK
* checking if there is a namespace ... OK
* checking for hidden files and directories ... OK
* checking for portable file names ... OK
* checking whether package 'copynumber' can be installed ... OK
* checking installed package size ... OK
* checking package directory ... OK
* checking 'build' directory ... OK
* checking DESCRIPTION meta-information ... NOTE
Malformed Title field: should not end in a period.
* checking top-level files ... OK
* checking for left-over files ... OK
* checking index information ... OK
* checking package subdirectories ... OK
* checking R files for non-ASCII characters ... OK
* checking R files for syntax errors ... OK
* loading checks for arch 'i386'
** checking whether the package can be loaded ... OK
** checking whether the package can be loaded with stated dependencies ... OK
** checking whether the package can be unloaded cleanly ... OK
** checking whether the namespace can be loaded with stated dependencies ... OK
** checking whether the namespace can be unloaded cleanly ... OK
* loading checks for arch 'x64'
** checking whether the package can be loaded ... OK
** checking whether the package can be loaded with stated dependencies ... OK
** checking whether the package can be unloaded cleanly ... OK
** checking whether the namespace can be loaded with stated dependencies ... OK
** checking whether the namespace can be unloaded cleanly ... OK
* checking dependencies in R code ... NOTE
Package in Depends field not imported from: 'BiocGenerics'
  These packages need to be imported from (in the NAMESPACE file)
  for when this namespace is loaded but not attached.
* checking S3 generic/method consistency ... OK
* checking replacement functions ... OK
* checking foreign function calls ... OK
* checking R code for possible problems ... NOTE
addArmlines: no visible global function definition for 'modifyList'
addArmlines: no visible global function definition for 'abline'
addChromlines: no visible global function definition for 'modifyList'
addChromlines: no visible global function definition for 'abline'
addChromlines: no visible global function definition for 'mtext'
addToFreqPlot: no visible global function definition for 'abline'
addToFreqPlot: no visible global function definition for 'axis'
addToFreqPlot: no visible global function definition for 'title'
addToPlot: no visible global function definition for 'axis'
addToPlot: no visible global function definition for 'mtext'
addToPlot: no visible global function definition for 'title'
addToPlot: no visible global function definition for 'abline'
aspcf: no visible global function definition for 'read.table'
aspcf: no visible global function definition for 'write.table'
c.lines: no visible global function definition for 'lines'
chromPattern: no visible global function definition for 'rect'
chromPattern: no visible global function definition for 'par'
chromosomeAberration: no visible global function definition for
  'dev.cur'
chromosomeAberration: no visible global function definition for
  'dev.new'
chromosomeAberration: no visible global function definition for 'par'
chromosomeAberration: no visible global function definition for 'rect'
chromosomeAberration: no visible global function definition for 'title'
chromosomeAberration: no visible global function definition for 'axis'
chromosomeAberration: no visible global function definition for
  'abline'
chromosomeAberration: no visible global function definition for
  'devAskNewPage'
chromosomeFreq: no visible global function definition for 'dev.cur'
chromosomeFreq: no visible global function definition for 'dev.new'
chromosomeFreq: no visible global function definition for 'par'
chromosomeFreq: no visible global function definition for 'rect'
chromosomeFreq: no visible global function definition for 'abline'
chromosomeFreq: no visible global function definition for 'title'
chromosomeFreq: no visible global function definition for
  'devAskNewPage'
chromosomeHeat: no visible global function definition for 'dev.cur'
chromosomeHeat: no visible global function definition for 'dev.new'
chromosomeHeat: no visible global function definition for 'par'
chromosomeHeat: no visible global function definition for 'rect'
chromosomeHeat: no visible global function definition for 'title'
chromosomeHeat: no visible global function definition for 'axis'
chromosomeHeat: no visible global function definition for 'abline'
chromosomeHeat: no visible global function definition for
  'devAskNewPage'
colorSetup: no visible global function definition for
  'colorRampPalette'
connectSeg: no visible global function definition for 'segments'
draw.roundEdge: no visible global function definition for 'polygon'
drawStalk: no visible global function definition for 'polygon'
filterMarkS4: no visible global function definition for 'quantile'
genomeAberration: no visible global function definition for 'dev.cur'
genomeAberration: no visible global function definition for 'dev.new'
genomeAberration: no visible global function definition for 'par'
genomeAberration: no visible global function definition for 'rect'
genomeAberration: no visible global function definition for 'title'
genomeAberration: no visible global function definition for 'axis'
genomeAberration: no visible global function definition for 'abline'
genomeAberration: no visible global function definition for
  'devAskNewPage'
genomeFreq: no visible global function definition for 'dev.cur'
genomeFreq: no visible global function definition for 'dev.new'
genomeFreq: no visible global function definition for 'par'
genomeFreq: no visible global function definition for 'title'
genomeFreq: no visible global function definition for 'rect'
genomeFreq: no visible global function definition for 'abline'
genomeFreq: no visible global function definition for 'devAskNewPage'
genomeHeat: no visible global function definition for 'dev.cur'
genomeHeat: no visible global function definition for 'dev.new'
genomeHeat: no visible global function definition for 'par'
genomeHeat: no visible global function definition for 'rect'
genomeHeat: no visible global function definition for 'title'
genomeHeat: no visible global function definition for 'axis'
genomeHeat: no visible global function definition for 'abline'
genomeHeat: no visible global function definition for 'devAskNewPage'
getFreqPlotParameters: no visible global function definition for
  'modifyList'
getHeatParameters: no visible global function definition for
  'modifyList'
getMad: no visible global function definition for 'mad'
getPlotParameters: no visible global function definition for 'rainbow'
getPlotParameters: no visible global function definition for
  'modifyList'
madWins: no visible global function definition for 'mad'
medianFilter: no visible global function definition for 'runmed'
multipcf: no visible global function definition for 'read.table'
multipcf: no visible global function definition for 'write.table'
pcf: no visible global function definition for 'read.table'
pcf: no visible global function definition for 'write.table'
pcfWins: no visible global function definition for 'mad'
plotAllele: no visible global function definition for 'modifyList'
plotAllele: no visible global function definition for 'pdf'
plotAllele: no visible global function definition for 'dev.cur'
plotAllele: no visible global function definition for 'dev.new'
plotAllele: no visible global function definition for 'devAskNewPage'
plotAllele: no visible global function definition for 'quantile'
plotAllele: no visible global function definition for 'par'
plotAllele: no visible global function definition for 'legend'
plotAllele: no visible global function definition for 'title'
plotAllele: no visible global function definition for 'graphics.off'
plotChrom: no visible global function definition for 'pdf'
plotChrom: no visible global function definition for 'dev.cur'
plotChrom: no visible global function definition for 'dev.new'
plotChrom: no visible global function definition for 'devAskNewPage'
plotChrom: no visible global function definition for 'quantile'
plotChrom: no visible global function definition for 'par'
plotChrom: no visible global function definition for 'legend'
plotChrom: no visible global function definition for 'title'
plotChrom: no visible global function definition for 'graphics.off'
plotCircle: no visible global function definition for 'par'
plotCircle: no visible global function definition for 'text'
plotCircle: no visible global function definition for 'xspline'
plotCircle: no visible global function definition for 'lines'
plotGamma: no visible global function definition for 'quantile'
plotGamma: no visible global function definition for 'col2rgb'
plotGamma: no visible global function definition for 'rgb'
plotGamma: no visible global function definition for 'dev.cur'
plotGamma: no visible global function definition for 'dev.new'
plotGamma: no visible global function definition for 'par'
plotGamma: no visible global function definition for 'axis'
plotGamma: no visible global function definition for 'box'
plotGamma: no visible global function definition for 'legend'
plotGamma: no visible global function definition for 'barplot'
plotGamma: no visible global function definition for 'abline'
plotGamma: no visible global function definition for 'mtext'
plotGamma: no visible global function definition for 'points'
plotGenome: no visible global function definition for 'quantile'
plotGenome: no visible global function definition for 'pdf'
plotGenome: no visible global function definition for 'dev.cur'
plotGenome: no visible global function definition for 'dev.new'
plotGenome: no visible global function definition for 'par'
plotGenome: no visible global function definition for 'legend'
plotGenome: no visible global function definition for 'title'
plotGenome: no visible global function definition for 'devAskNewPage'
plotGenome: no visible global function definition for 'graphics.off'
plotIdeogram: no visible global function definition for 'rect'
plotIdeogram: no visible global function definition for 'mtext'
plotObs: no visible global function definition for 'par'
plotSample: no visible global function definition for 'pdf'
plotSample: no visible global function definition for 'dev.cur'
plotSample: no visible global function definition for 'dev.new'
plotSample: no visible global function definition for 'devAskNewPage'
plotSample: no visible global function definition for 'quantile'
plotSample: no visible global function definition for 'par'
plotSample: no visible global function definition for 'legend'
plotSample: no visible global function definition for 'title'
plotSample: no visible global function definition for 'graphics.off'
plotSegments: no visible global function definition for 'par'
sawMarkM: no visible global function definition for 'quantile'
subset.abe: no visible binding for global variable 'quantile'
subsetData: no visible global function definition for 'read.table'
subsetSegments: no visible global function definition for 'read.table'
winsorize: no visible global function definition for 'read.table'
winsorize: no visible global function definition for 'write.table'
Undefined global functions or variables:
  abline axis barplot box col2rgb colorRampPalette dev.cur dev.new
  devAskNewPage graphics.off legend lines mad modifyList mtext par pdf
  points polygon quantile rainbow read.table rect rgb runmed segments
  text title write.table xspline
Consider adding
  importFrom("grDevices", "col2rgb", "colorRampPalette", "dev.cur",
             "dev.new", "devAskNewPage", "graphics.off", "pdf",
             "rainbow", "rgb")
  importFrom("graphics", "abline", "axis", "barplot", "box", "legend",
             "lines", "mtext", "par", "points", "polygon", "rect",
             "segments", "text", "title", "xspline")
  importFrom("stats", "mad", "quantile", "runmed")
  importFrom("utils", "modifyList", "read.table", "write.table")
to your NAMESPACE file.
* checking Rd files ... OK
* checking Rd metadata ... OK
* checking Rd cross-references ... OK
* checking for missing documentation entries ... OK
* checking for code/documentation mismatches ... OK
* checking Rd \usage sections ... OK
* checking Rd contents ... OK
* checking for unstated dependencies in examples ... OK
* checking contents of 'data' directory ... OK
* checking data for non-ASCII characters ... OK
* checking LazyData ... OK
* checking data for ASCII and uncompressed saves ... OK
* checking R/sysdata.rda ... OK
* checking files in 'vignettes' ... OK
* checking examples ...
** running examples for arch 'i386' ... OK
Examples with CPU (user + system) or elapsed time > 5s
           user system elapsed
plotCircle 4.99    0.1    5.08
** running examples for arch 'x64' ... OK
Examples with CPU (user + system) or elapsed time > 5s
           user system elapsed
plotCircle  5.1    0.1    5.19
* checking for unstated dependencies in vignettes ... OK
* checking package vignettes in 'inst/doc' ... OK
* checking running R code from vignettes ... SKIPPED
* checking re-building of vignette outputs ... SKIPPED
* checking PDF version of manual ... OK
* DONE

Status: 3 NOTEs
See
  'C:/Users/biocbuild/bbs-3.13-bioc/meat/copynumber.Rcheck/00check.log'
for details.



Installation output

copynumber.Rcheck/00install.out

##############################################################################
##############################################################################
###
### Running command:
###
###   C:\cygwin\bin\curl.exe -O http://155.52.207.165/BBS/3.13/bioc/src/contrib/copynumber_1.32.0.tar.gz && rm -rf copynumber.buildbin-libdir && mkdir copynumber.buildbin-libdir && C:\Users\biocbuild\bbs-3.13-bioc\R\bin\R.exe CMD INSTALL --merge-multiarch --build --library=copynumber.buildbin-libdir copynumber_1.32.0.tar.gz && C:\Users\biocbuild\bbs-3.13-bioc\R\bin\R.exe CMD INSTALL copynumber_1.32.0.zip && rm copynumber_1.32.0.tar.gz copynumber_1.32.0.zip
###
##############################################################################
##############################################################################


  % Total    % Received % Xferd  Average Speed   Time    Time     Time  Current
                                 Dload  Upload   Total   Spent    Left  Speed

  0     0    0     0    0     0      0      0 --:--:-- --:--:-- --:--:--     0
100  763k  100  763k    0     0  2248k      0 --:--:-- --:--:-- --:--:-- 2253k

install for i386

* installing *source* package 'copynumber' ...
** using staged installation
** R
** data
*** moving datasets to lazyload DB
** inst
** byte-compile and prepare package for lazy loading
** help
*** installing help indices
  converting help for package 'copynumber'
    finding HTML links ... done
    SNPdata                                 html  
    aspcf                                   html  
    callAberrations                         html  
    getGRangesFormat                        html  
    imputeMissing                           html  
    interpolate.pcf                         html  
    lymphoma                                html  
    micma                                   html  
    multipcf                                html  
    pcf                                     html  
    pcfPlain                                html  
    plotAberration                          html  
    plotAllele                              html  
    plotChrom                               html  
    plotCircle                              html  
    plotFreq                                html  
    plotGamma                               html  
    plotGenome                              html  
    plotHeatmap                             html  
    plotSample                              html  
    selectSegments                          html  
    subsetData                              html  
    subsetSegments                          html  
    winsorize                               html  
** building package indices
** installing vignettes
** testing if installed package can be loaded from temporary location
** testing if installed package can be loaded from final location
** testing if installed package keeps a record of temporary installation path

install for x64

* installing *source* package 'copynumber' ...
** testing if installed package can be loaded
* MD5 sums
packaged installation of 'copynumber' as copynumber_1.32.0.zip
* DONE (copynumber)
* installing to library 'C:/Users/biocbuild/bbs-3.13-bioc/R/library'
package 'copynumber' successfully unpacked and MD5 sums checked

Tests output


Example timings

copynumber.Rcheck/examples_i386/copynumber-Ex.timings

nameusersystemelapsed
SNPdata0.000.010.02
aspcf1.300.051.34
callAberrations1.970.001.96
getGRangesFormat1.870.021.89
imputeMissing1.440.001.44
interpolate.pcf0.270.010.28
lymphoma0.000.020.01
micma000
multipcf0.470.010.49
pcf0.530.000.53
pcfPlain0.110.000.11
plotAberration2.260.002.27
plotAllele2.580.022.59
plotChrom1.700.011.72
plotCircle4.990.105.08
plotFreq2.360.062.42
plotGamma1.200.021.22
plotGenome3.360.033.39
plotHeatmap2.20.02.2
plotSample2.220.032.25
selectSegments0.50.00.5
subsetData000
subsetSegments1.750.001.75
winsorize0.220.000.21

copynumber.Rcheck/examples_x64/copynumber-Ex.timings

nameusersystemelapsed
SNPdata000
aspcf1.430.041.49
callAberrations1.710.021.72
getGRangesFormat1.780.001.78
imputeMissing1.780.011.79
interpolate.pcf0.420.000.43
lymphoma000
micma000
multipcf0.560.020.57
pcf0.690.030.72
pcfPlain0.120.000.12
plotAberration2.240.002.24
plotAllele2.200.022.22
plotChrom1.530.011.54
plotCircle5.100.105.19
plotFreq2.320.012.34
plotGamma1.180.021.19
plotGenome3.120.033.16
plotHeatmap2.050.012.06
plotSample2.510.022.53
selectSegments0.530.000.53
subsetData0.020.000.02
subsetSegments1.920.001.92
winsorize0.250.000.25