Back to Multiple platform build/check report for BioC 3.13
AB[C]DEFGHIJKLMNOPQRSTUVWXYZ

This page was generated on 2021-09-17 15:05:38 -0400 (Fri, 17 Sep 2021).

BUILD results for copynumber on nebbiolo1

To the developers/maintainers of the copynumber package:
- Please allow up to 24 hours (and sometimes 48 hours) for your latest push to git@git.bioconductor.org:packages/copynumber.git to
reflect on this report. See How and When does the builder pull? When will my changes propagate? here for more information.
- Make sure to use the following settings in order to reproduce any error or warning you see on this page.

raw results

Package 387/2041HostnameOS / ArchINSTALLBUILDCHECKBUILD BIN
copynumber 1.32.0  (landing page)
Gro Nilsen
Snapshot Date: 2021-09-16 04:50:11 -0400 (Thu, 16 Sep 2021)
git_url: https://git.bioconductor.org/packages/copynumber
git_branch: RELEASE_3_13
git_last_commit: 7a14096
git_last_commit_date: 2021-05-19 11:58:32 -0400 (Wed, 19 May 2021)
nebbiolo1Linux (Ubuntu 20.04.2 LTS) / x86_64  OK    OK    OK  UNNEEDED, same version is already published
tokay2Windows Server 2012 R2 Standard / x64  OK    OK    OK    OK  UNNEEDED, same version is already published
machv2macOS 10.14.6 Mojave / x86_64  OK    OK    OK    OK  UNNEEDED, same version is already published

Summary

Package: copynumber
Version: 1.32.0
Command: /home/biocbuild/bbs-3.13-bioc/R/bin/R CMD build --keep-empty-dirs --no-resave-data copynumber
StartedAt: 2021-09-16 07:00:08 -0400 (Thu, 16 Sep 2021)
EndedAt: 2021-09-16 07:00:32 -0400 (Thu, 16 Sep 2021)
EllapsedTime: 24.4 seconds
RetCode: 0
Status:   OK  
PackageFile: copynumber_1.32.0.tar.gz
PackageFileSize: 1.463 MiB

Command output

##############################################################################
##############################################################################
###
### Running command:
###
###   /home/biocbuild/bbs-3.13-bioc/R/bin/R CMD build --keep-empty-dirs --no-resave-data copynumber
###
##############################################################################
##############################################################################


* checking for file ‘copynumber/DESCRIPTION’ ... OK
* preparing ‘copynumber’:
* checking DESCRIPTION meta-information ... OK
* installing the package to build vignettes
* creating vignettes ... OK
* checking for LF line-endings in source and make files and shell scripts
* checking for empty or unneeded directories
* re-saving image files
* building ‘copynumber_1.32.0.tar.gz’