Back to Multiple platform build/check report for BioC 3.13
AB[C]DEFGHIJKLMNOPQRSTUVWXYZ

This page was generated on 2021-09-20 15:05:38 -0400 (Mon, 20 Sep 2021).

BUILD BIN results for copynumber on machv2

To the developers/maintainers of the copynumber package:
- Please allow up to 24 hours (and sometimes 48 hours) for your latest push to git@git.bioconductor.org:packages/copynumber.git to
reflect on this report. See How and When does the builder pull? When will my changes propagate? here for more information.
- Make sure to use the following settings in order to reproduce any error or warning you see on this page.

raw results

Package 387/2041HostnameOS / ArchINSTALLBUILDCHECKBUILD BIN
copynumber 1.32.0  (landing page)
Gro Nilsen
Snapshot Date: 2021-09-19 04:50:10 -0400 (Sun, 19 Sep 2021)
git_url: https://git.bioconductor.org/packages/copynumber
git_branch: RELEASE_3_13
git_last_commit: 7a14096
git_last_commit_date: 2021-05-19 11:58:32 -0400 (Wed, 19 May 2021)
nebbiolo1Linux (Ubuntu 20.04.2 LTS) / x86_64  OK    OK    OK  UNNEEDED, same version is already published
tokay2Windows Server 2012 R2 Standard / x64  OK    OK    OK    OK  UNNEEDED, same version is already published
machv2macOS 10.14.6 Mojave / x86_64  OK    OK    OK    OK  UNNEEDED, same version is already published

Summary

Package: copynumber
Version: 1.32.0
Command: rm -rf copynumber.buildbin-libdir && mkdir copynumber.buildbin-libdir && /Users/biocbuild/BBS/utils/build-universal.sh copynumber_1.32.0.tar.gz /Library/Frameworks/R.framework/Versions/Current/Resources/bin/R copynumber.buildbin-libdir
StartedAt: 2021-09-20 02:01:19 -0400 (Mon, 20 Sep 2021)
EndedAt: 2021-09-20 02:02:19 -0400 (Mon, 20 Sep 2021)
EllapsedTime: 59.4 seconds
RetCode: 0
Status:   OK  
PackageFile: copynumber_1.32.0.tgz
PackageFileSize: 1.85 MiB

Command output

##############################################################################
##############################################################################
###
### Running command:
###
###   rm -rf copynumber.buildbin-libdir && mkdir copynumber.buildbin-libdir && /Users/biocbuild/BBS/utils/build-universal.sh copynumber_1.32.0.tar.gz /Library/Frameworks/R.framework/Versions/Current/Resources/bin/R copynumber.buildbin-libdir
###
##############################################################################
##############################################################################


>>>>>>> 
>>>>>>> INSTALLATION WITH 'R CMD INSTALL --preclean --no-multiarch --library=copynumber.buildbin-libdir copynumber_1.32.0.tar.gz'
>>>>>>> 

* installing *source* package ‘copynumber’ ...
** using staged installation
** R
** data
*** moving datasets to lazyload DB
** inst
** byte-compile and prepare package for lazy loading
** help
*** installing help indices
** building package indices
** installing vignettes
** testing if installed package can be loaded from temporary location
** testing if installed package can be loaded from final location
** testing if installed package keeps a record of temporary installation path
* DONE (copynumber)