Back to Multiple platform build/check report for BioC 3.13
AB[C]DEFGHIJKLMNOPQRSTUVWXYZ

This page was generated on 2021-09-13 15:06:53 -0400 (Mon, 13 Sep 2021).

BUILD results for contiBAIT on machv2

To the developers/maintainers of the contiBAIT package:
- Please allow up to 24 hours (and sometimes 48 hours) for your latest push to git@git.bioconductor.org:packages/contiBAIT.git to
reflect on this report. See How and When does the builder pull? When will my changes propagate? here for more information.
- Make sure to use the following settings in order to reproduce any error or warning you see on this page.

raw results

Package 383/2041HostnameOS / ArchINSTALLBUILDCHECKBUILD BIN
contiBAIT 1.20.0  (landing page)
Kieran O'Neill
Snapshot Date: 2021-09-12 04:50:10 -0400 (Sun, 12 Sep 2021)
git_url: https://git.bioconductor.org/packages/contiBAIT
git_branch: RELEASE_3_13
git_last_commit: 42094e1
git_last_commit_date: 2021-05-19 12:17:59 -0400 (Wed, 19 May 2021)
nebbiolo1Linux (Ubuntu 20.04.2 LTS) / x86_64  OK    OK    WARNINGS  UNNEEDED, same version is already published
tokay2Windows Server 2012 R2 Standard / x64  OK    OK    WARNINGS    OK  UNNEEDED, same version is already published
machv2macOS 10.14.6 Mojave / x86_64  OK    OK    WARNINGS    OK  UNNEEDED, same version is already published

Summary

Package: contiBAIT
Version: 1.20.0
Command: /Library/Frameworks/R.framework/Versions/Current/Resources/bin/R CMD build --keep-empty-dirs --no-resave-data contiBAIT
StartedAt: 2021-09-12 11:22:18 -0400 (Sun, 12 Sep 2021)
EndedAt: 2021-09-12 11:24:18 -0400 (Sun, 12 Sep 2021)
EllapsedTime: 120.0 seconds
RetCode: 0
Status:   OK  
PackageFile: contiBAIT_1.20.0.tar.gz
PackageFileSize: 3.792 MiB

Command output

##############################################################################
##############################################################################
###
### Running command:
###
###   /Library/Frameworks/R.framework/Versions/Current/Resources/bin/R CMD build --keep-empty-dirs --no-resave-data contiBAIT
###
##############################################################################
##############################################################################


* checking for file ‘contiBAIT/DESCRIPTION’ ... OK
* preparing ‘contiBAIT’:
* checking DESCRIPTION meta-information ... OK
* cleaning src
* installing the package to build vignettes
* creating vignettes ... OK
* cleaning src
* checking for LF line-endings in source and make files and shell scripts
* checking for empty or unneeded directories
* looking to see if a ‘data/datalist’ file should be added
* building ‘contiBAIT_1.20.0.tar.gz’