Back to Multiple platform build/check report for BioC 3.13
AB[C]DEFGHIJKLMNOPQRSTUVWXYZ

This page was generated on 2021-09-22 15:05:40 -0400 (Wed, 22 Sep 2021).

BUILD BIN results for contiBAIT on machv2

To the developers/maintainers of the contiBAIT package:
- Please allow up to 24 hours (and sometimes 48 hours) for your latest push to git@git.bioconductor.org:packages/contiBAIT.git to
reflect on this report. See How and When does the builder pull? When will my changes propagate? here for more information.
- Make sure to use the following settings in order to reproduce any error or warning you see on this page.

raw results

Package 383/2041HostnameOS / ArchINSTALLBUILDCHECKBUILD BIN
contiBAIT 1.20.0  (landing page)
Kieran O'Neill
Snapshot Date: 2021-09-21 04:50:12 -0400 (Tue, 21 Sep 2021)
git_url: https://git.bioconductor.org/packages/contiBAIT
git_branch: RELEASE_3_13
git_last_commit: 42094e1
git_last_commit_date: 2021-05-19 12:17:59 -0400 (Wed, 19 May 2021)
nebbiolo1Linux (Ubuntu 20.04.2 LTS) / x86_64  OK    OK    WARNINGS  UNNEEDED, same version is already published
tokay2Windows Server 2012 R2 Standard / x64  OK    OK    WARNINGS    OK  UNNEEDED, same version is already published
machv2macOS 10.14.6 Mojave / x86_64  OK    OK    WARNINGS    OK  UNNEEDED, same version is already published

Summary

Package: contiBAIT
Version: 1.20.0
Command: rm -rf contiBAIT.buildbin-libdir && mkdir contiBAIT.buildbin-libdir && /Users/biocbuild/BBS/utils/build-universal.sh contiBAIT_1.20.0.tar.gz /Library/Frameworks/R.framework/Versions/Current/Resources/bin/R contiBAIT.buildbin-libdir
StartedAt: 2021-09-22 02:05:56 -0400 (Wed, 22 Sep 2021)
EndedAt: 2021-09-22 02:08:04 -0400 (Wed, 22 Sep 2021)
EllapsedTime: 128.6 seconds
RetCode: 0
Status:   OK  
PackageFile: contiBAIT_1.20.0.tgz
PackageFileSize: 4.394 MiB

Command output

##############################################################################
##############################################################################
###
### Running command:
###
###   rm -rf contiBAIT.buildbin-libdir && mkdir contiBAIT.buildbin-libdir && /Users/biocbuild/BBS/utils/build-universal.sh contiBAIT_1.20.0.tar.gz /Library/Frameworks/R.framework/Versions/Current/Resources/bin/R contiBAIT.buildbin-libdir
###
##############################################################################
##############################################################################


>>>>>>> 
>>>>>>> INSTALLATION WITH 'R CMD INSTALL --preclean --no-multiarch --library=contiBAIT.buildbin-libdir contiBAIT_1.20.0.tar.gz'
>>>>>>> 

* installing *source* package ‘contiBAIT’ ...
** using staged installation
** libs
clang++ -mmacosx-version-min=10.13 -std=gnu++14 -I"/Library/Frameworks/R.framework/Resources/include" -DNDEBUG  -I'/Library/Frameworks/R.framework/Versions/4.1/Resources/library/Rcpp/include' -I'/Library/Frameworks/R.framework/Versions/4.1/Resources/library/BH/include' -I/usr/local/include   -fPIC  -Wall -g -O2  -c buildLinkageGroups.cpp -o buildLinkageGroups.o
clang++ -mmacosx-version-min=10.13 -std=gnu++14 -I"/Library/Frameworks/R.framework/Resources/include" -DNDEBUG  -I'/Library/Frameworks/R.framework/Versions/4.1/Resources/library/Rcpp/include' -I'/Library/Frameworks/R.framework/Versions/4.1/Resources/library/BH/include' -I/usr/local/include   -fPIC  -Wall -g -O2  -c computeSim.cpp -o computeSim.o
clang++ -mmacosx-version-min=10.13 -std=gnu++14 -I"/Library/Frameworks/R.framework/Resources/include" -DNDEBUG  -I'/Library/Frameworks/R.framework/Versions/4.1/Resources/library/Rcpp/include' -I'/Library/Frameworks/R.framework/Versions/4.1/Resources/library/BH/include' -I/usr/local/include   -fPIC  -Wall -g -O2  -c orderContigsGreedy.cpp -o orderContigsGreedy.o
clang++ -mmacosx-version-min=10.13 -std=gnu++14 -dynamiclib -Wl,-headerpad_max_install_names -undefined dynamic_lookup -single_module -multiply_defined suppress -L/Library/Frameworks/R.framework/Resources/lib -L/usr/local/lib -o contiBAIT.so buildLinkageGroups.o computeSim.o orderContigsGreedy.o -lm -F/Library/Frameworks/R.framework/.. -framework R -Wl,-framework -Wl,CoreFoundation
installing to /Users/biocbuild/bbs-3.13-bioc/meat/contiBAIT.buildbin-libdir/00LOCK-contiBAIT/00new/contiBAIT/libs
** R
** data
** inst
** byte-compile and prepare package for lazy loading
** help
*** installing help indices
** building package indices
** installing vignettes
** testing if installed package can be loaded from temporary location
** checking absolute paths in shared objects and dynamic libraries
** testing if installed package can be loaded from final location
** testing if installed package keeps a record of temporary installation path
* DONE (contiBAIT)


>>>>>>> 
>>>>>>> FIXING LINKS FOR contiBAIT.buildbin-libdir/contiBAIT/libs/contiBAIT.so
>>>>>>> 

install_name_tool -change "/usr/local/lib/libgcc_s.1.dylib" "/Library/Frameworks/R.framework/Versions/4.1/Resources/lib/libgcc_s.1.dylib" "contiBAIT.buildbin-libdir/contiBAIT/libs/contiBAIT.so"
install_name_tool -change "/usr/local/lib/libgfortran.5.dylib" "/Library/Frameworks/R.framework/Versions/4.1/Resources/lib/libgfortran.5.dylib" "contiBAIT.buildbin-libdir/contiBAIT/libs/contiBAIT.so"
install_name_tool -change "/usr/local/lib/libquadmath.0.dylib" "/Library/Frameworks/R.framework/Versions/4.1/Resources/lib/libquadmath.0.dylib" "contiBAIT.buildbin-libdir/contiBAIT/libs/contiBAIT.so"