Back to Multiple platform build/check report for BioC 3.13
AB[C]DEFGHIJKLMNOPQRSTUVWXYZ

This page was generated on 2021-09-17 15:06:01 -0400 (Fri, 17 Sep 2021).

BUILD BIN results for consensusSeekeR on tokay2

To the developers/maintainers of the consensusSeekeR package:
- Please allow up to 24 hours (and sometimes 48 hours) for your latest push to git@git.bioconductor.org:packages/consensusSeekeR.git to
reflect on this report. See How and When does the builder pull? When will my changes propagate? here for more information.
- Make sure to use the following settings in order to reproduce any error or warning you see on this page.

raw results

Package 381/2041HostnameOS / ArchINSTALLBUILDCHECKBUILD BIN
consensusSeekeR 1.20.0  (landing page)
Astrid Deschenes
Snapshot Date: 2021-09-16 04:50:11 -0400 (Thu, 16 Sep 2021)
git_url: https://git.bioconductor.org/packages/consensusSeekeR
git_branch: RELEASE_3_13
git_last_commit: e7f757a
git_last_commit_date: 2021-05-19 12:16:42 -0400 (Wed, 19 May 2021)
nebbiolo1Linux (Ubuntu 20.04.2 LTS) / x86_64  OK    OK    OK  UNNEEDED, same version is already published
tokay2Windows Server 2012 R2 Standard / x64  OK    OK    OK    OK  UNNEEDED, same version is already published
machv2macOS 10.14.6 Mojave / x86_64  OK    OK    OK    OK  UNNEEDED, same version is already published

Summary

Package: consensusSeekeR
Version: 1.20.0
Command: rm -rf consensusSeekeR.buildbin-libdir && mkdir consensusSeekeR.buildbin-libdir && C:\Users\biocbuild\bbs-3.13-bioc\R\bin\R.exe CMD INSTALL --merge-multiarch --build --library=consensusSeekeR.buildbin-libdir consensusSeekeR_1.20.0.tar.gz
StartedAt: 2021-09-17 08:51:00 -0400 (Fri, 17 Sep 2021)
EndedAt: 2021-09-17 08:52:25 -0400 (Fri, 17 Sep 2021)
EllapsedTime: 84.1 seconds
RetCode: 0
Status:   OK  
PackageFile: consensusSeekeR_1.20.0.zip
PackageFileSize: 675.3 KiB

Command output

##############################################################################
##############################################################################
###
### Running command:
###
###   rm -rf consensusSeekeR.buildbin-libdir && mkdir consensusSeekeR.buildbin-libdir && C:\Users\biocbuild\bbs-3.13-bioc\R\bin\R.exe CMD INSTALL --merge-multiarch --build --library=consensusSeekeR.buildbin-libdir consensusSeekeR_1.20.0.tar.gz
###
##############################################################################
##############################################################################



install for i386

* installing *source* package 'consensusSeekeR' ...
** using staged installation
** R
** data
** inst
** byte-compile and prepare package for lazy loading
** help
*** installing help indices
  converting help for package 'consensusSeekeR'
    finding HTML links ... done
    A549_CTCF_MYJ_NarrowPeaks_partial       html  
    A549_CTCF_MYJ_Peaks_partial             html  
    A549_CTCF_MYN_NarrowPeaks_partial       html  
    A549_CTCF_MYN_Peaks_partial             html  
    A549_FOSL2_01_NarrowPeaks_partial       html  
    A549_FOSL2_01_Peaks_partial             html  
    A549_FOXA1_01_NarrowPeaks_partial       html  
    A549_FOXA1_01_Peaks_partial             html  
    A549_NR3C1_CFQ_NarrowPeaks_partial      html  
    A549_NR3C1_CFQ_Peaks_partial            html  
    A549_NR3C1_CFR_NarrowPeaks_partial      html  
    A549_NR3C1_CFR_Peaks_partial            html  
    A549_NR3C1_CFS_NarrowPeaks_partial      html  
    A549_NR3C1_CFS_Peaks_partial            html  
    NOrMAL_nucleosome_positions             html  
    NOrMAL_nucleosome_ranges                html  
    NucPosSimulator_nucleosome_positions    html  
    NucPosSimulator_nucleosome_ranges       html  
    PING_nucleosome_positions               html  
    PING_nucleosome_ranges                  html  
    consensusSeekeR-package                 html  
    findConsensusPeakRegions                html  
    findConsensusPeakRegionsForOneChrom     html  
    findConsensusPeakRegionsValidation      html  
    isInteger                               html  
    readNarrowPeakFile                      html  
    refineRegion                            html  
** building package indices
** installing vignettes
** testing if installed package can be loaded from temporary location
** testing if installed package can be loaded from final location
** testing if installed package keeps a record of temporary installation path

install for x64

* installing *source* package 'consensusSeekeR' ...
** testing if installed package can be loaded
* MD5 sums
packaged installation of 'consensusSeekeR' as consensusSeekeR_1.20.0.zip
* DONE (consensusSeekeR)