Back to Multiple platform build/check report for BioC 3.13
AB[C]DEFGHIJKLMNOPQRSTUVWXYZ

This page was generated on 2021-09-24 15:06:06 -0400 (Fri, 24 Sep 2021).

BUILD BIN results for consensusDE on tokay2

To the developers/maintainers of the consensusDE package:
- Please allow up to 24 hours (and sometimes 48 hours) for your latest push to git@git.bioconductor.org:packages/consensusDE.git to
reflect on this report. See How and When does the builder pull? When will my changes propagate? here for more information.
- Make sure to use the following settings in order to reproduce any error or warning you see on this page.

raw results

Package 379/2041HostnameOS / ArchINSTALLBUILDCHECKBUILD BIN
consensusDE 1.10.0  (landing page)
Ashley J. Waardenberg
Snapshot Date: 2021-09-23 04:50:12 -0400 (Thu, 23 Sep 2021)
git_url: https://git.bioconductor.org/packages/consensusDE
git_branch: RELEASE_3_13
git_last_commit: 1b434d7
git_last_commit_date: 2021-05-19 12:39:09 -0400 (Wed, 19 May 2021)
nebbiolo1Linux (Ubuntu 20.04.2 LTS) / x86_64  OK    OK    OK  UNNEEDED, same version is already published
tokay2Windows Server 2012 R2 Standard / x64  OK    OK    OK    OK  UNNEEDED, same version is already published
machv2macOS 10.14.6 Mojave / x86_64  OK    OK    OK    OK  UNNEEDED, same version is already published

Summary

Package: consensusDE
Version: 1.10.0
Command: rm -rf consensusDE.buildbin-libdir && mkdir consensusDE.buildbin-libdir && C:\Users\biocbuild\bbs-3.13-bioc\R\bin\R.exe CMD INSTALL --merge-multiarch --build --library=consensusDE.buildbin-libdir consensusDE_1.10.0.tar.gz
StartedAt: 2021-09-24 07:51:46 -0400 (Fri, 24 Sep 2021)
EndedAt: 2021-09-24 07:53:10 -0400 (Fri, 24 Sep 2021)
EllapsedTime: 83.7 seconds
RetCode: 0
Status:   OK  
PackageFile: consensusDE_1.10.0.zip
PackageFileSize: 519 KiB

Command output

##############################################################################
##############################################################################
###
### Running command:
###
###   rm -rf consensusDE.buildbin-libdir && mkdir consensusDE.buildbin-libdir && C:\Users\biocbuild\bbs-3.13-bioc\R\bin\R.exe CMD INSTALL --merge-multiarch --build --library=consensusDE.buildbin-libdir consensusDE_1.10.0.tar.gz
###
##############################################################################
##############################################################################



install for i386

* installing *source* package 'consensusDE' ...
** using staged installation
** R
** inst
** byte-compile and prepare package for lazy loading
** help
*** installing help indices
  converting help for package 'consensusDE'
    finding HTML links ... done
    buildSummarized                         html  
    diag_plots                              html  
    multi_de_pairs                          html  
** building package indices
** installing vignettes
** testing if installed package can be loaded from temporary location
** testing if installed package can be loaded from final location
** testing if installed package keeps a record of temporary installation path

install for x64

* installing *source* package 'consensusDE' ...
** testing if installed package can be loaded
* MD5 sums
packaged installation of 'consensusDE' as consensusDE_1.10.0.zip
* DONE (consensusDE)