Index of /checkResults/release/bioc-LATEST/consensusDE/raw-results

[ICO]NameLast modifiedSizeDescription

[DIR]Parent Directory  -  
[   ]info.dcf18-Sep-2021 04:06 291  
[DIR]machv2/18-Sep-2021 04:06 -  
[DIR]nebbiolo1/18-Sep-2021 04:05 -  
[DIR]tokay2/18-Sep-2021 04:06 -