Back to Multiple platform build/check report for BioC 3.13
AB[C]DEFGHIJKLMNOPQRSTUVWXYZ

This page was generated on 2021-09-24 15:05:42 -0400 (Fri, 24 Sep 2021).

BUILD results for consensusDE on nebbiolo1

To the developers/maintainers of the consensusDE package:
- Please allow up to 24 hours (and sometimes 48 hours) for your latest push to git@git.bioconductor.org:packages/consensusDE.git to
reflect on this report. See How and When does the builder pull? When will my changes propagate? here for more information.
- Make sure to use the following settings in order to reproduce any error or warning you see on this page.

raw results

Package 379/2041HostnameOS / ArchINSTALLBUILDCHECKBUILD BIN
consensusDE 1.10.0  (landing page)
Ashley J. Waardenberg
Snapshot Date: 2021-09-23 04:50:12 -0400 (Thu, 23 Sep 2021)
git_url: https://git.bioconductor.org/packages/consensusDE
git_branch: RELEASE_3_13
git_last_commit: 1b434d7
git_last_commit_date: 2021-05-19 12:39:09 -0400 (Wed, 19 May 2021)
nebbiolo1Linux (Ubuntu 20.04.2 LTS) / x86_64  OK    OK    OK  UNNEEDED, same version is already published
tokay2Windows Server 2012 R2 Standard / x64  OK    OK    OK    OK  UNNEEDED, same version is already published
machv2macOS 10.14.6 Mojave / x86_64  OK    OK    OK    OK  UNNEEDED, same version is already published

Summary

Package: consensusDE
Version: 1.10.0
Command: /home/biocbuild/bbs-3.13-bioc/R/bin/R CMD build --keep-empty-dirs --no-resave-data consensusDE
StartedAt: 2021-09-23 06:59:16 -0400 (Thu, 23 Sep 2021)
EndedAt: 2021-09-23 07:00:44 -0400 (Thu, 23 Sep 2021)
EllapsedTime: 88.4 seconds
RetCode: 0
Status:   OK  
PackageFile: consensusDE_1.10.0.tar.gz
PackageFileSize: 771.4 KiB

Command output

##############################################################################
##############################################################################
###
### Running command:
###
###   /home/biocbuild/bbs-3.13-bioc/R/bin/R CMD build --keep-empty-dirs --no-resave-data consensusDE
###
##############################################################################
##############################################################################


* checking for file ‘consensusDE/DESCRIPTION’ ... OK
* preparing ‘consensusDE’:
* checking DESCRIPTION meta-information ... OK
* installing the package to build vignettes
* creating vignettes ... OK
* checking for LF line-endings in source and make files and shell scripts
* checking for empty or unneeded directories
Omitted ‘LazyData’ from DESCRIPTION
* building ‘consensusDE_1.10.0.tar.gz’