Back to Multiple platform build/check report for BioC 3.13
AB[C]DEFGHIJKLMNOPQRSTUVWXYZ

This page was generated on 2021-09-17 15:05:37 -0400 (Fri, 17 Sep 2021).

BUILD results for compEpiTools on nebbiolo1

To the developers/maintainers of the compEpiTools package:
- Please allow up to 24 hours (and sometimes 48 hours) for your latest push to git@git.bioconductor.org:packages/compEpiTools.git to
reflect on this report. See How and When does the builder pull? When will my changes propagate? here for more information.
- Make sure to use the following settings in order to reproduce any error or warning you see on this page.

raw results

Package 370/2041HostnameOS / ArchINSTALLBUILDCHECKBUILD BIN
compEpiTools 1.26.0  (landing page)
Kamal Kishore
Snapshot Date: 2021-09-16 04:50:11 -0400 (Thu, 16 Sep 2021)
git_url: https://git.bioconductor.org/packages/compEpiTools
git_branch: RELEASE_3_13
git_last_commit: cefdb04
git_last_commit_date: 2021-05-19 12:06:54 -0400 (Wed, 19 May 2021)
nebbiolo1Linux (Ubuntu 20.04.2 LTS) / x86_64  OK    OK    OK  UNNEEDED, same version is already published
tokay2Windows Server 2012 R2 Standard / x64  OK    OK    OK    OK  UNNEEDED, same version is already published
machv2macOS 10.14.6 Mojave / x86_64  OK    OK    OK    OK  UNNEEDED, same version is already published

Summary

Package: compEpiTools
Version: 1.26.0
Command: /home/biocbuild/bbs-3.13-bioc/R/bin/R CMD build --keep-empty-dirs --no-resave-data compEpiTools
StartedAt: 2021-09-16 06:59:16 -0400 (Thu, 16 Sep 2021)
EndedAt: 2021-09-16 07:00:38 -0400 (Thu, 16 Sep 2021)
EllapsedTime: 81.8 seconds
RetCode: 0
Status:   OK  
PackageFile: compEpiTools_1.26.0.tar.gz
PackageFileSize: 2.193 MiB

Command output

##############################################################################
##############################################################################
###
### Running command:
###
###   /home/biocbuild/bbs-3.13-bioc/R/bin/R CMD build --keep-empty-dirs --no-resave-data compEpiTools
###
##############################################################################
##############################################################################


* checking for file ‘compEpiTools/DESCRIPTION’ ... OK
* preparing ‘compEpiTools’:
* checking DESCRIPTION meta-information ... OK
* installing the package to build vignettes
* creating vignettes ... OK
* checking for LF line-endings in source and make files and shell scripts
* checking for empty or unneeded directories
* building ‘compEpiTools_1.26.0.tar.gz’