Back to Multiple platform build/check report for BioC 3.13
AB[C]DEFGHIJKLMNOPQRSTUVWXYZ

This page was generated on 2021-09-20 15:05:09 -0400 (Mon, 20 Sep 2021).

INSTALL results for coMET on tokay2

To the developers/maintainers of the coMET package:
- Please allow up to 24 hours (and sometimes 48 hours) for your latest push to git@git.bioconductor.org:packages/coMET.git to
reflect on this report. See How and When does the builder pull? When will my changes propagate? here for more information.
- Make sure to use the following settings in order to reproduce any error or warning you see on this page.

raw results

Package 366/2041HostnameOS / ArchINSTALLBUILDCHECKBUILD BIN
coMET 1.24.0  (landing page)
Tiphaine Martin
Snapshot Date: 2021-09-19 04:50:10 -0400 (Sun, 19 Sep 2021)
git_url: https://git.bioconductor.org/packages/coMET
git_branch: RELEASE_3_13
git_last_commit: fb8047d
git_last_commit_date: 2021-05-19 12:10:24 -0400 (Wed, 19 May 2021)
nebbiolo1Linux (Ubuntu 20.04.2 LTS) / x86_64  OK    OK    OK  UNNEEDED, same version is already published
tokay2Windows Server 2012 R2 Standard / x64  OK    OK    OK    OK  UNNEEDED, same version is already published
machv2macOS 10.14.6 Mojave / x86_64  OK    OK    OK    OK  UNNEEDED, same version is already published

Summary

Package: coMET
Version: 1.24.0
Command: C:\cygwin\bin\curl.exe -O http://155.52.207.165/BBS/3.13/bioc/src/contrib/coMET_1.24.0.tar.gz && rm -rf coMET.buildbin-libdir && mkdir coMET.buildbin-libdir && C:\Users\biocbuild\bbs-3.13-bioc\R\bin\R.exe CMD INSTALL --merge-multiarch --build --library=coMET.buildbin-libdir coMET_1.24.0.tar.gz && C:\Users\biocbuild\bbs-3.13-bioc\R\bin\R.exe CMD INSTALL coMET_1.24.0.zip && rm coMET_1.24.0.tar.gz coMET_1.24.0.zip
StartedAt: 2021-09-19 10:26:03 -0400 (Sun, 19 Sep 2021)
EndedAt: 2021-09-19 10:28:47 -0400 (Sun, 19 Sep 2021)
EllapsedTime: 164.0 seconds
RetCode: 0
Status:   OK  

Command output

##############################################################################
##############################################################################
###
### Running command:
###
###   C:\cygwin\bin\curl.exe -O http://155.52.207.165/BBS/3.13/bioc/src/contrib/coMET_1.24.0.tar.gz && rm -rf coMET.buildbin-libdir && mkdir coMET.buildbin-libdir && C:\Users\biocbuild\bbs-3.13-bioc\R\bin\R.exe CMD INSTALL --merge-multiarch --build --library=coMET.buildbin-libdir coMET_1.24.0.tar.gz && C:\Users\biocbuild\bbs-3.13-bioc\R\bin\R.exe CMD INSTALL coMET_1.24.0.zip && rm coMET_1.24.0.tar.gz coMET_1.24.0.zip
###
##############################################################################
##############################################################################


  % Total    % Received % Xferd  Average Speed   Time    Time     Time  Current
                                 Dload  Upload   Total   Spent    Left  Speed

  0     0    0     0    0     0      0      0 --:--:-- --:--:-- --:--:--     0
 17 13.0M   17 2322k    0     0  4438k      0  0:00:03 --:--:--  0:00:03 4441k
 88 13.0M   88 11.5M    0     0  7843k      0  0:00:01  0:00:01 --:--:-- 7845k
100 13.0M  100 13.0M    0     0  7891k      0  0:00:01  0:00:01 --:--:-- 7891k

install for i386

* installing *source* package 'coMET' ...
** using staged installation
** R
** data
** inst
** byte-compile and prepare package for lazy loading
** help
*** installing help indices
  converting help for package 'coMET'
    finding HTML links ... done
    COSMIC_UCSC                             html  
    ChIPTF_ENCODE                           html  
    ClinVarCnv_UCSC                         html  
    ClinVarMain_UCSC                        html  
    CoreillCNV_UCSC                         html  
    DNAse_UCSC                              html  
    DNaseI_FANTOM                           html  
    DNaseI_RoadMap                          html  
    GAD_UCSC                                html  
    GWAScatalog_UCSC                        html  
    GeneReviews_UCSC                        html  
    HiCdata2matrix                          html  
    HistoneAll_UCSC                         html  
    HistoneOne_UCSC                         html  
    ISCA_UCSC                               html  
    TFBS_FANTOM                             html  
    bindingMotifsBiomart_ENSEMBL            html  
    check.configVar                         html  
    check.configVar.cometlist               html  
    check.format.mydata                     html  
    chrUCSC2ENSEMBL                         html  
    chromHMM_RoadMap                        html  
    chromatinHMMAll_UCSC                    html  
    chromatinHMMOne_UCSC                    html  
    coMET-package                           html  
    comet                                   html  
REDIRECT:topic	 Previous alias or file overwritten by alias: C:/Users/biocbuild/bbs-3.13-bioc/meat/coMET.buildbin-libdir/00LOCK-coMET/00new/coMET/help/comet.html
    comet.list                              html  
    comet.web                               html  
    compute.cormatrix                       html  
    cpgIslands_UCSC                         html  
    cpgPvalue                               html  
    create.color.bar                        html  
    create.color.list                       html  
    create.color.list.large                 html  
    create.symbol.list                      html  
    create.symbol.list.large                html  
    create.tracks.user                      html  
    create.tracks.web                       html  
    createList.trackUser                    html  
    datasets                                html  
REDIRECT:topic	 Previous alias or file overwritten by alias: C:/Users/biocbuild/bbs-3.13-bioc/meat/coMET.buildbin-libdir/00LOCK-coMET/00new/coMET/help/otherRegulatoryRegionsTrackAll.html
REDIRECT:topic	 Previous alias or file overwritten by alias: C:/Users/biocbuild/bbs-3.13-bioc/meat/coMET.buildbin-libdir/00LOCK-coMET/00new/coMET/help/otherRegulatoryRegionsTrackSingle.html
REDIRECT:topic	 Previous alias or file overwritten by alias: C:/Users/biocbuild/bbs-3.13-bioc/meat/coMET.buildbin-libdir/00LOCK-coMET/00new/coMET/help/regulatoryEvidenceBiomartTrackAll.html
REDIRECT:topic	 Previous alias or file overwritten by alias: C:/Users/biocbuild/bbs-3.13-bioc/meat/coMET.buildbin-libdir/00LOCK-coMET/00new/coMET/help/regulatoryEvidenceBiomartTrackMultiple.html
REDIRECT:topic	 Previous alias or file overwritten by alias: C:/Users/biocbuild/bbs-3.13-bioc/meat/coMET.buildbin-libdir/00LOCK-coMET/00new/coMET/help/regulatoryEvidenceBiomartTrackSingle.html
REDIRECT:topic	 Previous alias or file overwritten by alias: C:/Users/biocbuild/bbs-3.13-bioc/meat/coMET.buildbin-libdir/00LOCK-coMET/00new/coMET/help/regulatoryFeaturesBiomartTrackAll.html
REDIRECT:topic	 Previous alias or file overwritten by alias: C:/Users/biocbuild/bbs-3.13-bioc/meat/coMET.buildbin-libdir/00LOCK-coMET/00new/coMET/help/regulatoryFeaturesBiomartTrackMultiple.html
REDIRECT:topic	 Previous alias or file overwritten by alias: C:/Users/biocbuild/bbs-3.13-bioc/meat/coMET.buildbin-libdir/00LOCK-coMET/00new/coMET/help/regulatoryFeaturesBiomartTrackSingle.html
REDIRECT:topic	 Previous alias or file overwritten by alias: C:/Users/biocbuild/bbs-3.13-bioc/meat/coMET.buildbin-libdir/00LOCK-coMET/00new/coMET/help/regulatorySegmentsBiomartTrackAll.html
REDIRECT:topic	 Previous alias or file overwritten by alias: C:/Users/biocbuild/bbs-3.13-bioc/meat/coMET.buildbin-libdir/00LOCK-coMET/00new/coMET/help/regulatorySegmentsBiomartTrackMultiple.html
REDIRECT:topic	 Previous alias or file overwritten by alias: C:/Users/biocbuild/bbs-3.13-bioc/meat/coMET.buildbin-libdir/00LOCK-coMET/00new/coMET/help/regulatorySegmentsBiomartTrackSingle.html
    dgfootprints_RoadMap                    html  
    draw.legend                             html  
    draw.name.genes.web                     html  
    draw.name.tracks.web                    html  
    draw.plot.annotation                    html  
    draw.plot.axis.data                     html  
    draw.plot.comet                         html  
    draw.plot.comet.nopval                  html  
    draw.plot.comet.web                     html  
    draw.plot.cormatrix.plot                html  
    draw.plot.grid.mydata                   html  
    draw.plot.grid.mydata.large             html  
    draw.plot.grid.mydata.names             html  
    draw.plot.grid.setup                    html  
    draw.plot.linesconnection               html  
    draw.plot.mydata.ggbio                  html  
    eQTL                                    html  
    eQTL_GTEx                               html  
    fix.values                              html  
    fix.values.generic                      html  
    fix.values.large                        html  
    gcContent_UCSC                          html  
    genesName_ENSEMBL                       html  
    genes_ENSEMBL                           html  
    imprintedGenes_GTEx                     html  
    interestGenes_ENSEMBL                   html  
    interestTranscript_ENSEMBL              html  
    knownGenes_UCSC                         html  
    metQTL                                  html  
    miRNATargetRegionsBiomart_ENSEMBL       html  
    otherRegulatoryRegionsBiomart_ENSEMBL   html  
    printPlot.comet                         html  
    printPlot.comet.nopval                  html  
    printPlot.comet.web                     html  
    psiQTL_GTEx                             html  
    read.config                             html  
    read.file.cormatrix                     html  
    read.file.mydata                        html  
    read.file.mydata.large                  html  
    refGenes_UCSC                           html  
    regulationBiomart_ENSEMBL               html  
    regulatoryEvidenceBiomart_ENSEMBL       html  
    regulatoryFeaturesBiomart_ENSEMBL       html  
    regulatorySegmentsBiomart_ENSEMBL       html  
    repeatMasker_UCSC                       html  
    retrieve.data                           html  
    segmentalDups_UCSC                      html  
    set.image.parameters                    html  
    snpBiomart_ENSEMBL                      html  
    snpLocations_UCSC                       html  
    structureBiomart_ENSEMBL                html  
    transcript_ENSEMBL                      html  
    xenorefGenes_UCSC                       html  
** building package indices
** installing vignettes
** testing if installed package can be loaded from temporary location
** testing if installed package can be loaded from final location
** testing if installed package keeps a record of temporary installation path

install for x64

* installing *source* package 'coMET' ...
** testing if installed package can be loaded
* MD5 sums
packaged installation of 'coMET' as coMET_1.24.0.zip
* DONE (coMET)
* installing to library 'C:/Users/biocbuild/bbs-3.13-bioc/R/library'
package 'coMET' successfully unpacked and MD5 sums checked