Back to Multiple platform build/check report for BioC 3.14
AB[C]DEFGHIJKLMNOPQRSTUVWXYZ

This page was generated on 2021-11-26 15:05:13 -0500 (Fri, 26 Nov 2021).

BUILD results for cn.mops on tokay2

To the developers/maintainers of the cn.mops package:
- Please allow up to 24 hours (and sometimes 48 hours) for your latest push to git@git.bioconductor.org:packages/cn.mops.git to
reflect on this report. See How and When does the builder pull? When will my changes propagate? here for more information.
- Make sure to use the following settings in order to reproduce any error or warning you see on this page.

raw results

Package 348/2083HostnameOS / ArchINSTALLBUILDCHECKBUILD BIN
cn.mops 1.40.0  (landing page)
Gundula Povysil
Snapshot Date: 2021-11-25 04:15:05 -0500 (Thu, 25 Nov 2021)
git_url: https://git.bioconductor.org/packages/cn.mops
git_branch: RELEASE_3_14
git_last_commit: 498dbf7
git_last_commit_date: 2021-10-26 12:01:20 -0500 (Tue, 26 Oct 2021)
nebbiolo2Linux (Ubuntu 20.04.3 LTS) / x86_64  OK    OK    OK  UNNEEDED, same version is already published
tokay2Windows Server 2012 R2 Standard / x64  OK    OK    OK    OK  UNNEEDED, same version is already published
machv2macOS 10.14.6 Mojave / x86_64  OK    OK    OK    OK  UNNEEDED, same version is already published

Summary

Package: cn.mops
Version: 1.40.0
Command: chmod a+r cn.mops -R && C:\Users\biocbuild\bbs-3.14-bioc\R\bin\R.exe CMD build --keep-empty-dirs --no-resave-data cn.mops
StartedAt: 2021-11-25 11:44:35 -0500 (Thu, 25 Nov 2021)
EndedAt: 2021-11-25 11:45:48 -0500 (Thu, 25 Nov 2021)
EllapsedTime: 73.6 seconds
RetCode: 0
Status:   OK  
PackageFile: cn.mops_1.40.0.tar.gz
PackageFileSize: 950.2 KiB

Command output

##############################################################################
##############################################################################
###
### Running command:
###
###   chmod a+r cn.mops -R && C:\Users\biocbuild\bbs-3.14-bioc\R\bin\R.exe CMD build --keep-empty-dirs --no-resave-data cn.mops
###
##############################################################################
##############################################################################


* checking for file 'cn.mops/DESCRIPTION' ... OK
* preparing 'cn.mops':
* checking DESCRIPTION meta-information ... OK
* cleaning src
* installing the package to build vignettes
* creating vignettes ... OK
* cleaning src
* checking for LF line-endings in source and make files and shell scripts
* checking for empty or unneeded directories
* looking to see if a 'data/datalist' file should be added
* building 'cn.mops_1.40.0.tar.gz'