Back to Multiple platform build/check report for BioC 3.13
AB[C]DEFGHIJKLMNOPQRSTUVWXYZ

This page was generated on 2021-09-20 15:04:46 -0400 (Mon, 20 Sep 2021).

INSTALL results for clusterExperiment on nebbiolo1

To the developers/maintainers of the clusterExperiment package:
- Please allow up to 24 hours (and sometimes 48 hours) for your latest push to git@git.bioconductor.org:packages/clusterExperiment.git to
reflect on this report. See How and When does the builder pull? When will my changes propagate? here for more information.
- Make sure to use the following settings in order to reproduce any error or warning you see on this page.

raw results

Package 330/2041HostnameOS / ArchINSTALLBUILDCHECKBUILD BIN
clusterExperiment 2.12.0  (landing page)
Elizabeth Purdom
Snapshot Date: 2021-09-19 04:50:10 -0400 (Sun, 19 Sep 2021)
git_url: https://git.bioconductor.org/packages/clusterExperiment
git_branch: RELEASE_3_13
git_last_commit: 3dc45a6
git_last_commit_date: 2021-05-19 12:21:34 -0400 (Wed, 19 May 2021)
nebbiolo1Linux (Ubuntu 20.04.2 LTS) / x86_64  OK    OK    WARNINGS  UNNEEDED, same version is already published
tokay2Windows Server 2012 R2 Standard / x64  OK    OK    TIMEOUT    OK  
machv2macOS 10.14.6 Mojave / x86_64  OK    OK    TIMEOUT    OK  

Summary

Package: clusterExperiment
Version: 2.12.0
Command: /home/biocbuild/bbs-3.13-bioc/R/bin/R CMD INSTALL clusterExperiment
StartedAt: 2021-09-19 06:34:26 -0400 (Sun, 19 Sep 2021)
EndedAt: 2021-09-19 06:35:37 -0400 (Sun, 19 Sep 2021)
EllapsedTime: 70.9 seconds
RetCode: 0
Status:   OK  

Command output

##############################################################################
##############################################################################
###
### Running command:
###
###   /home/biocbuild/bbs-3.13-bioc/R/bin/R CMD INSTALL clusterExperiment
###
##############################################################################
##############################################################################


* installing to library ‘/home/biocbuild/bbs-3.13-bioc/R/library’
* installing *source* package ‘clusterExperiment’ ...
** using staged installation
** libs
g++ -std=gnu++11 -I"/home/biocbuild/bbs-3.13-bioc/R/include" -DNDEBUG  -I'/home/biocbuild/bbs-3.13-bioc/R/library/Rcpp/include' -I/usr/local/include   -fpic  -g -O2  -Wall -c RcppExports.cpp -o RcppExports.o
g++ -std=gnu++11 -I"/home/biocbuild/bbs-3.13-bioc/R/include" -DNDEBUG  -I'/home/biocbuild/bbs-3.13-bioc/R/library/Rcpp/include' -I/usr/local/include   -fpic  -g -O2  -Wall -c search_pairs.cpp -o search_pairs.o
g++ -std=gnu++11 -I"/home/biocbuild/bbs-3.13-bioc/R/include" -DNDEBUG  -I'/home/biocbuild/bbs-3.13-bioc/R/library/Rcpp/include' -I/usr/local/include   -fpic  -g -O2  -Wall -c subsampleLoop.cpp -o subsampleLoop.o
g++ -std=gnu++11 -shared -L/home/biocbuild/bbs-3.13-bioc/R/lib -L/usr/local/lib -o clusterExperiment.so RcppExports.o search_pairs.o subsampleLoop.o -L/home/biocbuild/bbs-3.13-bioc/R/lib -lRlapack -L/home/biocbuild/bbs-3.13-bioc/R/lib -lRblas -lgfortran -lm -lquadmath -L/home/biocbuild/bbs-3.13-bioc/R/lib -lR
installing to /home/biocbuild/bbs-3.13-bioc/R/library/00LOCK-clusterExperiment/00new/clusterExperiment/libs
** R
** data
** byte-compile and prepare package for lazy loading
Found more than one class "Annotated" in cache; using the first, from namespace 'S4Vectors'
Also defined by ‘RNeXML’
Found more than one class "Annotated" in cache; using the first, from namespace 'S4Vectors'
Also defined by ‘RNeXML’
Found more than one class "Annotated" in cache; using the first, from namespace 'S4Vectors'
Also defined by ‘RNeXML’
Found more than one class "Annotated" in cache; using the first, from namespace 'S4Vectors'
Also defined by ‘RNeXML’
Found more than one class "Annotated" in cache; using the first, from namespace 'S4Vectors'
Also defined by ‘RNeXML’
** help
*** installing help indices
** building package indices
** installing vignettes
** testing if installed package can be loaded from temporary location
** checking absolute paths in shared objects and dynamic libraries
** testing if installed package can be loaded from final location
** testing if installed package keeps a record of temporary installation path
* DONE (clusterExperiment)