Back to Multiple platform build/check report for BioC 3.13
AB[C]DEFGHIJKLMNOPQRSTUVWXYZ

This page was generated on 2021-07-30 15:06:19 -0400 (Fri, 30 Jul 2021).

BUILD results for clipper on machv2

To the developers/maintainers of the clipper package:
- Please allow up to 24 hours (and sometimes 48 hours) for your latest push to git@git.bioconductor.org:packages/clipper.git to
reflect on this report. See How and When does the builder pull? When will my changes propagate? here for more information.
- Make sure to use the following settings in order to reproduce any error or warning you see on this page.

raw results

Package 321/2041HostnameOS / ArchINSTALLBUILDCHECKBUILD BIN
clipper 1.32.0  (landing page)
Paolo Martini
Snapshot Date: 2021-07-29 04:50:02 -0400 (Thu, 29 Jul 2021)
URL: https://git.bioconductor.org/packages/clipper
Branch: RELEASE_3_13
Last Commit: 2faaf4e
Last Changed Date: 2021-05-19 11:57:18 -0400 (Wed, 19 May 2021)
nebbiolo1Linux (Ubuntu 20.04.2 LTS) / x86_64  OK    OK    OK  UNNEEDED, same version is already published
tokay2Windows Server 2012 R2 Standard / x64  OK    OK    OK    OK  UNNEEDED, same version is already published
machv2macOS 10.14.6 Mojave / x86_64  OK    OK    OK    OK  UNNEEDED, same version is already published

Summary

Package: clipper
Version: 1.32.0
Command: /Library/Frameworks/R.framework/Versions/Current/Resources/bin/R CMD build --keep-empty-dirs --no-resave-data clipper
StartedAt: 2021-07-29 10:58:10 -0400 (Thu, 29 Jul 2021)
EndedAt: 2021-07-29 10:59:55 -0400 (Thu, 29 Jul 2021)
EllapsedTime: 104.9 seconds
RetCode: 0
Status:   OK  
PackageFile: clipper_1.32.0.tar.gz
PackageFileSize: 970.1 KiB

Command output

##############################################################################
##############################################################################
###
### Running command:
###
###   /Library/Frameworks/R.framework/Versions/Current/Resources/bin/R CMD build --keep-empty-dirs --no-resave-data clipper
###
##############################################################################
##############################################################################


* checking for file ‘clipper/DESCRIPTION’ ... OK
* preparing ‘clipper’:
* checking DESCRIPTION meta-information ... OK
* installing the package to build vignettes
* creating vignettes ... OK
* checking for LF line-endings in source and make files and shell scripts
* checking for empty or unneeded directories
* building ‘clipper_1.32.0.tar.gz’