Index of /checkResults/release/bioc-LATEST/cleanUpdTSeq/raw-results/tokay2

[ICO]NameLast modifiedSizeDescription

[DIR]Parent Directory  -  
[TXT]buildbin-out.txt04-Dec-2021 03:05 2.0K 
[   ]buildbin-summary.dcf04-Dec-2021 03:05 569  
[TXT]buildsrc-out.txt04-Dec-2021 03:05 870  
[   ]buildsrc-summary.dcf04-Dec-2021 03:05 478  
[TXT]checksrc-out.txt04-Dec-2021 03:05 4.5K 
[   ]checksrc-summary.dcf04-Dec-2021 03:05 482  
[TXT]install-out.txt04-Dec-2021 03:05 2.8K 
[   ]install-summary.dcf04-Dec-2021 03:05 686