Index of /checkResults/release/bioc-LATEST/cleanUpdTSeq/raw-results/nebbiolo2

[ICO]NameLast modifiedSizeDescription

[DIR]Parent Directory  -  
[TXT]buildsrc-out.txt27-Jan-2022 03:05 826  
[   ]buildsrc-summary.dcf27-Jan-2022 03:05 432  
[TXT]checksrc-out.txt27-Jan-2022 03:05 3.8K 
[   ]checksrc-summary.dcf27-Jan-2022 03:05 444  
[TXT]install-out.txt27-Jan-2022 03:05 1.0K 
[   ]install-summary.dcf27-Jan-2022 03:05 269