Index of /checkResults/release/bioc-LATEST/cleanUpdTSeq/raw-results/nebbiolo1

[ICO]NameLast modifiedSizeDescription

[DIR]Parent Directory  -  
[TXT]buildsrc-out.txt16-Oct-2021 04:05 826  
[   ]buildsrc-summary.dcf16-Oct-2021 04:05 432  
[TXT]checksrc-out.txt16-Oct-2021 04:05 3.8K 
[   ]checksrc-summary.dcf16-Oct-2021 04:05 444  
[TXT]install-out.txt16-Oct-2021 04:05 1.0K 
[   ]install-summary.dcf16-Oct-2021 04:05 269