Back to Multiple platform build/check report for BioC 3.13
AB[C]DEFGHIJKLMNOPQRSTUVWXYZ

This page was generated on 2021-09-20 15:05:37 -0400 (Mon, 20 Sep 2021).

BUILD BIN results for cleanUpdTSeq on machv2

To the developers/maintainers of the cleanUpdTSeq package:
- Please allow up to 24 hours (and sometimes 48 hours) for your latest push to git@git.bioconductor.org:packages/cleanUpdTSeq.git to
reflect on this report. See How and When does the builder pull? When will my changes propagate? here for more information.
- Make sure to use the following settings in order to reproduce any error or warning you see on this page.

raw results

Package 318/2041HostnameOS / ArchINSTALLBUILDCHECKBUILD BIN
cleanUpdTSeq 1.30.0  (landing page)
Jianhong Ou ; Lihua Julie Zhu
Snapshot Date: 2021-09-19 04:50:10 -0400 (Sun, 19 Sep 2021)
git_url: https://git.bioconductor.org/packages/cleanUpdTSeq
git_branch: RELEASE_3_13
git_last_commit: 45e4e8b
git_last_commit_date: 2021-05-19 11:59:31 -0400 (Wed, 19 May 2021)
nebbiolo1Linux (Ubuntu 20.04.2 LTS) / x86_64  OK    OK    OK  UNNEEDED, same version is already published
tokay2Windows Server 2012 R2 Standard / x64  OK    OK    OK    OK  UNNEEDED, same version is already published
machv2macOS 10.14.6 Mojave / x86_64  OK    OK    OK    OK  UNNEEDED, same version is already published

Summary

Package: cleanUpdTSeq
Version: 1.30.0
Command: rm -rf cleanUpdTSeq.buildbin-libdir && mkdir cleanUpdTSeq.buildbin-libdir && /Users/biocbuild/BBS/utils/build-universal.sh cleanUpdTSeq_1.30.0.tar.gz /Library/Frameworks/R.framework/Versions/Current/Resources/bin/R cleanUpdTSeq.buildbin-libdir
StartedAt: 2021-09-20 01:55:08 -0400 (Mon, 20 Sep 2021)
EndedAt: 2021-09-20 01:57:12 -0400 (Mon, 20 Sep 2021)
EllapsedTime: 124.2 seconds
RetCode: 0
Status:   OK  
PackageFile: cleanUpdTSeq_1.30.0.tgz
PackageFileSize: 5.669 MiB

Command output

##############################################################################
##############################################################################
###
### Running command:
###
###   rm -rf cleanUpdTSeq.buildbin-libdir && mkdir cleanUpdTSeq.buildbin-libdir && /Users/biocbuild/BBS/utils/build-universal.sh cleanUpdTSeq_1.30.0.tar.gz /Library/Frameworks/R.framework/Versions/Current/Resources/bin/R cleanUpdTSeq.buildbin-libdir
###
##############################################################################
##############################################################################


>>>>>>> 
>>>>>>> INSTALLATION WITH 'R CMD INSTALL --preclean --no-multiarch --library=cleanUpdTSeq.buildbin-libdir cleanUpdTSeq_1.30.0.tar.gz'
>>>>>>> 

* installing *source* package ‘cleanUpdTSeq’ ...
** using staged installation
** R
** data
*** moving datasets to lazyload DB
** inst
** byte-compile and prepare package for lazy loading
** help
*** installing help indices
** building package indices
** installing vignettes
** testing if installed package can be loaded from temporary location
** testing if installed package can be loaded from final location
** testing if installed package keeps a record of temporary installation path
* DONE (cleanUpdTSeq)