Back to Multiple platform build/check report for BioC 3.13
AB[C]DEFGHIJKLMNOPQRSTUVWXYZ

This page was generated on 2021-09-20 15:05:08 -0400 (Mon, 20 Sep 2021).

BUILD results for circRNAprofiler on tokay2

To the developers/maintainers of the circRNAprofiler package:
- Please allow up to 24 hours (and sometimes 48 hours) for your latest push to git@git.bioconductor.org:packages/circRNAprofiler.git to
reflect on this report. See How and When does the builder pull? When will my changes propagate? here for more information.
- Make sure to use the following settings in order to reproduce any error or warning you see on this page.

raw results

Package 314/2041HostnameOS / ArchINSTALLBUILDCHECKBUILD BIN
circRNAprofiler 1.6.0  (landing page)
Simona Aufiero
Snapshot Date: 2021-09-19 04:50:10 -0400 (Sun, 19 Sep 2021)
git_url: https://git.bioconductor.org/packages/circRNAprofiler
git_branch: RELEASE_3_13
git_last_commit: 405f392
git_last_commit_date: 2021-05-19 12:44:52 -0400 (Wed, 19 May 2021)
nebbiolo1Linux (Ubuntu 20.04.2 LTS) / x86_64  OK    OK    OK  UNNEEDED, same version is already published
tokay2Windows Server 2012 R2 Standard / x64  OK    OK    OK    OK  UNNEEDED, same version is already published
machv2macOS 10.14.6 Mojave / x86_64  OK    OK    OK    OK  UNNEEDED, same version is already published

Summary

Package: circRNAprofiler
Version: 1.6.0
Command: chmod a+r circRNAprofiler -R && C:\Users\biocbuild\bbs-3.13-bioc\R\bin\R.exe CMD build --keep-empty-dirs --no-resave-data circRNAprofiler
StartedAt: 2021-09-19 12:12:35 -0400 (Sun, 19 Sep 2021)
EndedAt: 2021-09-19 12:14:10 -0400 (Sun, 19 Sep 2021)
EllapsedTime: 95.8 seconds
RetCode: 0
Status:   OK  
PackageFile: circRNAprofiler_1.6.0.tar.gz
PackageFileSize: 3.49 MiB

Command output

##############################################################################
##############################################################################
###
### Running command:
###
###   chmod a+r circRNAprofiler -R && C:\Users\biocbuild\bbs-3.13-bioc\R\bin\R.exe CMD build --keep-empty-dirs --no-resave-data circRNAprofiler
###
##############################################################################
##############################################################################


* checking for file 'circRNAprofiler/DESCRIPTION' ... OK
* preparing 'circRNAprofiler':
* checking DESCRIPTION meta-information ... OK
* installing the package to build vignettes
* creating vignettes ... OK
* checking for LF line-endings in source and make files and shell scripts
* checking for empty or unneeded directories
* looking to see if a 'data/datalist' file should be added
* building 'circRNAprofiler_1.6.0.tar.gz'