Back to Multiple platform build/check report for BioC 3.13
AB[C]DEFGHIJKLMNOPQRSTUVWXYZ

This page was generated on 2021-09-15 15:05:00 -0400 (Wed, 15 Sep 2021).

BUILD results for circRNAprofiler on nebbiolo1

To the developers/maintainers of the circRNAprofiler package:
- Please allow up to 24 hours (and sometimes 48 hours) for your latest push to git@git.bioconductor.org:packages/circRNAprofiler.git to
reflect on this report. See How and When does the builder pull? When will my changes propagate? here for more information.
- Make sure to use the following settings in order to reproduce any error or warning you see on this page.

raw results

Package 314/2041HostnameOS / ArchINSTALLBUILDCHECKBUILD BIN
circRNAprofiler 1.6.0  (landing page)
Simona Aufiero
Snapshot Date: 2021-09-14 04:50:06 -0400 (Tue, 14 Sep 2021)
git_url: https://git.bioconductor.org/packages/circRNAprofiler
git_branch: RELEASE_3_13
git_last_commit: 405f392
git_last_commit_date: 2021-05-19 12:44:52 -0400 (Wed, 19 May 2021)
nebbiolo1Linux (Ubuntu 20.04.2 LTS) / x86_64  OK    OK    OK  UNNEEDED, same version is already published
tokay2Windows Server 2012 R2 Standard / x64  OK    OK    OK    OK  UNNEEDED, same version is already published
machv2macOS 10.14.6 Mojave / x86_64  OK    OK    OK    OK  UNNEEDED, same version is already published

Summary

Package: circRNAprofiler
Version: 1.6.0
Command: /home/biocbuild/bbs-3.13-bioc/R/bin/R CMD build --keep-empty-dirs --no-resave-data circRNAprofiler
StartedAt: 2021-09-14 06:53:07 -0400 (Tue, 14 Sep 2021)
EndedAt: 2021-09-14 06:54:25 -0400 (Tue, 14 Sep 2021)
EllapsedTime: 78.2 seconds
RetCode: 0
Status:   OK  
PackageFile: circRNAprofiler_1.6.0.tar.gz
PackageFileSize: 3.596 MiB

Command output

##############################################################################
##############################################################################
###
### Running command:
###
###   /home/biocbuild/bbs-3.13-bioc/R/bin/R CMD build --keep-empty-dirs --no-resave-data circRNAprofiler
###
##############################################################################
##############################################################################


* checking for file ‘circRNAprofiler/DESCRIPTION’ ... OK
* preparing ‘circRNAprofiler’:
* checking DESCRIPTION meta-information ... OK
* installing the package to build vignettes
* creating vignettes ... OK
* checking for LF line-endings in source and make files and shell scripts
* checking for empty or unneeded directories
* looking to see if a ‘data/datalist’ file should be added
* building ‘circRNAprofiler_1.6.0.tar.gz’