Back to Multiple platform build/check report for BioC 3.13
AB[C]DEFGHIJKLMNOPQRSTUVWXYZ

This page was generated on 2021-09-20 15:05:08 -0400 (Mon, 20 Sep 2021).

BUILD results for chromswitch on tokay2

To the developers/maintainers of the chromswitch package:
- Please allow up to 24 hours (and sometimes 48 hours) for your latest push to git@git.bioconductor.org:packages/chromswitch.git to
reflect on this report. See How and When does the builder pull? When will my changes propagate? here for more information.
- Make sure to use the following settings in order to reproduce any error or warning you see on this page.

raw results

Package 308/2041HostnameOS / ArchINSTALLBUILDCHECKBUILD BIN
chromswitch 1.14.0  (landing page)
Selin Jessa
Snapshot Date: 2021-09-19 04:50:10 -0400 (Sun, 19 Sep 2021)
git_url: https://git.bioconductor.org/packages/chromswitch
git_branch: RELEASE_3_13
git_last_commit: e364a04
git_last_commit_date: 2021-05-19 12:31:47 -0400 (Wed, 19 May 2021)
nebbiolo1Linux (Ubuntu 20.04.2 LTS) / x86_64  OK    OK    OK  UNNEEDED, same version is already published
tokay2Windows Server 2012 R2 Standard / x64  OK    OK    OK    OK  UNNEEDED, same version is already published
machv2macOS 10.14.6 Mojave / x86_64  OK    OK    OK    OK  UNNEEDED, same version is already published

Summary

Package: chromswitch
Version: 1.14.0
Command: chmod a+r chromswitch -R && C:\Users\biocbuild\bbs-3.13-bioc\R\bin\R.exe CMD build --keep-empty-dirs --no-resave-data chromswitch
StartedAt: 2021-09-19 12:11:16 -0400 (Sun, 19 Sep 2021)
EndedAt: 2021-09-19 12:12:55 -0400 (Sun, 19 Sep 2021)
EllapsedTime: 98.6 seconds
RetCode: 0
Status:   OK  
PackageFile: chromswitch_1.14.0.tar.gz
PackageFileSize: 2.279 MiB

Command output

##############################################################################
##############################################################################
###
### Running command:
###
###   chmod a+r chromswitch -R && C:\Users\biocbuild\bbs-3.13-bioc\R\bin\R.exe CMD build --keep-empty-dirs --no-resave-data chromswitch
###
##############################################################################
##############################################################################


* checking for file 'chromswitch/DESCRIPTION' ... OK
* preparing 'chromswitch':
* checking DESCRIPTION meta-information ... OK
* installing the package to build vignettes
* creating vignettes ... OK
* checking for LF line-endings in source and make files and shell scripts
* checking for empty or unneeded directories
* building 'chromswitch_1.14.0.tar.gz'