Back to Multiple platform build/check report for BioC 3.13
AB[C]DEFGHIJKLMNOPQRSTUVWXYZ

This page was generated on 2021-09-17 15:06:00 -0400 (Fri, 17 Sep 2021).

CHECK results for chromVAR on tokay2

To the developers/maintainers of the chromVAR package:
- Please allow up to 24 hours (and sometimes 48 hours) for your latest push to git@git.bioconductor.org:packages/chromVAR.git to
reflect on this report. See How and When does the builder pull? When will my changes propagate? here for more information.
- Make sure to use the following settings in order to reproduce any error or warning you see on this page.

raw results

Package 309/2041HostnameOS / ArchINSTALLBUILDCHECKBUILD BIN
chromVAR 1.14.0  (landing page)
Alicia Schep
Snapshot Date: 2021-09-16 04:50:11 -0400 (Thu, 16 Sep 2021)
git_url: https://git.bioconductor.org/packages/chromVAR
git_branch: RELEASE_3_13
git_last_commit: 2dc5547
git_last_commit_date: 2021-05-19 12:30:52 -0400 (Wed, 19 May 2021)
nebbiolo1Linux (Ubuntu 20.04.2 LTS) / x86_64  OK    OK    OK  UNNEEDED, same version is already published
tokay2Windows Server 2012 R2 Standard / x64  OK    OK    OK    OK  UNNEEDED, same version is already published
machv2macOS 10.14.6 Mojave / x86_64  OK    OK    OK    OK  UNNEEDED, same version is already published

Summary

Package: chromVAR
Version: 1.14.0
Command: C:\Users\biocbuild\bbs-3.13-bioc\R\bin\R.exe CMD check --force-multiarch --install=check:chromVAR.install-out.txt --library=C:\Users\biocbuild\bbs-3.13-bioc\R\library --no-vignettes --timings chromVAR_1.14.0.tar.gz
StartedAt: 2021-09-16 21:04:00 -0400 (Thu, 16 Sep 2021)
EndedAt: 2021-09-16 21:16:01 -0400 (Thu, 16 Sep 2021)
EllapsedTime: 720.9 seconds
RetCode: 0
Status:   OK  
CheckDir: chromVAR.Rcheck
Warnings: 0

Command output

##############################################################################
##############################################################################
###
### Running command:
###
###   C:\Users\biocbuild\bbs-3.13-bioc\R\bin\R.exe CMD check --force-multiarch --install=check:chromVAR.install-out.txt --library=C:\Users\biocbuild\bbs-3.13-bioc\R\library --no-vignettes --timings chromVAR_1.14.0.tar.gz
###
##############################################################################
##############################################################################


* using log directory 'C:/Users/biocbuild/bbs-3.13-bioc/meat/chromVAR.Rcheck'
* using R version 4.1.1 (2021-08-10)
* using platform: x86_64-w64-mingw32 (64-bit)
* using session charset: ISO8859-1
* using option '--no-vignettes'
* checking for file 'chromVAR/DESCRIPTION' ... OK
* checking extension type ... Package
* this is package 'chromVAR' version '1.14.0'
* checking package namespace information ... OK
* checking package dependencies ... OK
* checking if this is a source package ... OK
* checking if there is a namespace ... OK
* checking for hidden files and directories ... OK
* checking for portable file names ... OK
* checking whether package 'chromVAR' can be installed ... OK
* checking installed package size ... OK
* checking package directory ... OK
* checking 'build' directory ... OK
* checking DESCRIPTION meta-information ... OK
* checking top-level files ... OK
* checking for left-over files ... OK
* checking index information ... OK
* checking package subdirectories ... OK
* checking R files for non-ASCII characters ... OK
* checking R files for syntax errors ... OK
* loading checks for arch 'i386'
** checking whether the package can be loaded ... OK
** checking whether the package can be loaded with stated dependencies ... OK
** checking whether the package can be unloaded cleanly ... OK
** checking whether the namespace can be loaded with stated dependencies ... OK
** checking whether the namespace can be unloaded cleanly ... OK
* loading checks for arch 'x64'
** checking whether the package can be loaded ... OK
** checking whether the package can be loaded with stated dependencies ... OK
** checking whether the package can be unloaded cleanly ... OK
** checking whether the namespace can be loaded with stated dependencies ... OK
** checking whether the namespace can be unloaded cleanly ... OK
* checking dependencies in R code ... OK
* checking S3 generic/method consistency ... OK
* checking replacement functions ... OK
* checking foreign function calls ... OK
* checking R code for possible problems ... OK
* checking Rd files ... OK
* checking Rd metadata ... OK
* checking Rd cross-references ... OK
* checking for missing documentation entries ... OK
* checking for code/documentation mismatches ... OK
* checking Rd \usage sections ... OK
* checking Rd contents ... OK
* checking for unstated dependencies in examples ... OK
* checking contents of 'data' directory ... OK
* checking data for non-ASCII characters ... OK
* checking LazyData ... OK
* checking data for ASCII and uncompressed saves ... OK
* checking line endings in C/C++/Fortran sources/headers ... OK
* checking line endings in Makefiles ... OK
* checking compilation flags in Makevars ... OK
* checking for GNU extensions in Makefiles ... OK
* checking for portable use of $(BLAS_LIBS) and $(LAPACK_LIBS) ... OK
* checking use of PKG_*FLAGS in Makefiles ... OK
* checking compiled code ... NOTE
Note: information on .o files for i386 is not available
Note: information on .o files for x64 is not available
File 'C:/Users/biocbuild/bbs-3.13-bioc/R/library/chromVAR/libs/i386/chromVAR.dll':
  Found 'abort', possibly from 'abort' (C), 'runtime' (Fortran)
  Found 'exit', possibly from 'exit' (C), 'stop' (Fortran)
  Found 'printf', possibly from 'printf' (C)
File 'C:/Users/biocbuild/bbs-3.13-bioc/R/library/chromVAR/libs/x64/chromVAR.dll':
  Found 'abort', possibly from 'abort' (C), 'runtime' (Fortran)
  Found 'exit', possibly from 'exit' (C), 'stop' (Fortran)
  Found 'printf', possibly from 'printf' (C)

Compiled code should not call entry points which might terminate R nor
write to stdout/stderr instead of to the console, nor use Fortran I/O
nor system RNGs. The detected symbols are linked into the code but
might come from libraries and not actually be called.

See 'Writing portable packages' in the 'Writing R Extensions' manual.
* checking files in 'vignettes' ... OK
* checking examples ...
** running examples for arch 'i386' ... OK
Examples with CPU (user + system) or elapsed time > 5s
                         user system elapsed
deviationsCovariability 27.50   2.19   35.43
plotVariability         25.72   0.00   25.71
computeVariability      18.75   0.01   18.76
getJasparMotifs          6.78   1.01    7.79
getCounts                5.46   0.90    6.35
pwmDistance              5.00   0.24    5.24
** running examples for arch 'x64' ... OK
Examples with CPU (user + system) or elapsed time > 5s
                         user system elapsed
deviationsCovariability 25.78   1.31   27.09
plotVariability         24.29   0.04   24.33
computeVariability      22.64   0.03   22.68
getCounts                5.67   0.88    6.51
getJasparMotifs          5.97   0.18    6.16
pwmDistance              5.12   0.08    5.21
* checking for unstated dependencies in 'tests' ... OK
* checking tests ...
** running tests for arch 'i386' ...
  Running 'testthat.R'
 OK
** running tests for arch 'x64' ...
  Running 'testthat.R'
 OK
* checking for unstated dependencies in vignettes ... OK
* checking package vignettes in 'inst/doc' ... OK
* checking running R code from vignettes ... SKIPPED
* checking re-building of vignette outputs ... SKIPPED
* checking PDF version of manual ... OK
* DONE

Status: 1 NOTE
See
  'C:/Users/biocbuild/bbs-3.13-bioc/meat/chromVAR.Rcheck/00check.log'
for details.



Installation output

chromVAR.Rcheck/00install.out

##############################################################################
##############################################################################
###
### Running command:
###
###   C:\cygwin\bin\curl.exe -O http://155.52.207.165/BBS/3.13/bioc/src/contrib/chromVAR_1.14.0.tar.gz && rm -rf chromVAR.buildbin-libdir && mkdir chromVAR.buildbin-libdir && C:\Users\biocbuild\bbs-3.13-bioc\R\bin\R.exe CMD INSTALL --merge-multiarch --build --library=chromVAR.buildbin-libdir chromVAR_1.14.0.tar.gz && C:\Users\biocbuild\bbs-3.13-bioc\R\bin\R.exe CMD INSTALL chromVAR_1.14.0.zip && rm chromVAR_1.14.0.tar.gz chromVAR_1.14.0.zip
###
##############################################################################
##############################################################################


  % Total    % Received % Xferd  Average Speed   Time    Time     Time  Current
                                 Dload  Upload   Total   Spent    Left  Speed

  0     0    0     0    0     0      0      0 --:--:-- --:--:-- --:--:--     0
 94  531k   94  503k    0     0  1328k      0 --:--:-- --:--:-- --:--:-- 1328k
100  531k  100  531k    0     0  1394k      0 --:--:-- --:--:-- --:--:-- 1394k

install for i386

* installing *source* package 'chromVAR' ...
** using staged installation
** libs
"C:/rtools40/mingw32/bin/"g++  -std=gnu++11 -I"C:/Users/BIOCBU~1/BBS-3~1.13-/R/include" -DNDEBUG  -I'C:/Users/biocbuild/bbs-3.13-bioc/R/library/Rcpp/include' -I'C:/Users/biocbuild/bbs-3.13-bioc/R/library/RcppArmadillo/include'   -I"c:/extsoft/include"     -O2 -Wall  -mfpmath=sse -msse2 -mstackrealign  -c RcppExports.cpp -o RcppExports.o
"C:/rtools40/mingw32/bin/"g++  -std=gnu++11 -I"C:/Users/BIOCBU~1/BBS-3~1.13-/R/include" -DNDEBUG  -I'C:/Users/biocbuild/bbs-3.13-bioc/R/library/Rcpp/include' -I'C:/Users/biocbuild/bbs-3.13-bioc/R/library/RcppArmadillo/include'   -I"c:/extsoft/include"     -O2 -Wall  -mfpmath=sse -msse2 -mstackrealign  -c pwm_similarity.cpp -o pwm_similarity.o
"C:/rtools40/mingw32/bin/"g++  -std=gnu++11 -I"C:/Users/BIOCBU~1/BBS-3~1.13-/R/include" -DNDEBUG  -I'C:/Users/biocbuild/bbs-3.13-bioc/R/library/Rcpp/include' -I'C:/Users/biocbuild/bbs-3.13-bioc/R/library/RcppArmadillo/include'   -I"c:/extsoft/include"     -O2 -Wall  -mfpmath=sse -msse2 -mstackrealign  -c utils.cpp -o utils.o
utils.cpp: In function 'Rcpp::NumericVector row_sds(arma::mat&, bool)':
utils.cpp:12:21: warning: comparison of integer expressions of different signedness: 'int' and 'const uword' {aka 'const unsigned int'} [-Wsign-compare]
     for( int j=0; j < X.n_rows; j++ ) {
                   ~~^~~~~~~~~~
C:/rtools40/mingw32/bin/g++ -shared -s -static-libgcc -o chromVAR.dll tmp.def RcppExports.o pwm_similarity.o utils.o -LC:/Users/BIOCBU~1/BBS-3~1.13-/R/bin/i386 -lRlapack -LC:/Users/BIOCBU~1/BBS-3~1.13-/R/bin/i386 -lRblas -lgfortran -lm -lquadmath -Lc:/extsoft/lib/i386 -Lc:/extsoft/lib -LC:/Users/BIOCBU~1/BBS-3~1.13-/R/bin/i386 -lR
installing to C:/Users/biocbuild/bbs-3.13-bioc/meat/chromVAR.buildbin-libdir/00LOCK-chromVAR/00new/chromVAR/libs/i386
** R
** data
*** moving datasets to lazyload DB
** inst
** byte-compile and prepare package for lazy loading
** help
*** installing help indices
  converting help for package 'chromVAR'
    finding HTML links ... done
    addGCBias                               html  
    annotationMatches                       html  
    assembleKmers                           html  
    cbind-chromVARDeviations-method         html  
    chromVAR                                html  
    chromVARDeviations-class                html  
    chromVAR_theme                          html  
    computeDeviations                       html  
    computeExpectations                     html  
    computeVariability                      html  
    counts                                  html  
    deviationScores                         html  
    deviations                              html  
    deviationsCovariability                 html  
    deviationsTsne                          html  
    differentialDeviations                  html  
    differentialVariability                 html  
    example_counts                          html  
    filterPeaks                             html  
    filterSamples                           html  
    filterSamplesPlot                       html  
    getAnnotationCorrelation                html  
    getAnnotationSynergy                    html  
    getAnnotations                          html  
    getBackgroundPeaks                      html  
    getCisGroups                            html  
    getCounts                               html  
    getFragmentsPerPeak                     html  
    getFragmentsPerSample                   html  
    getJasparMotifs                         html  
    getPeaks                                html  
    getPermutedData                         html  
    getSampleCorrelation                    html  
    getSampleDepths                         html  
    getSampleDistance                       html  
    getTotalFragments                       html  
    makeBiasBins                            html  
    makePermutedSets                        html  
    matchKmers                              html  
    mini_counts                             html  
    mini_dev                                html  
    mini_ix                                 html  
    plotDeviationsTsne                      html  
    plotKmerMismatch                        html  
    plotVariability                         html  
    pwmDistance                             html  
    rbind-chromVARDeviations-method         html  
    readNarrowpeaks                         html  
** building package indices
** installing vignettes
** testing if installed package can be loaded from temporary location
** testing if installed package can be loaded from final location
** testing if installed package keeps a record of temporary installation path

install for x64

* installing *source* package 'chromVAR' ...
** libs
"C:/rtools40/mingw64/bin/"g++  -std=gnu++11 -I"C:/Users/BIOCBU~1/BBS-3~1.13-/R/include" -DNDEBUG  -I'C:/Users/biocbuild/bbs-3.13-bioc/R/library/Rcpp/include' -I'C:/Users/biocbuild/bbs-3.13-bioc/R/library/RcppArmadillo/include'   -I"C:/extsoft/include"     -O2 -Wall  -mfpmath=sse -msse2 -mstackrealign  -c RcppExports.cpp -o RcppExports.o
"C:/rtools40/mingw64/bin/"g++  -std=gnu++11 -I"C:/Users/BIOCBU~1/BBS-3~1.13-/R/include" -DNDEBUG  -I'C:/Users/biocbuild/bbs-3.13-bioc/R/library/Rcpp/include' -I'C:/Users/biocbuild/bbs-3.13-bioc/R/library/RcppArmadillo/include'   -I"C:/extsoft/include"     -O2 -Wall  -mfpmath=sse -msse2 -mstackrealign  -c pwm_similarity.cpp -o pwm_similarity.o
"C:/rtools40/mingw64/bin/"g++  -std=gnu++11 -I"C:/Users/BIOCBU~1/BBS-3~1.13-/R/include" -DNDEBUG  -I'C:/Users/biocbuild/bbs-3.13-bioc/R/library/Rcpp/include' -I'C:/Users/biocbuild/bbs-3.13-bioc/R/library/RcppArmadillo/include'   -I"C:/extsoft/include"     -O2 -Wall  -mfpmath=sse -msse2 -mstackrealign  -c utils.cpp -o utils.o
utils.cpp: In function 'Rcpp::NumericVector row_sds(arma::mat&, bool)':
utils.cpp:12:21: warning: comparison of integer expressions of different signedness: 'int' and 'const uword' {aka 'const unsigned int'} [-Wsign-compare]
     for( int j=0; j < X.n_rows; j++ ) {
                   ~~^~~~~~~~~~
C:/rtools40/mingw64/bin/g++ -shared -s -static-libgcc -o chromVAR.dll tmp.def RcppExports.o pwm_similarity.o utils.o -LC:/Users/BIOCBU~1/BBS-3~1.13-/R/bin/x64 -lRlapack -LC:/Users/BIOCBU~1/BBS-3~1.13-/R/bin/x64 -lRblas -lgfortran -lm -lquadmath -LC:/extsoft/lib/x64 -LC:/extsoft/lib -LC:/Users/BIOCBU~1/BBS-3~1.13-/R/bin/x64 -lR
installing to C:/Users/biocbuild/bbs-3.13-bioc/meat/chromVAR.buildbin-libdir/chromVAR/libs/x64
** testing if installed package can be loaded
* MD5 sums
packaged installation of 'chromVAR' as chromVAR_1.14.0.zip
* DONE (chromVAR)
* installing to library 'C:/Users/biocbuild/bbs-3.13-bioc/R/library'
package 'chromVAR' successfully unpacked and MD5 sums checked

Tests output

chromVAR.Rcheck/tests_i386/testthat.Rout


R version 4.1.1 (2021-08-10) -- "Kick Things"
Copyright (C) 2021 The R Foundation for Statistical Computing
Platform: i386-w64-mingw32/i386 (32-bit)

R is free software and comes with ABSOLUTELY NO WARRANTY.
You are welcome to redistribute it under certain conditions.
Type 'license()' or 'licence()' for distribution details.

R is a collaborative project with many contributors.
Type 'contributors()' for more information and
'citation()' on how to cite R or R packages in publications.

Type 'demo()' for some demos, 'help()' for on-line help, or
'help.start()' for an HTML browser interface to help.
Type 'q()' to quit R.

> library(testthat)
> library(chromVAR)

> BiocParallel::register(BiocParallel::SerialParam())
> test_check("chromVAR")
[ FAIL 0 | WARN 0 | SKIP 0 | PASS 65 ]
> 
> proc.time()
   user  system elapsed 
  23.79    3.64   27.29 

chromVAR.Rcheck/tests_x64/testthat.Rout


R version 4.1.1 (2021-08-10) -- "Kick Things"
Copyright (C) 2021 The R Foundation for Statistical Computing
Platform: x86_64-w64-mingw32/x64 (64-bit)

R is free software and comes with ABSOLUTELY NO WARRANTY.
You are welcome to redistribute it under certain conditions.
Type 'license()' or 'licence()' for distribution details.

R is a collaborative project with many contributors.
Type 'contributors()' for more information and
'citation()' on how to cite R or R packages in publications.

Type 'demo()' for some demos, 'help()' for on-line help, or
'help.start()' for an HTML browser interface to help.
Type 'q()' to quit R.

> library(testthat)
> library(chromVAR)

> BiocParallel::register(BiocParallel::SerialParam())
> test_check("chromVAR")
[ FAIL 0 | WARN 0 | SKIP 0 | PASS 65 ]
> 
> proc.time()
   user  system elapsed 
  24.62    1.57   26.17 

Example timings

chromVAR.Rcheck/examples_i386/chromVAR-Ex.timings

nameusersystemelapsed
addGCBias0.770.070.84
annotationMatches0.010.000.01
chromVAR_theme0.010.000.02
computeDeviations4.100.024.39
computeExpectations0.050.000.05
computeVariability18.75 0.0118.76
counts0.010.000.02
deviationScores0.020.000.02
deviations000
deviationsCovariability27.50 2.1935.43
deviationsTsne0.090.020.11
differentialDeviations0.020.000.02
differentialVariability0.030.000.03
example_counts000
filterPeaks0.390.040.44
filterSamples0.080.020.09
filterSamplesPlot0.160.000.16
getAnnotations0.40.00.4
getBackgroundPeaks1.580.091.67
getCisGroups1.270.041.30
getCounts5.460.906.35
getFragmentsPerPeak0.020.020.03
getFragmentsPerSample0.020.000.01
getJasparMotifs6.781.017.79
getPeaks0.210.020.22
getPermutedData3.640.223.86
getSampleCorrelation0.020.000.01
getSampleDepths0.120.000.13
getSampleDistance0.030.000.03
getTotalFragments0.040.000.03
makeBiasBins0.060.000.06
makePermutedSets2.450.082.55
matchKmers1.280.171.45
mini_counts0.020.000.02
mini_dev000
mini_ix000
plotVariability25.72 0.0025.71
pwmDistance5.000.245.24
rbind-chromVARDeviations-method0.090.000.09

chromVAR.Rcheck/examples_x64/chromVAR-Ex.timings

nameusersystemelapsed
addGCBias1.670.031.70
annotationMatches0.020.000.02
chromVAR_theme0.010.000.02
computeDeviations4.110.054.25
computeExpectations0.050.000.04
computeVariability22.64 0.0322.68
counts0.010.000.01
deviationScores000
deviations0.020.000.02
deviationsCovariability25.78 1.3127.09
deviationsTsne0.080.000.07
differentialDeviations0.020.000.02
differentialVariability0.030.000.03
example_counts000
filterPeaks0.290.000.29
filterSamples0.080.000.08
filterSamplesPlot0.140.000.14
getAnnotations0.380.050.42
getBackgroundPeaks1.390.111.50
getCisGroups0.410.010.43
getCounts5.670.886.51
getFragmentsPerPeak0.010.000.02
getFragmentsPerSample0.020.000.01
getJasparMotifs5.970.186.16
getPeaks0.230.000.23
getPermutedData3.440.213.64
getSampleCorrelation0.030.000.04
getSampleDepths0.060.040.10
getSampleDistance0.030.000.04
getTotalFragments000
makeBiasBins0.070.000.06
makePermutedSets1.140.111.27
matchKmers1.410.051.45
mini_counts000
mini_dev000
mini_ix000
plotVariability24.29 0.0424.33
pwmDistance5.120.085.21
rbind-chromVARDeviations-method0.090.000.09