Back to Multiple platform build/check report for BioC 3.13
AB[C]DEFGHIJKLMNOPQRSTUVWXYZ

This page was generated on 2021-09-20 15:05:08 -0400 (Mon, 20 Sep 2021).

BUILD results for chromVAR on tokay2

To the developers/maintainers of the chromVAR package:
- Please allow up to 24 hours (and sometimes 48 hours) for your latest push to git@git.bioconductor.org:packages/chromVAR.git to
reflect on this report. See How and When does the builder pull? When will my changes propagate? here for more information.
- Make sure to use the following settings in order to reproduce any error or warning you see on this page.

raw results

Package 309/2041HostnameOS / ArchINSTALLBUILDCHECKBUILD BIN
chromVAR 1.14.0  (landing page)
Alicia Schep
Snapshot Date: 2021-09-19 04:50:10 -0400 (Sun, 19 Sep 2021)
git_url: https://git.bioconductor.org/packages/chromVAR
git_branch: RELEASE_3_13
git_last_commit: 2dc5547
git_last_commit_date: 2021-05-19 12:30:52 -0400 (Wed, 19 May 2021)
nebbiolo1Linux (Ubuntu 20.04.2 LTS) / x86_64  OK    OK    OK  UNNEEDED, same version is already published
tokay2Windows Server 2012 R2 Standard / x64  OK    OK    OK    OK  UNNEEDED, same version is already published
machv2macOS 10.14.6 Mojave / x86_64  OK    OK    OK    OK  UNNEEDED, same version is already published

Summary

Package: chromVAR
Version: 1.14.0
Command: chmod a+r chromVAR -R && C:\Users\biocbuild\bbs-3.13-bioc\R\bin\R.exe CMD build --keep-empty-dirs --no-resave-data chromVAR
StartedAt: 2021-09-19 12:11:26 -0400 (Sun, 19 Sep 2021)
EndedAt: 2021-09-19 12:15:38 -0400 (Sun, 19 Sep 2021)
EllapsedTime: 251.9 seconds
RetCode: 0
Status:   OK  
PackageFile: chromVAR_1.14.0.tar.gz
PackageFileSize: 559.1 KiB

Command output

##############################################################################
##############################################################################
###
### Running command:
###
###   chmod a+r chromVAR -R && C:\Users\biocbuild\bbs-3.13-bioc\R\bin\R.exe CMD build --keep-empty-dirs --no-resave-data chromVAR
###
##############################################################################
##############################################################################


* checking for file 'chromVAR/DESCRIPTION' ... OK
* preparing 'chromVAR':
* checking DESCRIPTION meta-information ... OK
* cleaning src
* installing the package to build vignettes
* creating vignettes ... OK
* cleaning src
* checking for LF line-endings in source and make files and shell scripts
* checking for empty or unneeded directories
* building 'chromVAR_1.14.0.tar.gz'