Back to Multiple platform build/check report for BioC 3.13
AB[C]DEFGHIJKLMNOPQRSTUVWXYZ

This page was generated on 2021-10-13 15:05:47 -0400 (Wed, 13 Oct 2021).

BUILD BIN results for chromVAR on machv2

To the developers/maintainers of the chromVAR package:
- Please allow up to 24 hours (and sometimes 48 hours) for your latest push to git@git.bioconductor.org:packages/chromVAR.git to
reflect on this report. See How and When does the builder pull? When will my changes propagate? here for more information.
- Make sure to use the following settings in order to reproduce any error or warning you see on this page.

raw results

Package 309/2041HostnameOS / ArchINSTALLBUILDCHECKBUILD BIN
chromVAR 1.14.0  (landing page)
Alicia Schep
Snapshot Date: 2021-10-12 04:50:13 -0400 (Tue, 12 Oct 2021)
git_url: https://git.bioconductor.org/packages/chromVAR
git_branch: RELEASE_3_13
git_last_commit: 2dc5547
git_last_commit_date: 2021-05-19 12:30:52 -0400 (Wed, 19 May 2021)
nebbiolo1Linux (Ubuntu 20.04.2 LTS) / x86_64  OK    OK    OK  UNNEEDED, same version is already published
tokay2Windows Server 2012 R2 Standard / x64  OK    OK    OK    OK  UNNEEDED, same version is already published
machv2macOS 10.14.6 Mojave / x86_64  OK    OK    OK    OK  UNNEEDED, same version is already published

Summary

Package: chromVAR
Version: 1.14.0
Command: rm -rf chromVAR.buildbin-libdir && mkdir chromVAR.buildbin-libdir && /Users/biocbuild/BBS/utils/build-universal.sh chromVAR_1.14.0.tar.gz /Library/Frameworks/R.framework/Versions/Current/Resources/bin/R chromVAR.buildbin-libdir
StartedAt: 2021-10-13 01:43:53 -0400 (Wed, 13 Oct 2021)
EndedAt: 2021-10-13 01:45:57 -0400 (Wed, 13 Oct 2021)
EllapsedTime: 123.8 seconds
RetCode: 0
Status:   OK  
PackageFile: chromVAR_1.14.0.tgz
PackageFileSize: 1.79 MiB

Command output

##############################################################################
##############################################################################
###
### Running command:
###
###   rm -rf chromVAR.buildbin-libdir && mkdir chromVAR.buildbin-libdir && /Users/biocbuild/BBS/utils/build-universal.sh chromVAR_1.14.0.tar.gz /Library/Frameworks/R.framework/Versions/Current/Resources/bin/R chromVAR.buildbin-libdir
###
##############################################################################
##############################################################################


>>>>>>> 
>>>>>>> INSTALLATION WITH 'R CMD INSTALL --preclean --no-multiarch --library=chromVAR.buildbin-libdir chromVAR_1.14.0.tar.gz'
>>>>>>> 

* installing *source* package ‘chromVAR’ ...
** using staged installation
** libs
clang++ -mmacosx-version-min=10.13 -std=gnu++11 -I"/Library/Frameworks/R.framework/Resources/include" -DNDEBUG  -I'/Library/Frameworks/R.framework/Versions/4.1/Resources/library/Rcpp/include' -I'/Library/Frameworks/R.framework/Versions/4.1/Resources/library/RcppArmadillo/include' -I/usr/local/include   -fPIC  -Wall -g -O2  -c RcppExports.cpp -o RcppExports.o
clang++ -mmacosx-version-min=10.13 -std=gnu++11 -I"/Library/Frameworks/R.framework/Resources/include" -DNDEBUG  -I'/Library/Frameworks/R.framework/Versions/4.1/Resources/library/Rcpp/include' -I'/Library/Frameworks/R.framework/Versions/4.1/Resources/library/RcppArmadillo/include' -I/usr/local/include   -fPIC  -Wall -g -O2  -c pwm_similarity.cpp -o pwm_similarity.o
clang++ -mmacosx-version-min=10.13 -std=gnu++11 -I"/Library/Frameworks/R.framework/Resources/include" -DNDEBUG  -I'/Library/Frameworks/R.framework/Versions/4.1/Resources/library/Rcpp/include' -I'/Library/Frameworks/R.framework/Versions/4.1/Resources/library/RcppArmadillo/include' -I/usr/local/include   -fPIC  -Wall -g -O2  -c utils.cpp -o utils.o
clang++ -mmacosx-version-min=10.13 -std=gnu++11 -dynamiclib -Wl,-headerpad_max_install_names -undefined dynamic_lookup -single_module -multiply_defined suppress -L/Library/Frameworks/R.framework/Resources/lib -L/usr/local/lib -o chromVAR.so RcppExports.o pwm_similarity.o utils.o -L/Library/Frameworks/R.framework/Resources/lib -lRlapack -L/Library/Frameworks/R.framework/Resources/lib -lRblas -L/usr/local/gfortran/lib/gcc/x86_64-apple-darwin18/8.2.0 -L/usr/local/gfortran/lib -lgfortran -lquadmath -lm -F/Library/Frameworks/R.framework/.. -framework R -Wl,-framework -Wl,CoreFoundation
installing to /Users/biocbuild/bbs-3.13-bioc/meat/chromVAR.buildbin-libdir/00LOCK-chromVAR/00new/chromVAR/libs
** R
** data
*** moving datasets to lazyload DB
** inst
** byte-compile and prepare package for lazy loading
** help
*** installing help indices
** building package indices
** installing vignettes
** testing if installed package can be loaded from temporary location
** checking absolute paths in shared objects and dynamic libraries
** testing if installed package can be loaded from final location
** testing if installed package keeps a record of temporary installation path
* DONE (chromVAR)


>>>>>>> 
>>>>>>> FIXING LINKS FOR chromVAR.buildbin-libdir/chromVAR/libs/chromVAR.so
>>>>>>> 

install_name_tool -change "/usr/local/lib/libgcc_s.1.dylib" "/Library/Frameworks/R.framework/Versions/4.1/Resources/lib/libgcc_s.1.dylib" "chromVAR.buildbin-libdir/chromVAR/libs/chromVAR.so"
install_name_tool -change "/usr/local/lib/libgfortran.5.dylib" "/Library/Frameworks/R.framework/Versions/4.1/Resources/lib/libgfortran.5.dylib" "chromVAR.buildbin-libdir/chromVAR/libs/chromVAR.so"
install_name_tool -change "/usr/local/lib/libquadmath.0.dylib" "/Library/Frameworks/R.framework/Versions/4.1/Resources/lib/libquadmath.0.dylib" "chromVAR.buildbin-libdir/chromVAR/libs/chromVAR.so"
install_name_tool -change "/usr/local/gfortran/lib/libgfortran.5.dylib" "/Library/Frameworks/R.framework/Versions/4.1/Resources/lib/libgfortran.5.dylib" "chromVAR.buildbin-libdir/chromVAR/libs/chromVAR.so"
install_name_tool -change "/usr/local/gfortran/lib/libquadmath.0.dylib" "/Library/Frameworks/R.framework/Versions/4.1/Resources/lib/libquadmath.0.dylib" "chromVAR.buildbin-libdir/chromVAR/libs/chromVAR.so"