Back to Multiple platform build/check report for BioC 3.13
AB[C]DEFGHIJKLMNOPQRSTUVWXYZ

This page was generated on 2021-09-22 15:05:10 -0400 (Wed, 22 Sep 2021).

INSTALL results for chipenrich on tokay2

To the developers/maintainers of the chipenrich package:
- Please allow up to 24 hours (and sometimes 48 hours) for your latest push to git@git.bioconductor.org:packages/chipenrich.git to
reflect on this report. See How and When does the builder pull? When will my changes propagate? here for more information.
- Make sure to use the following settings in order to reproduce any error or warning you see on this page.

raw results

Package 292/2041HostnameOS / ArchINSTALLBUILDCHECKBUILD BIN
chipenrich 2.16.0  (landing page)
Raymond G. Cavalcante
Snapshot Date: 2021-09-21 04:50:12 -0400 (Tue, 21 Sep 2021)
git_url: https://git.bioconductor.org/packages/chipenrich
git_branch: RELEASE_3_13
git_last_commit: 4653bc8
git_last_commit_date: 2021-05-19 12:00:32 -0400 (Wed, 19 May 2021)
nebbiolo1Linux (Ubuntu 20.04.2 LTS) / x86_64  OK    OK    WARNINGS  UNNEEDED, same version is already published
tokay2Windows Server 2012 R2 Standard / x64  OK    OK    WARNINGS    OK  UNNEEDED, same version is already published
machv2macOS 10.14.6 Mojave / x86_64  OK    OK    WARNINGS    OK  UNNEEDED, same version is already published

Summary

Package: chipenrich
Version: 2.16.0
Command: C:\cygwin\bin\curl.exe -O http://155.52.207.165/BBS/3.13/bioc/src/contrib/chipenrich_2.16.0.tar.gz && rm -rf chipenrich.buildbin-libdir && mkdir chipenrich.buildbin-libdir && C:\Users\biocbuild\bbs-3.13-bioc\R\bin\R.exe CMD INSTALL --merge-multiarch --build --library=chipenrich.buildbin-libdir chipenrich_2.16.0.tar.gz && C:\Users\biocbuild\bbs-3.13-bioc\R\bin\R.exe CMD INSTALL chipenrich_2.16.0.zip && rm chipenrich_2.16.0.tar.gz chipenrich_2.16.0.zip
StartedAt: 2021-09-21 10:06:23 -0400 (Tue, 21 Sep 2021)
EndedAt: 2021-09-21 10:07:58 -0400 (Tue, 21 Sep 2021)
EllapsedTime: 94.3 seconds
RetCode: 0
Status:   OK  

Command output

##############################################################################
##############################################################################
###
### Running command:
###
###   C:\cygwin\bin\curl.exe -O http://155.52.207.165/BBS/3.13/bioc/src/contrib/chipenrich_2.16.0.tar.gz && rm -rf chipenrich.buildbin-libdir && mkdir chipenrich.buildbin-libdir && C:\Users\biocbuild\bbs-3.13-bioc\R\bin\R.exe CMD INSTALL --merge-multiarch --build --library=chipenrich.buildbin-libdir chipenrich_2.16.0.tar.gz && C:\Users\biocbuild\bbs-3.13-bioc\R\bin\R.exe CMD INSTALL chipenrich_2.16.0.zip && rm chipenrich_2.16.0.tar.gz chipenrich_2.16.0.zip
###
##############################################################################
##############################################################################


  % Total    % Received % Xferd  Average Speed   Time    Time     Time  Current
                                 Dload  Upload   Total   Spent    Left  Speed

  0     0    0     0    0     0      0      0 --:--:-- --:--:-- --:--:--     0
 87  115k   87  101k    0     0   515k      0 --:--:-- --:--:-- --:--:--  515k
100  115k  100  115k    0     0   585k      0 --:--:-- --:--:-- --:--:--  585k

install for i386

* installing *source* package 'chipenrich' ...
** using staged installation
** R
** inst
** byte-compile and prepare package for lazy loading
** help
*** installing help indices
  converting help for package 'chipenrich'
    finding HTML links ... done
    assign_peak_segments                    html  
    assign_peaks                            html  
    broadenrich                             html  
    calc_peak_gene_overlap                  html  
    chipenrich                              html  
    chipenrich_package                      html  
    filter_genesets                         html  
    genome_to_organism                      html  
    genome_to_orgdb                         html  
    get_test_method                         html  
    hybridenrich                            html  
    load_peaks                              html  
    num_peaks_per_gene                      html  
    peaks2genes                             html  
    plot_chipenrich_spline                  html  
    plot_dist_to_tss                        html  
    plot_gene_coverage                      html  
    plot_polyenrich_spline                  html  
    polyenrich                              html  
    post_process_enrichments                html  
    postprocess_peak_grs                    html  
    proxReg                                 html  
    read_bed                                html  
    read_geneset                            html  
    read_ldef                               html  
    read_mappa                              html  
    recode_peaks                            html  
    reset_ncores_for_windows                html  
    setup_genesets                          html  
    setup_locusdef                          html  
    setup_mappa                             html  
    supported_genesets                      html  
    supported_genomes                       html  
    supported_locusdefs                     html  
    supported_methods                       html  
    supported_read_lengths                  html  
** building package indices
** installing vignettes
** testing if installed package can be loaded from temporary location
** testing if installed package can be loaded from final location
** testing if installed package keeps a record of temporary installation path

install for x64

* installing *source* package 'chipenrich' ...
** testing if installed package can be loaded
* MD5 sums
packaged installation of 'chipenrich' as chipenrich_2.16.0.zip
* DONE (chipenrich)
* installing to library 'C:/Users/biocbuild/bbs-3.13-bioc/R/library'
package 'chipenrich' successfully unpacked and MD5 sums checked