Back to Multiple platform build/check report for BioC 3.13
AB[C]DEFGHIJKLMNOPQRSTUVWXYZ

This page was generated on 2021-09-13 15:06:20 -0400 (Mon, 13 Sep 2021).

BUILD results for chipenrich on tokay2

To the developers/maintainers of the chipenrich package:
- Please allow up to 24 hours (and sometimes 48 hours) for your latest push to git@git.bioconductor.org:packages/chipenrich.git to
reflect on this report. See How and When does the builder pull? When will my changes propagate? here for more information.
- Make sure to use the following settings in order to reproduce any error or warning you see on this page.

raw results

Package 292/2041HostnameOS / ArchINSTALLBUILDCHECKBUILD BIN
chipenrich 2.16.0  (landing page)
Raymond G. Cavalcante
Snapshot Date: 2021-09-12 04:50:10 -0400 (Sun, 12 Sep 2021)
git_url: https://git.bioconductor.org/packages/chipenrich
git_branch: RELEASE_3_13
git_last_commit: 4653bc8
git_last_commit_date: 2021-05-19 12:00:32 -0400 (Wed, 19 May 2021)
nebbiolo1Linux (Ubuntu 20.04.2 LTS) / x86_64  OK    OK    WARNINGS  UNNEEDED, same version is already published
tokay2Windows Server 2012 R2 Standard / x64  OK    OK    WARNINGS    OK  UNNEEDED, same version is already published
machv2macOS 10.14.6 Mojave / x86_64  OK    OK    WARNINGS    OK  UNNEEDED, same version is already published

Summary

Package: chipenrich
Version: 2.16.0
Command: chmod a+r chipenrich -R && C:\Users\biocbuild\bbs-3.13-bioc\R\bin\R.exe CMD build --keep-empty-dirs --no-resave-data chipenrich
StartedAt: 2021-09-12 12:16:44 -0400 (Sun, 12 Sep 2021)
EndedAt: 2021-09-12 12:19:08 -0400 (Sun, 12 Sep 2021)
EllapsedTime: 144.5 seconds
RetCode: 0
Status:   OK  
PackageFile: chipenrich_2.16.0.tar.gz
PackageFileSize: 430.9 KiB

Command output

##############################################################################
##############################################################################
###
### Running command:
###
###   chmod a+r chipenrich -R && C:\Users\biocbuild\bbs-3.13-bioc\R\bin\R.exe CMD build --keep-empty-dirs --no-resave-data chipenrich
###
##############################################################################
##############################################################################


* checking for file 'chipenrich/DESCRIPTION' ... OK
* preparing 'chipenrich':
* checking DESCRIPTION meta-information ... OK
* installing the package to build vignettes
* creating vignettes ... OK
* checking for LF line-endings in source and make files and shell scripts
* checking for empty or unneeded directories
* building 'chipenrich_2.16.0.tar.gz'