Back to Multiple platform build/check report for BioC 3.13
AB[C]DEFGHIJKLMNOPQRSTUVWXYZ

This page was generated on 2021-09-20 15:05:08 -0400 (Mon, 20 Sep 2021).

CHECK results for censcyt on tokay2

To the developers/maintainers of the censcyt package:
- Please allow up to 24 hours (and sometimes 48 hours) for your latest push to git@git.bioconductor.org:packages/censcyt.git to
reflect on this report. See How and When does the builder pull? When will my changes propagate? here for more information.
- Make sure to use the following settings in order to reproduce any error or warning you see on this page.

raw results

Package 272/2041HostnameOS / ArchINSTALLBUILDCHECKBUILD BIN
censcyt 1.0.0  (landing page)
Reto Gerber
Snapshot Date: 2021-09-19 04:50:10 -0400 (Sun, 19 Sep 2021)
git_url: https://git.bioconductor.org/packages/censcyt
git_branch: RELEASE_3_13
git_last_commit: 916b30f
git_last_commit_date: 2021-05-19 12:58:31 -0400 (Wed, 19 May 2021)
nebbiolo1Linux (Ubuntu 20.04.2 LTS) / x86_64  OK    OK    OK  UNNEEDED, same version is already published
tokay2Windows Server 2012 R2 Standard / x64  OK    OK    OK    OK  UNNEEDED, same version is already published
machv2macOS 10.14.6 Mojave / x86_64  OK    OK    OK    OK  UNNEEDED, same version is already published

Summary

Package: censcyt
Version: 1.0.0
Command: C:\Users\biocbuild\bbs-3.13-bioc\R\bin\R.exe CMD check --force-multiarch --install=check:censcyt.install-out.txt --library=C:\Users\biocbuild\bbs-3.13-bioc\R\library --no-vignettes --timings censcyt_1.0.0.tar.gz
StartedAt: 2021-09-19 20:09:18 -0400 (Sun, 19 Sep 2021)
EndedAt: 2021-09-19 20:16:48 -0400 (Sun, 19 Sep 2021)
EllapsedTime: 449.6 seconds
RetCode: 0
Status:   OK  
CheckDir: censcyt.Rcheck
Warnings: 0

Command output

##############################################################################
##############################################################################
###
### Running command:
###
###   C:\Users\biocbuild\bbs-3.13-bioc\R\bin\R.exe CMD check --force-multiarch --install=check:censcyt.install-out.txt --library=C:\Users\biocbuild\bbs-3.13-bioc\R\library --no-vignettes --timings censcyt_1.0.0.tar.gz
###
##############################################################################
##############################################################################


* using log directory 'C:/Users/biocbuild/bbs-3.13-bioc/meat/censcyt.Rcheck'
* using R version 4.1.1 (2021-08-10)
* using platform: x86_64-w64-mingw32 (64-bit)
* using session charset: ISO8859-1
* using option '--no-vignettes'
* checking for file 'censcyt/DESCRIPTION' ... OK
* this is package 'censcyt' version '1.0.0'
* checking package namespace information ... OK
* checking package dependencies ... OK
* checking if this is a source package ... OK
* checking if there is a namespace ... OK
* checking for hidden files and directories ... NOTE
Found the following hidden files and directories:
  .travis.yml
These were most likely included in error. See section 'Package
structure' in the 'Writing R Extensions' manual.
* checking for portable file names ... OK
* checking whether package 'censcyt' can be installed ... OK
* checking installed package size ... OK
* checking package directory ... OK
* checking 'build' directory ... OK
* checking DESCRIPTION meta-information ... OK
* checking top-level files ... OK
* checking for left-over files ... OK
* checking index information ... OK
* checking package subdirectories ... OK
* checking R files for non-ASCII characters ... OK
* checking R files for syntax errors ... OK
* loading checks for arch 'i386'
** checking whether the package can be loaded ... OK
** checking whether the package can be loaded with stated dependencies ... OK
** checking whether the package can be unloaded cleanly ... OK
** checking whether the namespace can be loaded with stated dependencies ... OK
** checking whether the namespace can be unloaded cleanly ... OK
* loading checks for arch 'x64'
** checking whether the package can be loaded ... OK
** checking whether the package can be loaded with stated dependencies ... OK
** checking whether the package can be unloaded cleanly ... OK
** checking whether the namespace can be loaded with stated dependencies ... OK
** checking whether the namespace can be unloaded cleanly ... OK
* checking dependencies in R code ... OK
* checking S3 generic/method consistency ... OK
* checking replacement functions ... OK
* checking foreign function calls ... OK
* checking R code for possible problems ... NOTE
mean_residual_life_imputation: no visible binding for global variable
  'hazard'
Undefined global functions or variables:
  hazard
* checking Rd files ... OK
* checking Rd metadata ... OK
* checking Rd cross-references ... OK
* checking for missing documentation entries ... OK
* checking for code/documentation mismatches ... OK
* checking Rd \usage sections ... OK
* checking Rd contents ... OK
* checking for unstated dependencies in examples ... OK
* checking files in 'vignettes' ... OK
* checking examples ...
** running examples for arch 'i386' ... OK
Examples with CPU (user + system) or elapsed time > 5s
        user system elapsed
censcyt 15.4   1.55   17.69
** running examples for arch 'x64' ... OK
Examples with CPU (user + system) or elapsed time > 5s
         user system elapsed
censcyt 16.28   0.92   17.21
* checking for unstated dependencies in 'tests' ... OK
* checking tests ...
** running tests for arch 'i386' ...
  Running 'testthat.R'
 OK
** running tests for arch 'x64' ...
  Running 'testthat.R'
 OK
* checking for unstated dependencies in vignettes ... OK
* checking package vignettes in 'inst/doc' ... OK
* checking running R code from vignettes ... SKIPPED
* checking re-building of vignette outputs ... SKIPPED
* checking PDF version of manual ... OK
* DONE

Status: 2 NOTEs
See
  'C:/Users/biocbuild/bbs-3.13-bioc/meat/censcyt.Rcheck/00check.log'
for details.



Installation output

censcyt.Rcheck/00install.out

##############################################################################
##############################################################################
###
### Running command:
###
###   C:\cygwin\bin\curl.exe -O http://155.52.207.165/BBS/3.13/bioc/src/contrib/censcyt_1.0.0.tar.gz && rm -rf censcyt.buildbin-libdir && mkdir censcyt.buildbin-libdir && C:\Users\biocbuild\bbs-3.13-bioc\R\bin\R.exe CMD INSTALL --merge-multiarch --build --library=censcyt.buildbin-libdir censcyt_1.0.0.tar.gz && C:\Users\biocbuild\bbs-3.13-bioc\R\bin\R.exe CMD INSTALL censcyt_1.0.0.zip && rm censcyt_1.0.0.tar.gz censcyt_1.0.0.zip
###
##############################################################################
##############################################################################


  % Total    % Received % Xferd  Average Speed   Time    Time     Time  Current
                                 Dload  Upload   Total   Spent    Left  Speed

  0     0    0     0    0     0      0      0 --:--:-- --:--:-- --:--:--     0
100 59276  100 59276    0     0   131k      0 --:--:-- --:--:-- --:--:--  132k

install for i386

* installing *source* package 'censcyt' ...
** using staged installation
** R
** inst
** byte-compile and prepare package for lazy loading
** help
*** installing help indices
  converting help for package 'censcyt'
    finding HTML links ... done
    censcyt                                 html  
    finding level-2 HTML links ... done

    conditional_multiple_imputation         html  
    createFormula                           html  
    simulate_multicluster                   html  
    simulate_singlecluster                  html  
    testDA_censoredGLMM                     html  
** building package indices
** installing vignettes
** testing if installed package can be loaded from temporary location
** testing if installed package can be loaded from final location
** testing if installed package keeps a record of temporary installation path

install for x64

* installing *source* package 'censcyt' ...
** testing if installed package can be loaded
* MD5 sums
packaged installation of 'censcyt' as censcyt_1.0.0.zip
* DONE (censcyt)
* installing to library 'C:/Users/biocbuild/bbs-3.13-bioc/R/library'
package 'censcyt' successfully unpacked and MD5 sums checked

Tests output

censcyt.Rcheck/tests_i386/testthat.Rout


R version 4.1.1 (2021-08-10) -- "Kick Things"
Copyright (C) 2021 The R Foundation for Statistical Computing
Platform: i386-w64-mingw32/i386 (32-bit)

R is free software and comes with ABSOLUTELY NO WARRANTY.
You are welcome to redistribute it under certain conditions.
Type 'license()' or 'licence()' for distribution details.

R is a collaborative project with many contributors.
Type 'contributors()' for more information and
'citation()' on how to cite R or R packages in publications.

Type 'demo()' for some demos, 'help()' for on-line help, or
'help.start()' for an HTML browser interface to help.
Type 'q()' to quit R.

> library(testthat)
> library(censcyt)
Loading required package: diffcyt

Attaching package: 'censcyt'

The following object is masked from 'package:diffcyt':

    createFormula

> 
> test_check("censcyt")
[ FAIL 0 | WARN 0 | SKIP 0 | PASS 680 ]
> 
> proc.time()
   user  system elapsed 
  57.28    3.42   60.68 

censcyt.Rcheck/tests_x64/testthat.Rout


R version 4.1.1 (2021-08-10) -- "Kick Things"
Copyright (C) 2021 The R Foundation for Statistical Computing
Platform: x86_64-w64-mingw32/x64 (64-bit)

R is free software and comes with ABSOLUTELY NO WARRANTY.
You are welcome to redistribute it under certain conditions.
Type 'license()' or 'licence()' for distribution details.

R is a collaborative project with many contributors.
Type 'contributors()' for more information and
'citation()' on how to cite R or R packages in publications.

Type 'demo()' for some demos, 'help()' for on-line help, or
'help.start()' for an HTML browser interface to help.
Type 'q()' to quit R.

> library(testthat)
> library(censcyt)
Loading required package: diffcyt

Attaching package: 'censcyt'

The following object is masked from 'package:diffcyt':

    createFormula

> 
> test_check("censcyt")
[ FAIL 0 | WARN 0 | SKIP 0 | PASS 680 ]
> 
> proc.time()
   user  system elapsed 
  54.17    1.75   55.92 

Example timings

censcyt.Rcheck/examples_i386/censcyt-Ex.timings

nameusersystemelapsed
censcyt15.40 1.5517.69
conditional_multiple_imputation0.320.000.31
createFormula000
simulate_multicluster0.960.061.11
simulate_singlecluster0.100.000.11
testDA_censoredGLMM2.560.002.56

censcyt.Rcheck/examples_x64/censcyt-Ex.timings

nameusersystemelapsed
censcyt16.28 0.9217.21
conditional_multiple_imputation0.330.000.32
createFormula000
simulate_multicluster0.610.040.64
simulate_singlecluster0.090.000.09
testDA_censoredGLMM2.660.012.68