Back to Multiple platform build/check report for BioC 3.13
AB[C]DEFGHIJKLMNOPQRSTUVWXYZ

This page was generated on 2021-09-20 15:05:08 -0400 (Mon, 20 Sep 2021).

BUILD BIN results for censcyt on tokay2

To the developers/maintainers of the censcyt package:
- Please allow up to 24 hours (and sometimes 48 hours) for your latest push to git@git.bioconductor.org:packages/censcyt.git to
reflect on this report. See How and When does the builder pull? When will my changes propagate? here for more information.
- Make sure to use the following settings in order to reproduce any error or warning you see on this page.

raw results

Package 272/2041HostnameOS / ArchINSTALLBUILDCHECKBUILD BIN
censcyt 1.0.0  (landing page)
Reto Gerber
Snapshot Date: 2021-09-19 04:50:10 -0400 (Sun, 19 Sep 2021)
git_url: https://git.bioconductor.org/packages/censcyt
git_branch: RELEASE_3_13
git_last_commit: 916b30f
git_last_commit_date: 2021-05-19 12:58:31 -0400 (Wed, 19 May 2021)
nebbiolo1Linux (Ubuntu 20.04.2 LTS) / x86_64  OK    OK    OK  UNNEEDED, same version is already published
tokay2Windows Server 2012 R2 Standard / x64  OK    OK    OK    OK  UNNEEDED, same version is already published
machv2macOS 10.14.6 Mojave / x86_64  OK    OK    OK    OK  UNNEEDED, same version is already published

Summary

Package: censcyt
Version: 1.0.0
Command: rm -rf censcyt.buildbin-libdir && mkdir censcyt.buildbin-libdir && C:\Users\biocbuild\bbs-3.13-bioc\R\bin\R.exe CMD INSTALL --merge-multiarch --build --library=censcyt.buildbin-libdir censcyt_1.0.0.tar.gz
StartedAt: 2021-09-20 07:54:12 -0400 (Mon, 20 Sep 2021)
EndedAt: 2021-09-20 07:55:47 -0400 (Mon, 20 Sep 2021)
EllapsedTime: 94.7 seconds
RetCode: 0
Status:   OK  
PackageFile: censcyt_1.0.0.zip
PackageFileSize: 464.6 KiB

Command output

##############################################################################
##############################################################################
###
### Running command:
###
###   rm -rf censcyt.buildbin-libdir && mkdir censcyt.buildbin-libdir && C:\Users\biocbuild\bbs-3.13-bioc\R\bin\R.exe CMD INSTALL --merge-multiarch --build --library=censcyt.buildbin-libdir censcyt_1.0.0.tar.gz
###
##############################################################################
##############################################################################



install for i386

* installing *source* package 'censcyt' ...
** using staged installation
** R
** inst
** byte-compile and prepare package for lazy loading
** help
*** installing help indices
  converting help for package 'censcyt'
    finding HTML links ... done
    censcyt                                 html  
    finding level-2 HTML links ... done

    conditional_multiple_imputation         html  
    createFormula                           html  
    simulate_multicluster                   html  
    simulate_singlecluster                  html  
    testDA_censoredGLMM                     html  
** building package indices
** installing vignettes
** testing if installed package can be loaded from temporary location
** testing if installed package can be loaded from final location
** testing if installed package keeps a record of temporary installation path

install for x64

* installing *source* package 'censcyt' ...
** testing if installed package can be loaded
* MD5 sums
packaged installation of 'censcyt' as censcyt_1.0.0.zip
* DONE (censcyt)