Index of /checkResults/release/bioc-LATEST/censcyt/raw-results/merida1

[ICO]NameLast modifiedSizeDescription

[DIR]Parent Directory  -  
[TXT]buildbin-out.txt10-Jul-2024 06:41 1.1K 
[   ]buildbin-summary.dcf10-Jul-2024 06:41 528  
[TXT]buildsrc-out.txt10-Jul-2024 06:41 816  
[   ]buildsrc-summary.dcf10-Jul-2024 06:41 428  
[TXT]checksrc-out.txt10-Jul-2024 06:41 3.7K 
[   ]checksrc-summary.dcf10-Jul-2024 06:41 444  
[TXT]install-out.txt10-Jul-2024 06:41 1.0K 
[   ]install-summary.dcf10-Jul-2024 06:41 269