Index of /checkResults/release/bioc-LATEST/censcyt/raw-results/machv2

[ICO]NameLast modifiedSizeDescription

[DIR]Parent Directory  -  
[TXT]buildbin-out.txt02-Dec-2021 07:18 1.1K 
[   ]buildbin-summary.dcf02-Dec-2021 07:18 525  
[TXT]buildsrc-out.txt02-Dec-2021 07:18 815  
[   ]buildsrc-summary.dcf02-Dec-2021 07:18 424  
[TXT]checksrc-out.txt02-Dec-2021 07:18 3.5K 
[   ]checksrc-summary.dcf02-Dec-2021 07:18 442  
[TXT]install-out.txt02-Dec-2021 07:18 1.0K 
[   ]install-summary.dcf02-Dec-2021 07:18 268