Back to Multiple platform build/check report for BioC 3.13
AB[C]DEFGHIJKLMNOPQRSTUVWXYZ

This page was generated on 2021-07-21 15:05:45 -0400 (Wed, 21 Jul 2021).

BUILD results for cellity on machv2

To the developers/maintainers of the cellity package:
- Please allow up to 24 hours (and sometimes 48 hours) for your latest push to git@git.bioconductor.org:packages/cellity.git to
reflect on this report. See How and When does the builder pull? When will my changes propagate? here for more information.
- Make sure to use the following settings in order to reproduce any error or warning you see on this page.

raw results

Package 262/2041HostnameOS / ArchINSTALLBUILDCHECKBUILD BIN
cellity 1.20.0  (landing page)
Tomislav Ilicic
Snapshot Date: 2021-07-20 04:50:13 -0400 (Tue, 20 Jul 2021)
URL: https://git.bioconductor.org/packages/cellity
Branch: RELEASE_3_13
Last Commit: a34d727
Last Changed Date: 2021-05-19 12:18:12 -0400 (Wed, 19 May 2021)
nebbiolo1Linux (Ubuntu 20.04.2 LTS) / x86_64  OK    OK    OK  UNNEEDED, same version is already published
tokay2Windows Server 2012 R2 Standard / x64  OK    OK    OK    OK  UNNEEDED, same version is already published
machv2macOS 10.14.6 Mojave / x86_64  OK    OK    OK    OK  UNNEEDED, same version is already published

Summary

Package: cellity
Version: 1.20.0
Command: /Library/Frameworks/R.framework/Versions/Current/Resources/bin/R CMD build --keep-empty-dirs --no-resave-data cellity
StartedAt: 2021-07-20 10:54:21 -0400 (Tue, 20 Jul 2021)
EndedAt: 2021-07-20 10:55:58 -0400 (Tue, 20 Jul 2021)
EllapsedTime: 97.5 seconds
RetCode: 0
Status:   OK  
PackageFile: cellity_1.20.0.tar.gz
PackageFileSize: 1.205 MiB

Command output

##############################################################################
##############################################################################
###
### Running command:
###
###   /Library/Frameworks/R.framework/Versions/Current/Resources/bin/R CMD build --keep-empty-dirs --no-resave-data cellity
###
##############################################################################
##############################################################################


* checking for file ‘cellity/DESCRIPTION’ ... OK
* preparing ‘cellity’:
* checking DESCRIPTION meta-information ... OK
* installing the package to build vignettes
* creating vignettes ... OK
* checking for LF line-endings in source and make files and shell scripts
* checking for empty or unneeded directories
* building ‘cellity_1.20.0.tar.gz’