Back to Multiple platform build/check report for BioC 3.13
AB[C]DEFGHIJKLMNOPQRSTUVWXYZ

This page was generated on 2021-09-20 15:04:45 -0400 (Mon, 20 Sep 2021).

BUILD results for celda on nebbiolo1

To the developers/maintainers of the celda package:
- Please allow up to 24 hours (and sometimes 48 hours) for your latest push to git@git.bioconductor.org:packages/celda.git to
reflect on this report. See How and When does the builder pull? When will my changes propagate? here for more information.
- Make sure to use the following settings in order to reproduce any error or warning you see on this page.

raw results

Package 256/2041HostnameOS / ArchINSTALLBUILDCHECKBUILD BIN
celda 1.8.1  (landing page)
Joshua Campbell
Snapshot Date: 2021-09-19 04:50:10 -0400 (Sun, 19 Sep 2021)
git_url: https://git.bioconductor.org/packages/celda
git_branch: RELEASE_3_13
git_last_commit: f4cf6f05
git_last_commit_date: 2021-05-27 22:03:16 -0400 (Thu, 27 May 2021)
nebbiolo1Linux (Ubuntu 20.04.2 LTS) / x86_64  OK    OK    OK  UNNEEDED, same version is already published
tokay2Windows Server 2012 R2 Standard / x64  OK    OK    OK    OK  UNNEEDED, same version is already published
machv2macOS 10.14.6 Mojave / x86_64  OK    OK    OK    OK  UNNEEDED, same version is already published

Summary

Package: celda
Version: 1.8.1
Command: /home/biocbuild/bbs-3.13-bioc/R/bin/R CMD build --keep-empty-dirs --no-resave-data celda
StartedAt: 2021-09-19 06:51:39 -0400 (Sun, 19 Sep 2021)
EndedAt: 2021-09-19 07:01:02 -0400 (Sun, 19 Sep 2021)
EllapsedTime: 562.6 seconds
RetCode: 0
Status:   OK  
PackageFile: celda_1.8.1.tar.gz
PackageFileSize: 1.122 MiB

Command output

##############################################################################
##############################################################################
###
### Running command:
###
###   /home/biocbuild/bbs-3.13-bioc/R/bin/R CMD build --keep-empty-dirs --no-resave-data celda
###
##############################################################################
##############################################################################


* checking for file ‘celda/DESCRIPTION’ ... OK
* preparing ‘celda’:
* checking DESCRIPTION meta-information ... OK
* cleaning src
* installing the package to build vignettes
* creating vignettes ... OK
* cleaning src
* checking for LF line-endings in source and make files and shell scripts
* checking for empty or unneeded directories
* building ‘celda_1.8.1.tar.gz’