Back to Multiple platform build/check report for BioC 3.13
AB[C]DEFGHIJKLMNOPQRSTUVWXYZ

This page was generated on 2021-09-17 15:06:00 -0400 (Fri, 17 Sep 2021).

INSTALL results for celaref on tokay2

To the developers/maintainers of the celaref package:
- Please allow up to 24 hours (and sometimes 48 hours) for your latest push to git@git.bioconductor.org:packages/celaref.git to
reflect on this report. See How and When does the builder pull? When will my changes propagate? here for more information.
- Make sure to use the following settings in order to reproduce any error or warning you see on this page.

raw results

Package 255/2041HostnameOS / ArchINSTALLBUILDCHECKBUILD BIN
celaref 1.10.0  (landing page)
Sarah Williams
Snapshot Date: 2021-09-16 04:50:11 -0400 (Thu, 16 Sep 2021)
git_url: https://git.bioconductor.org/packages/celaref
git_branch: RELEASE_3_13
git_last_commit: 633ad23
git_last_commit_date: 2021-05-19 12:37:13 -0400 (Wed, 19 May 2021)
nebbiolo1Linux (Ubuntu 20.04.2 LTS) / x86_64  OK    OK    OK  UNNEEDED, same version is already published
tokay2Windows Server 2012 R2 Standard / x64  OK    OK    OK    OK  UNNEEDED, same version is already published
machv2macOS 10.14.6 Mojave / x86_64  OK    OK    OK    OK  UNNEEDED, same version is already published

Summary

Package: celaref
Version: 1.10.0
Command: C:\cygwin\bin\curl.exe -O http://155.52.207.165/BBS/3.13/bioc/src/contrib/celaref_1.10.0.tar.gz && rm -rf celaref.buildbin-libdir && mkdir celaref.buildbin-libdir && C:\Users\biocbuild\bbs-3.13-bioc\R\bin\R.exe CMD INSTALL --merge-multiarch --build --library=celaref.buildbin-libdir celaref_1.10.0.tar.gz && C:\Users\biocbuild\bbs-3.13-bioc\R\bin\R.exe CMD INSTALL celaref_1.10.0.zip && rm celaref_1.10.0.tar.gz celaref_1.10.0.zip
StartedAt: 2021-09-16 09:38:07 -0400 (Thu, 16 Sep 2021)
EndedAt: 2021-09-16 09:39:08 -0400 (Thu, 16 Sep 2021)
EllapsedTime: 60.3 seconds
RetCode: 0
Status:   OK  

Command output

##############################################################################
##############################################################################
###
### Running command:
###
###   C:\cygwin\bin\curl.exe -O http://155.52.207.165/BBS/3.13/bioc/src/contrib/celaref_1.10.0.tar.gz && rm -rf celaref.buildbin-libdir && mkdir celaref.buildbin-libdir && C:\Users\biocbuild\bbs-3.13-bioc\R\bin\R.exe CMD INSTALL --merge-multiarch --build --library=celaref.buildbin-libdir celaref_1.10.0.tar.gz && C:\Users\biocbuild\bbs-3.13-bioc\R\bin\R.exe CMD INSTALL celaref_1.10.0.zip && rm celaref_1.10.0.tar.gz celaref_1.10.0.zip
###
##############################################################################
##############################################################################


  % Total    % Received % Xferd  Average Speed   Time    Time     Time  Current
                                 Dload  Upload   Total   Spent    Left  Speed

  0     0    0     0    0     0      0      0 --:--:-- --:--:-- --:--:--     0
  0 1146k    0  2487    0     0  30394      0  0:00:38 --:--:--  0:00:38 30329
100 1146k  100 1146k    0     0  1457k      0 --:--:-- --:--:-- --:--:-- 1456k

install for i386

* installing *source* package 'celaref' ...
** using staged installation
** R
** data
*** moving datasets to lazyload DB
** inst
** byte-compile and prepare package for lazy loading
** help
*** installing help indices
  converting help for package 'celaref'
    finding HTML links ... done
    contrast_each_group_to_the_rest         html  
    contrast_each_group_to_the_rest_for_norm_ma_with_limma
                                            html  
    contrast_the_group_to_the_rest          html  
    contrast_the_group_to_the_rest_with_limma_for_microarray
                                            html  
    convert_se_gene_ids                     html  
    de_table.demo_query                     html  
    de_table.demo_ref                       html  
    demo_cell_info_table                    html  
    demo_counts_matrix                      html  
    demo_gene_info_table                    html  
    demo_microarray_expr                    html  
    demo_microarray_sample_sheet            html  
    demo_query_se                           html  
    demo_ref_se                             html  
    find_within_match_differences           html  
    get_counts_index                        html  
    get_inner_or_outer_ci                   html  
    get_limma_top_table_with_ci             html  
    get_matched_stepped_mwtest_res_table    html  
    get_ranking_and_test_results            html  
    get_rankstat_table                      html  
    get_reciprocal_matches                  html  
    get_stepped_pvals_str                   html  
    get_the_up_genes_for_all_possible_groups
                                            html  
    get_the_up_genes_for_group              html  
    get_vs_random_pval                      html  
    load_dataset_10Xdata                    html  
    load_se_from_tables                     html  
    make_ranking_violin_plot                html  
    make_ref_similarity_names               html  
    make_ref_similarity_names_for_group     html  
    run_pair_test_stats                     html  
    subset_cells_by_group                   html  
    subset_se_cells_for_group_test          html  
    trim_small_groups_and_low_expression_genes
                                            html  
** building package indices
** installing vignettes
** testing if installed package can be loaded from temporary location
** testing if installed package can be loaded from final location
** testing if installed package keeps a record of temporary installation path

install for x64

* installing *source* package 'celaref' ...
** testing if installed package can be loaded
* MD5 sums
packaged installation of 'celaref' as celaref_1.10.0.zip
* DONE (celaref)
* installing to library 'C:/Users/biocbuild/bbs-3.13-bioc/R/library'
package 'celaref' successfully unpacked and MD5 sums checked