Back to Multiple platform build/check report for BioC 3.13
AB[C]DEFGHIJKLMNOPQRSTUVWXYZ

This page was generated on 2021-08-02 15:05:06 -0400 (Mon, 02 Aug 2021).

BUILD results for categoryCompare on tokay2

To the developers/maintainers of the categoryCompare package:
- Please allow up to 24 hours (and sometimes 48 hours) for your latest push to git@git.bioconductor.org:packages/categoryCompare.git to
reflect on this report. See How and When does the builder pull? When will my changes propagate? here for more information.
- Make sure to use the following settings in order to reproduce any error or warning you see on this page.

raw results

Package 246/2041HostnameOS / ArchINSTALLBUILDCHECKBUILD BIN
categoryCompare 1.36.0  (landing page)
Robert M. Flight
Snapshot Date: 2021-08-01 04:50:10 -0400 (Sun, 01 Aug 2021)
URL: https://git.bioconductor.org/packages/categoryCompare
Branch: RELEASE_3_13
Last Commit: 325b381
Last Changed Date: 2021-05-19 11:52:22 -0400 (Wed, 19 May 2021)
nebbiolo1Linux (Ubuntu 20.04.2 LTS) / x86_64  OK    OK    OK  UNNEEDED, same version is already published
tokay2Windows Server 2012 R2 Standard / x64  OK    OK    OK    OK  UNNEEDED, same version is already published
machv2macOS 10.14.6 Mojave / x86_64  OK    OK    OK    OK  UNNEEDED, same version is already published

Summary

Package: categoryCompare
Version: 1.36.0
Command: chmod a+r categoryCompare -R && C:\Users\biocbuild\bbs-3.13-bioc\R\bin\R.exe CMD build --keep-empty-dirs --no-resave-data categoryCompare
StartedAt: 2021-08-01 12:47:10 -0400 (Sun, 01 Aug 2021)
EndedAt: 2021-08-01 12:50:48 -0400 (Sun, 01 Aug 2021)
EllapsedTime: 217.7 seconds
RetCode: 0
Status:   OK  
PackageFile: categoryCompare_1.36.0.tar.gz
PackageFileSize: 2.961 MiB

Command output

##############################################################################
##############################################################################
###
### Running command:
###
###   chmod a+r categoryCompare -R && C:\Users\biocbuild\bbs-3.13-bioc\R\bin\R.exe CMD build --keep-empty-dirs --no-resave-data categoryCompare
###
##############################################################################
##############################################################################


* checking for file 'categoryCompare/DESCRIPTION' ... OK
* preparing 'categoryCompare':
* checking DESCRIPTION meta-information ... OK
* installing the package to build vignettes
* creating vignettes ... OK
* checking for LF line-endings in source and make files and shell scripts
* checking for empty or unneeded directories
* looking to see if a 'data/datalist' file should be added
* building 'categoryCompare_1.36.0.tar.gz'