Back to Multiple platform build/check report for BioC 3.13
AB[C]DEFGHIJKLMNOPQRSTUVWXYZ

This page was generated on 2021-07-23 15:05:58 -0400 (Fri, 23 Jul 2021).

BUILD BIN results for categoryCompare on tokay2

To the developers/maintainers of the categoryCompare package:
- Please allow up to 24 hours (and sometimes 48 hours) for your latest push to git@git.bioconductor.org:packages/categoryCompare.git to
reflect on this report. See How and When does the builder pull? When will my changes propagate? here for more information.
- Make sure to use the following settings in order to reproduce any error or warning you see on this page.

raw results

Package 246/2041HostnameOS / ArchINSTALLBUILDCHECKBUILD BIN
categoryCompare 1.36.0  (landing page)
Robert M. Flight
Snapshot Date: 2021-07-22 04:50:13 -0400 (Thu, 22 Jul 2021)
URL: https://git.bioconductor.org/packages/categoryCompare
Branch: RELEASE_3_13
Last Commit: 325b381
Last Changed Date: 2021-05-19 11:52:22 -0400 (Wed, 19 May 2021)
nebbiolo1Linux (Ubuntu 20.04.2 LTS) / x86_64  OK    OK    OK  UNNEEDED, same version is already published
tokay2Windows Server 2012 R2 Standard / x64  OK    OK    OK    OK  UNNEEDED, same version is already published
machv2macOS 10.14.6 Mojave / x86_64  OK    OK    OK    OK  UNNEEDED, same version is already published

Summary

Package: categoryCompare
Version: 1.36.0
Command: rm -rf categoryCompare.buildbin-libdir && mkdir categoryCompare.buildbin-libdir && C:\Users\biocbuild\bbs-3.13-bioc\R\bin\R.exe CMD INSTALL --merge-multiarch --build --library=categoryCompare.buildbin-libdir categoryCompare_1.36.0.tar.gz
StartedAt: 2021-07-23 08:44:33 -0400 (Fri, 23 Jul 2021)
EndedAt: 2021-07-23 08:45:24 -0400 (Fri, 23 Jul 2021)
EllapsedTime: 51.1 seconds
RetCode: 0
Status:   OK  
PackageFile: categoryCompare_1.36.0.zip
PackageFileSize: 2.457 MiB

Command output

##############################################################################
##############################################################################
###
### Running command:
###
###   rm -rf categoryCompare.buildbin-libdir && mkdir categoryCompare.buildbin-libdir && C:\Users\biocbuild\bbs-3.13-bioc\R\bin\R.exe CMD INSTALL --merge-multiarch --build --library=categoryCompare.buildbin-libdir categoryCompare_1.36.0.tar.gz
###
##############################################################################
##############################################################################



install for i386

* installing *source* package 'categoryCompare' ...
** using staged installation
** R
** data
** inst
** byte-compile and prepare package for lazy loading
Note: ... may be used in an incorrect context 
** help
*** installing help indices
  converting help for package 'categoryCompare'
    finding HTML links ... done
    GENccEnrichResult-class                 html  
REDIRECT:topic	 graphType<-,GENccEnrichResult-method -> GENccEnrichResult-class.html [ FAIL ]
    finding level-2 HTML links ... done

    HyperGParamsCC-class                    html  
REDIRECT:topic	 fdr<-,HyperGParamsCC-method -> HyperGParamsCC-class.html [ FAIL ]
    HyperGResultCC-class                    html  
REDIRECT:topic	 pvalueCutoff<-,HyperGResultCC-method -> HyperGResultCC-class.html [ FAIL ]
REDIRECT:topic	 pvalueType<-,HyperGResultCC-method -> HyperGResultCC-class.html [ FAIL ]
REDIRECT:topic	 minCount<-,HyperGResultCC-method -> HyperGResultCC-class.html [ FAIL ]
    breakEdges-methods                      html  
    categoryCompare-package                 html  
    ccCompare                               html  
    ccCompareCollection-class               html  
    ccCompareGeneric-methods                html  
    ccCompareResult-class                   html  
    ccData                                  html  
    ccEnrich                                html  
    ccEnrichCollection-class                html  
REDIRECT:topic	 pvalueCutoff<-,ccEnrichCollection-method -> ccEnrichCollection-class.html [ FAIL ]
REDIRECT:topic	 pvalueType<-,ccEnrichCollection-method -> ccEnrichCollection-class.html [ FAIL ]
REDIRECT:topic	 minCount<-,ccEnrichCollection-method -> ccEnrichCollection-class.html [ FAIL ]
REDIRECT:topic	 graphType<-,ccEnrichCollection-method -> ccEnrichCollection-class.html [ FAIL ]
    ccEnrichResult-class                    html  
REDIRECT:topic	 pvalueCutoff<-,ccEnrichResult-method -> ccEnrichResult-class.html [ FAIL ]
REDIRECT:topic	 pvalueType<-,ccEnrichResult-method -> ccEnrichResult-class.html [ FAIL ]
REDIRECT:topic	 minCount<-,ccEnrichResult-method -> ccEnrichResult-class.html [ FAIL ]
REDIRECT:topic	 graphType<-,ccEnrichResult-method -> ccEnrichResult-class.html [ FAIL ]
    ccGeneList-class                        html  
REDIRECT:topic	 fdr<-,ccGeneList-method -> ccGeneList-class.html [ FAIL ]
REDIRECT:topic	 pvalueCutoff<-,ccGeneList-method -> ccGeneList-class.html [ FAIL ]
REDIRECT:topic	 ccType<-,ccGeneList-method -> ccGeneList-class.html [ FAIL ]
REDIRECT:topic	 ccType<- -> ccGeneList-class.html [ FAIL ]
    ccOptions-class                         html  
REDIRECT:topic	 compareColors<-,ccOptions-method -> ccOptions-class.html [ FAIL ]
REDIRECT:topic	 compareNames<-,ccOptions-method -> ccOptions-class.html [ FAIL ]
REDIRECT:topic	 listNames<-,ccOptions-method -> ccOptions-class.html [ FAIL ]
REDIRECT:topic	 outType<-,ccOptions-method -> ccOptions-class.html [ FAIL ]
REDIRECT:topic	 compareColors<- -> ccOptions-class.html [ FAIL ]
REDIRECT:topic	 compareNames<- -> ccOptions-class.html [ FAIL ]
REDIRECT:topic	 outType<- -> ccOptions-class.html [ FAIL ]
    ccOutCyt-methods                        html  
    ccSigList-class                         html  
    cwReload-methods                        html  
    cytOutData-methods                      html  
    cytOutNodes-methods                     html  
    fdr                                     html  
REDIRECT:topic	 fdr<- -> fdr.html [ FAIL ]
    getGeneSymbol                           html  
    graphType-methods                       html  
REDIRECT:topic	 graphType<- -> graphType-methods.html [ FAIL ]
    hyperGTestCC                            html  
    listNames                               html  
    mergeLists-methods                      html  
    mergedData-class                        html  
    minCount                                html  
REDIRECT:topic	 minCount<- -> minCount.html [ FAIL ]
    minNodes                                html  
    pvalueType                              html  
REDIRECT:topic	 pvalueType<- -> pvalueType.html [ FAIL ]
    resetColors-methods                     html  
    show-methods                            html  
** building package indices
** installing vignettes
** testing if installed package can be loaded from temporary location
** testing if installed package can be loaded from final location
** testing if installed package keeps a record of temporary installation path

install for x64

* installing *source* package 'categoryCompare' ...
** testing if installed package can be loaded
* MD5 sums
packaged installation of 'categoryCompare' as categoryCompare_1.36.0.zip
* DONE (categoryCompare)