Back to Multiple platform build/check report for BioC 3.19:   simplified   long
AB[C]DEFGHIJKLMNOPQRSTUVWXYZ

This page was generated on 2024-07-16 17:42 -0400 (Tue, 16 Jul 2024).

HostnameOSArch (*)R versionInstalled pkgs
nebbiolo1Linux (Ubuntu 22.04.3 LTS)x86_644.4.1 (2024-06-14) -- "Race for Your Life" 4742
palomino7Windows Server 2022 Datacenterx644.4.1 (2024-06-14 ucrt) -- "Race for Your Life" 4484
merida1macOS 12.7.4 Montereyx86_644.4.1 (2024-06-14) -- "Race for Your Life" 4513
kjohnson1macOS 13.6.6 Venturaarm644.4.1 (2024-06-14) -- "Race for Your Life" 4462
Click on any hostname to see more info about the system (e.g. compilers)      (*) as reported by 'uname -p', except on Windows and Mac OS X

Package 479/2300HostnameOS / ArchINSTALLBUILDCHECKBUILD BIN
cTRAP 1.22.0  (landing page)
Nuno Saraiva-Agostinho
Snapshot Date: 2024-07-14 14:00 -0400 (Sun, 14 Jul 2024)
git_url: https://git.bioconductor.org/packages/cTRAP
git_branch: RELEASE_3_19
git_last_commit: 3cc210c
git_last_commit_date: 2024-04-30 11:10:28 -0400 (Tue, 30 Apr 2024)
nebbiolo1Linux (Ubuntu 22.04.3 LTS) / x86_64  OK    OK    ERROR  
palomino7Windows Server 2022 Datacenter / x64  OK    OK    OK    OK  
merida1macOS 12.7.4 Monterey / x86_64  OK    OK    ERROR    OK  
kjohnson1macOS 13.6.6 Ventura / arm64  OK    OK    OK    OK  UNNEEDED, same version is already published


CHECK results for cTRAP on kjohnson1

To the developers/maintainers of the cTRAP package:
- Allow up to 24 hours (and sometimes 48 hours) for your latest push to git@git.bioconductor.org:packages/cTRAP.git to reflect on this report. See Troubleshooting Build Report for more information.
- Use the following Renviron settings to reproduce errors and warnings.
- If 'R CMD check' started to fail recently on the Linux builder(s) over a missing dependency, add the missing dependency to 'Suggests:' in your DESCRIPTION file. See Renviron.bioc for more information.

raw results


Summary

Package: cTRAP
Version: 1.22.0
Command: /Library/Frameworks/R.framework/Resources/bin/R CMD check --install=check:cTRAP.install-out.txt --library=/Library/Frameworks/R.framework/Resources/library --no-vignettes --timings cTRAP_1.22.0.tar.gz
StartedAt: 2024-07-15 16:09:55 -0400 (Mon, 15 Jul 2024)
EndedAt: 2024-07-15 16:20:39 -0400 (Mon, 15 Jul 2024)
EllapsedTime: 644.1 seconds
RetCode: 0
Status:   OK  
CheckDir: cTRAP.Rcheck
Warnings: 0

Command output

##############################################################################
##############################################################################
###
### Running command:
###
###   /Library/Frameworks/R.framework/Resources/bin/R CMD check --install=check:cTRAP.install-out.txt --library=/Library/Frameworks/R.framework/Resources/library --no-vignettes --timings cTRAP_1.22.0.tar.gz
###
##############################################################################
##############################################################################


* using log directory ‘/Users/biocbuild/bbs-3.19-bioc/meat/cTRAP.Rcheck’
* using R version 4.4.1 (2024-06-14)
* using platform: aarch64-apple-darwin20
* R was compiled by
    Apple clang version 14.0.0 (clang-1400.0.29.202)
    GNU Fortran (GCC) 12.2.0
* running under: macOS Ventura 13.6.6
* using session charset: UTF-8
* using option ‘--no-vignettes’
* checking for file ‘cTRAP/DESCRIPTION’ ... OK
* this is package ‘cTRAP’ version ‘1.22.0’
* package encoding: UTF-8
* checking package namespace information ... OK
* checking package dependencies ... OK
* checking if this is a source package ... OK
* checking if there is a namespace ... OK
* checking for hidden files and directories ... NOTE
Found the following hidden files and directories:
  .devcontainer
These were most likely included in error. See section ‘Package
structure’ in the ‘Writing R Extensions’ manual.
* checking for portable file names ... OK
* checking for sufficient/correct file permissions ... OK
* checking whether package ‘cTRAP’ can be installed ... OK
* checking installed package size ... NOTE
  installed size is  5.0Mb
  sub-directories of 1Mb or more:
    data   4.3Mb
* checking package directory ... OK
* checking DESCRIPTION meta-information ... NOTE
License stub is invalid DCF.
* checking top-level files ... OK
* checking for left-over files ... OK
* checking index information ... OK
* checking package subdirectories ... OK
* checking code files for non-ASCII characters ... OK
* checking R files for syntax errors ... OK
* checking whether the package can be loaded ... OK
* checking whether the package can be loaded with stated dependencies ... OK
* checking whether the package can be unloaded cleanly ... OK
* checking whether the namespace can be loaded with stated dependencies ... OK
* checking whether the namespace can be unloaded cleanly ... OK
* checking dependencies in R code ... OK
* checking S3 generic/method consistency ... OK
* checking replacement functions ... OK
* checking foreign function calls ... OK
* checking R code for possible problems ... NOTE
Found the following possibly unsafe calls:
File ‘cTRAP/R/shinyInterface_session.R’:
  assignInNamespace("dataTablesFilter", dt_mod, "DT")

plotComparison: no visible binding for global variable ‘.data’
plotMetricDistribution: no visible binding for global variable ‘.data’
plotSingleCorr: no visible binding for global variable ‘.data’
plotTargetingDrug: no visible binding for global variable ‘.data’
plotTargetingDrugsVSsimilarPerturbations: no visible binding for global
  variable ‘.data’
Undefined global functions or variables:
  .data
* checking Rd files ... OK
* checking Rd metadata ... OK
* checking Rd cross-references ... OK
* checking for missing documentation entries ... OK
* checking for code/documentation mismatches ... OK
* checking Rd \usage sections ... NOTE
Documented arguments not in \usage in Rd file 'compareWithAllMethods.Rd':
  ‘rankByAscending’

Functions with \usage entries need to have the appropriate \alias
entries, and all their arguments documented.
The \usage entries must correspond to syntactically valid R code.
See chapter ‘Writing R documentation files’ in the ‘Writing R
Extensions’ manual.
* checking Rd contents ... OK
* checking for unstated dependencies in examples ... OK
* checking contents of ‘data’ directory ... OK
* checking data for non-ASCII characters ... NOTE
  Note: found 1 marked UTF-8 string
* checking LazyData ... OK
* checking data for ASCII and uncompressed saves ... OK
* checking R/sysdata.rda ... OK
* checking files in ‘vignettes’ ... OK
* checking examples ... OK
Examples with CPU (user + system) or elapsed time > 5s
                                            user system elapsed
plotDrugSetEnrichment                    189.593  2.075 193.700
convertGeneIdentifiers                    23.131  1.742  29.502
plot.referenceComparison                  22.187  1.341  24.744
analyseDrugSetEnrichment                  16.599  1.377  34.643
plot.perturbationChanges                  15.080  0.815  15.970
prepareDrugSets                            6.092  3.521   9.699
filterCMapMetadata                         8.802  0.355  10.722
plotTargetingDrugsVSsimilarPerturbations   7.337  0.854   8.286
prepareCMapPerturbations                   6.481  0.126   6.633
predictTargetingDrugs                      4.997  0.695   5.756
loadCMapData                               4.265  0.187   5.248
downloadENCODEknockdownMetadata            2.717  0.269  14.454
* checking for unstated dependencies in ‘tests’ ... OK
* checking tests ...
  Running ‘spelling.R’
  Running ‘testthat.R’
 OK
* checking for unstated dependencies in vignettes ... OK
* checking package vignettes ... OK
* checking running R code from vignettes ... SKIPPED
* checking re-building of vignette outputs ... SKIPPED
* checking PDF version of manual ... OK
* DONE

Status: 6 NOTEs
See
  ‘/Users/biocbuild/bbs-3.19-bioc/meat/cTRAP.Rcheck/00check.log’
for details.


Installation output

cTRAP.Rcheck/00install.out

##############################################################################
##############################################################################
###
### Running command:
###
###   /Library/Frameworks/R.framework/Resources/bin/R CMD INSTALL cTRAP
###
##############################################################################
##############################################################################


* installing to library ‘/Library/Frameworks/R.framework/Versions/4.4-arm64/Resources/library’
* installing *source* package ‘cTRAP’ ...
** using staged installation
** R
** data
*** moving datasets to lazyload DB
** inst
** byte-compile and prepare package for lazy loading
** help
*** installing help indices
** building package indices
** installing vignettes
** testing if installed package can be loaded from temporary location
** testing if installed package can be loaded from final location
** testing if installed package keeps a record of temporary installation path
* DONE (cTRAP)

Tests output

cTRAP.Rcheck/tests/spelling.Rout


R version 4.4.1 (2024-06-14) -- "Race for Your Life"
Copyright (C) 2024 The R Foundation for Statistical Computing
Platform: aarch64-apple-darwin20

R is free software and comes with ABSOLUTELY NO WARRANTY.
You are welcome to redistribute it under certain conditions.
Type 'license()' or 'licence()' for distribution details.

R is a collaborative project with many contributors.
Type 'contributors()' for more information and
'citation()' on how to cite R or R packages in publications.

Type 'demo()' for some demos, 'help()' for on-line help, or
'help.start()' for an HTML browser interface to help.
Type 'q()' to quit R.

> if(requireNamespace('spelling', quietly = TRUE))
+   spelling::spell_check_test(vignettes = TRUE, error = FALSE,
+                              skip_on_cran = TRUE)
NULL
> 
> proc.time()
   user  system elapsed 
  0.229   0.063   0.277 

cTRAP.Rcheck/tests/testthat.Rout


R version 4.4.1 (2024-06-14) -- "Race for Your Life"
Copyright (C) 2024 The R Foundation for Statistical Computing
Platform: aarch64-apple-darwin20

R is free software and comes with ABSOLUTELY NO WARRANTY.
You are welcome to redistribute it under certain conditions.
Type 'license()' or 'licence()' for distribution details.

R is a collaborative project with many contributors.
Type 'contributors()' for more information and
'citation()' on how to cite R or R packages in publications.

Type 'demo()' for some demos, 'help()' for on-line help, or
'help.start()' for an HTML browser interface to help.
Type 'q()' to quit R.

> library(testthat)
> library(cTRAP)
> 
> test_check("cTRAP")
trying URL 'https://compbio.imm.medicina.ulisboa.pt/public/cTRAP/expressionDrugSensitivityCorGDSC7.qs'
downloaded 31.6 MB

trying URL 'https://compbio.imm.medicina.ulisboa.pt/public/cTRAP/compound_descriptors_NCI60_2D.qs'
downloaded 2.1 MB

[ FAIL 0 | WARN 0 | SKIP 2 | PASS 243 ]

══ Skipped tests (2) ═══════════════════════════════════════════════════════════
• On Bioconductor (1): 'test_ENCODE.R:16:5'
• empty test (1): 'test_drugSetEnrichment.R:88:1'

[ FAIL 0 | WARN 0 | SKIP 2 | PASS 243 ]
> 
> proc.time()
   user  system elapsed 
 71.011   5.980  76.534 

Example timings

cTRAP.Rcheck/cTRAP-Ex.timings

nameusersystemelapsed
analyseDrugSetEnrichment16.599 1.37734.643
convertGeneIdentifiers23.131 1.74229.502
downloadENCODEknockdownMetadata 2.717 0.26914.454
filterCMapMetadata 8.802 0.35510.722
getCMapConditions0.0040.0010.004
getCMapPerturbationTypes000
listExpressionDrugSensitivityAssociation000
loadCMapData4.2650.1875.248
loadCMapZscores3.0350.1463.189
loadDrugDescriptors0.0820.0100.093
loadENCODEsamples0.0000.0000.001
loadExpressionDrugSensitivityAssociation0.6070.5771.195
parseCMapID0.0010.0000.001
performDifferentialExpression0.0020.0000.001
plot.perturbationChanges15.080 0.81515.970
plot.referenceComparison22.187 1.34124.744
plotDrugSetEnrichment189.593 2.075193.700
plotTargetingDrugsVSsimilarPerturbations7.3370.8548.286
predictTargetingDrugs4.9970.6955.756
prepareCMapPerturbations6.4810.1266.633
prepareDrugSets6.0923.5219.699
prepareENCODEgeneExpression0.0000.0010.000
rankSimilarPerturbations2.4560.1352.601