Back to Multiple platform build/check report for BioC 3.13
AB[C]DEFGHIJKLMNOPQRSTUVWXYZ

This page was generated on 2021-09-22 15:04:47 -0400 (Wed, 22 Sep 2021).

BUILD results for cBioPortalData on nebbiolo1

To the developers/maintainers of the cBioPortalData package:
- Please allow up to 24 hours (and sometimes 48 hours) for your latest push to git@git.bioconductor.org:packages/cBioPortalData.git to
reflect on this report. See How and When does the builder pull? When will my changes propagate? here for more information.
- Make sure to use the following settings in order to reproduce any error or warning you see on this page.

raw results

Package 249/2041HostnameOS / ArchINSTALLBUILDCHECKBUILD BIN
cBioPortalData 2.4.8  (landing page)
Marcel Ramos
Snapshot Date: 2021-09-21 04:50:12 -0400 (Tue, 21 Sep 2021)
git_url: https://git.bioconductor.org/packages/cBioPortalData
git_branch: RELEASE_3_13
git_last_commit: 3a43ce4
git_last_commit_date: 2021-08-23 15:35:27 -0400 (Mon, 23 Aug 2021)
nebbiolo1Linux (Ubuntu 20.04.2 LTS) / x86_64  OK    OK    WARNINGS  UNNEEDED, same version is already published
tokay2Windows Server 2012 R2 Standard / x64  OK    OK    WARNINGS    OK  UNNEEDED, same version is already published
machv2macOS 10.14.6 Mojave / x86_64  OK    OK    WARNINGS    OK  UNNEEDED, same version is already published

Summary

Package: cBioPortalData
Version: 2.4.8
Command: /home/biocbuild/bbs-3.13-bioc/R/bin/R CMD build --keep-empty-dirs --no-resave-data cBioPortalData
StartedAt: 2021-09-21 06:52:29 -0400 (Tue, 21 Sep 2021)
EndedAt: 2021-09-21 06:54:37 -0400 (Tue, 21 Sep 2021)
EllapsedTime: 127.9 seconds
RetCode: 0
Status:   OK  
PackageFile: cBioPortalData_2.4.8.tar.gz
PackageFileSize: 788.4 KiB

Command output

##############################################################################
##############################################################################
###
### Running command:
###
###   /home/biocbuild/bbs-3.13-bioc/R/bin/R CMD build --keep-empty-dirs --no-resave-data cBioPortalData
###
##############################################################################
##############################################################################


* checking for file ‘cBioPortalData/DESCRIPTION’ ... OK
* preparing ‘cBioPortalData’:
* checking DESCRIPTION meta-information ... OK
* installing the package to build vignettes
* creating vignettes ... OK
* checking for LF line-endings in source and make files and shell scripts
* checking for empty or unneeded directories
* building ‘cBioPortalData_2.4.8.tar.gz’