Back to Multiple platform build/check report for BioC 3.13
AB[C]DEFGHIJKLMNOPQRSTUVWXYZ

This page was generated on 2021-06-17 02:37:51 -0400 (Thu, 17 Jun 2021).

All results for package cBioPortalData

To the developers/maintainers of the cBioPortalData package:
- Please allow up to 24 hours (and sometimes 48 hours) for your latest push to git@git.bioconductor.org:packages/cBioPortalData.git to
reflect on this report. See How and When does the builder pull? When will my changes propagate? here for more information.
- Make sure to use the following settings in order to reproduce any error or warning you see on this page.

raw results

Package 249/2041HostnameOS / ArchINSTALLBUILDCHECKBUILD BIN
cBioPortalData 2.4.2  (landing page)
Marcel Ramos
Snapshot Date: 2021-06-15 06:50:12 -0400 (Tue, 15 Jun 2021)
URL: https://git.bioconductor.org/packages/cBioPortalData
Branch: RELEASE_3_13
Last Commit: ce57c14
Last Changed Date: 2021-06-08 11:59:11 -0400 (Tue, 08 Jun 2021)
nebbiolo1Linux (Ubuntu 20.04.2 LTS) / x86_64  OK    ERROR  skipped
tokay2Windows Server 2012 R2 Standard / x64  OK    ERROR  skippedskipped
machv2macOS 10.14.6 Mojave / x86_64  OK    ERROR  skippedskipped