Back to Multiple platform build/check report for BioC 3.13
A[B]CDEFGHIJKLMNOPQRSTUVWXYZ

This page was generated on 2021-09-22 15:05:38 -0400 (Wed, 22 Sep 2021).

BUILD results for bumphunter on machv2

To the developers/maintainers of the bumphunter package:
- Please allow up to 24 hours (and sometimes 48 hours) for your latest push to git@git.bioconductor.org:packages/bumphunter.git to
reflect on this report. See How and When does the builder pull? When will my changes propagate? here for more information.
- Make sure to use the following settings in order to reproduce any error or warning you see on this page.

raw results

Package 223/2041HostnameOS / ArchINSTALLBUILDCHECKBUILD BIN
bumphunter 1.34.0  (landing page)
Rafael A. Irizarry
Snapshot Date: 2021-09-21 04:50:12 -0400 (Tue, 21 Sep 2021)
git_url: https://git.bioconductor.org/packages/bumphunter
git_branch: RELEASE_3_13
git_last_commit: 905ec98
git_last_commit_date: 2021-05-19 11:54:54 -0400 (Wed, 19 May 2021)
nebbiolo1Linux (Ubuntu 20.04.2 LTS) / x86_64  OK    OK    OK  UNNEEDED, same version is already published
tokay2Windows Server 2012 R2 Standard / x64  OK    OK    OK    OK  UNNEEDED, same version is already published
machv2macOS 10.14.6 Mojave / x86_64  OK    OK    OK    OK  UNNEEDED, same version is already published

Summary

Package: bumphunter
Version: 1.34.0
Command: /Library/Frameworks/R.framework/Versions/Current/Resources/bin/R CMD build --keep-empty-dirs --no-resave-data bumphunter
StartedAt: 2021-09-21 11:02:09 -0400 (Tue, 21 Sep 2021)
EndedAt: 2021-09-21 11:03:10 -0400 (Tue, 21 Sep 2021)
EllapsedTime: 61.2 seconds
RetCode: 0
Status:   OK  
PackageFile: bumphunter_1.34.0.tar.gz
PackageFileSize: 2.395 MiB

Command output

##############################################################################
##############################################################################
###
### Running command:
###
###   /Library/Frameworks/R.framework/Versions/Current/Resources/bin/R CMD build --keep-empty-dirs --no-resave-data bumphunter
###
##############################################################################
##############################################################################


* checking for file ‘bumphunter/DESCRIPTION’ ... OK
* preparing ‘bumphunter’:
* checking DESCRIPTION meta-information ... OK
* installing the package to build vignettes
* creating vignettes ... OK
* checking for LF line-endings in source and make files and shell scripts
* checking for empty or unneeded directories
* building ‘bumphunter_1.34.0.tar.gz’