Back to Multiple platform build/check report for BioC 3.13
A[B]CDEFGHIJKLMNOPQRSTUVWXYZ

This page was generated on 2021-09-24 15:06:04 -0400 (Fri, 24 Sep 2021).

BUILD results for bsseq on tokay2

To the developers/maintainers of the bsseq package:
- Please allow up to 24 hours (and sometimes 48 hours) for your latest push to git@git.bioconductor.org:packages/bsseq.git to
reflect on this report. See How and When does the builder pull? When will my changes propagate? here for more information.
- Make sure to use the following settings in order to reproduce any error or warning you see on this page.

raw results

Package 218/2041HostnameOS / ArchINSTALLBUILDCHECKBUILD BIN
bsseq 1.28.0  (landing page)
Kasper Daniel Hansen
Snapshot Date: 2021-09-23 04:50:12 -0400 (Thu, 23 Sep 2021)
git_url: https://git.bioconductor.org/packages/bsseq
git_branch: RELEASE_3_13
git_last_commit: 57084fa
git_last_commit_date: 2021-05-19 11:53:03 -0400 (Wed, 19 May 2021)
nebbiolo1Linux (Ubuntu 20.04.2 LTS) / x86_64  OK    OK    OK  UNNEEDED, same version is already published
tokay2Windows Server 2012 R2 Standard / x64  OK    OK    OK    OK  UNNEEDED, same version is already published
machv2macOS 10.14.6 Mojave / x86_64  OK    OK    OK    OK  UNNEEDED, same version is already published

Summary

Package: bsseq
Version: 1.28.0
Command: chmod a+r bsseq -R && C:\Users\biocbuild\bbs-3.13-bioc\R\bin\R.exe CMD build --keep-empty-dirs --no-resave-data bsseq
StartedAt: 2021-09-23 11:59:50 -0400 (Thu, 23 Sep 2021)
EndedAt: 2021-09-23 12:03:55 -0400 (Thu, 23 Sep 2021)
EllapsedTime: 245.4 seconds
RetCode: 0
Status:   OK  
PackageFile: bsseq_1.28.0.tar.gz
PackageFileSize: 2.619 MiB

Command output

##############################################################################
##############################################################################
###
### Running command:
###
###   chmod a+r bsseq -R && C:\Users\biocbuild\bbs-3.13-bioc\R\bin\R.exe CMD build --keep-empty-dirs --no-resave-data bsseq
###
##############################################################################
##############################################################################


* checking for file 'bsseq/DESCRIPTION' ... OK
* preparing 'bsseq':
* checking DESCRIPTION meta-information ... OK
* cleaning src
* installing the package to build vignettes
* creating vignettes ... OK
* cleaning src
* checking for LF line-endings in source and make files and shell scripts
* checking for empty or unneeded directories
* looking to see if a 'data/datalist' file should be added
* building 'bsseq_1.28.0.tar.gz'