Back to Multiple platform build/check report for BioC 3.13
A[B]CDEFGHIJKLMNOPQRSTUVWXYZ

This page was generated on 2021-09-17 15:05:59 -0400 (Fri, 17 Sep 2021).

BUILD BIN results for breakpointR on tokay2

To the developers/maintainers of the breakpointR package:
- Please allow up to 24 hours (and sometimes 48 hours) for your latest push to git@git.bioconductor.org:packages/breakpointR.git to
reflect on this report. See How and When does the builder pull? When will my changes propagate? here for more information.
- Make sure to use the following settings in order to reproduce any error or warning you see on this page.

raw results

Package 211/2041HostnameOS / ArchINSTALLBUILDCHECKBUILD BIN
breakpointR 1.10.0  (landing page)
David Porubsky
Snapshot Date: 2021-09-16 04:50:11 -0400 (Thu, 16 Sep 2021)
git_url: https://git.bioconductor.org/packages/breakpointR
git_branch: RELEASE_3_13
git_last_commit: c1d2077
git_last_commit_date: 2021-05-19 12:38:04 -0400 (Wed, 19 May 2021)
nebbiolo1Linux (Ubuntu 20.04.2 LTS) / x86_64  OK    OK    OK  UNNEEDED, same version is already published
tokay2Windows Server 2012 R2 Standard / x64  OK    OK    OK    OK  UNNEEDED, same version is already published
machv2macOS 10.14.6 Mojave / x86_64  OK    OK    OK    OK  UNNEEDED, same version is already published

Summary

Package: breakpointR
Version: 1.10.0
Command: rm -rf breakpointR.buildbin-libdir && mkdir breakpointR.buildbin-libdir && C:\Users\biocbuild\bbs-3.13-bioc\R\bin\R.exe CMD INSTALL --merge-multiarch --build --library=breakpointR.buildbin-libdir breakpointR_1.10.0.tar.gz
StartedAt: 2021-09-17 08:25:09 -0400 (Fri, 17 Sep 2021)
EndedAt: 2021-09-17 08:26:42 -0400 (Fri, 17 Sep 2021)
EllapsedTime: 92.7 seconds
RetCode: 0
Status:   OK  
PackageFile: breakpointR_1.10.0.zip
PackageFileSize: 592.2 KiB

Command output

##############################################################################
##############################################################################
###
### Running command:
###
###   rm -rf breakpointR.buildbin-libdir && mkdir breakpointR.buildbin-libdir && C:\Users\biocbuild\bbs-3.13-bioc\R\bin\R.exe CMD INSTALL --merge-multiarch --build --library=breakpointR.buildbin-libdir breakpointR_1.10.0.tar.gz
###
##############################################################################
##############################################################################



install for i386

* installing *source* package 'breakpointR' ...
** using staged installation
** R
** inst
** byte-compile and prepare package for lazy loading
** help
*** installing help indices
  converting help for package 'breakpointR'
    finding HTML links ... done
    BreakPoint                              html  
    finding level-2 HTML links ... done

    breakSeekr                              html  
    breakpointR-package                     html  
    breakpointr                             html  
REDIRECT:topic	 Previous alias or file overwritten by alias: C:/Users/biocbuild/bbs-3.13-bioc/meat/breakpointR.buildbin-libdir/00LOCK-breakpointR/00new/breakpointR/help/breakpointr.html
    breakpointr2UCSC                        html  
    collapseBins                            html  
    confidenceInterval                      html  
    confidenceInterval.binomial             html  
    createCompositeFile                     html  
    deltaWCalculator                        html  
    deltaWCalculatorVariousWindows          html  
    exportRegions                           html  
    genotype.binom                          html  
    genotype.fisher                         html  
    genotyping                              html  
    hotspotter                              html  
    insertchr                               html  
    loadFromFiles                           html  
    plotBreakpoints                         html  
    plotBreakpointsPerChr                   html  
    plotHeatmap                             html  
    ranges2UCSC                             html  
    readBamFileAsGRanges                    html  
    readConfig                              html  
    removeDoubleSCEs                        html  
    removeReadPileupSpikes                  html  
    runBreakpointr                          html  
    summarizeBreaks                         html  
    synchronizeReadDir                      html  
    transCoord                              html  
    writeConfig                             html  
** building package indices
** installing vignettes
** testing if installed package can be loaded from temporary location
** testing if installed package can be loaded from final location
** testing if installed package keeps a record of temporary installation path

install for x64

* installing *source* package 'breakpointR' ...
** testing if installed package can be loaded
* MD5 sums
packaged installation of 'breakpointR' as breakpointR_1.10.0.zip
* DONE (breakpointR)