Back to Multiple platform build/check report for BioC 3.13
A[B]CDEFGHIJKLMNOPQRSTUVWXYZ

This page was generated on 2021-09-22 15:05:09 -0400 (Wed, 22 Sep 2021).

BUILD results for branchpointer on tokay2

To the developers/maintainers of the branchpointer package:
- Please allow up to 24 hours (and sometimes 48 hours) for your latest push to git@git.bioconductor.org:packages/branchpointer.git to
reflect on this report. See How and When does the builder pull? When will my changes propagate? here for more information.
- Make sure to use the following settings in order to reproduce any error or warning you see on this page.

raw results

Package 210/2041HostnameOS / ArchINSTALLBUILDCHECKBUILD BIN
branchpointer 1.18.0  (landing page)
Beth Signal
Snapshot Date: 2021-09-21 04:50:12 -0400 (Tue, 21 Sep 2021)
git_url: https://git.bioconductor.org/packages/branchpointer
git_branch: RELEASE_3_13
git_last_commit: 0e0e947
git_last_commit_date: 2021-05-19 12:26:29 -0400 (Wed, 19 May 2021)
nebbiolo1Linux (Ubuntu 20.04.2 LTS) / x86_64  OK    OK    OK  UNNEEDED, same version is already published
tokay2Windows Server 2012 R2 Standard / x64  OK    OK    OK    OK  UNNEEDED, same version is already published
machv2macOS 10.14.6 Mojave / x86_64  OK    OK    OK    OK  UNNEEDED, same version is already published

Summary

Package: branchpointer
Version: 1.18.0
Command: chmod a+r branchpointer -R && C:\Users\biocbuild\bbs-3.13-bioc\R\bin\R.exe CMD build --keep-empty-dirs --no-resave-data branchpointer
StartedAt: 2021-09-21 12:14:39 -0400 (Tue, 21 Sep 2021)
EndedAt: 2021-09-21 12:17:01 -0400 (Tue, 21 Sep 2021)
EllapsedTime: 141.8 seconds
RetCode: 0
Status:   OK  
PackageFile: branchpointer_1.18.0.tar.gz
PackageFileSize: 4.783 MiB

Command output

##############################################################################
##############################################################################
###
### Running command:
###
###   chmod a+r branchpointer -R && C:\Users\biocbuild\bbs-3.13-bioc\R\bin\R.exe CMD build --keep-empty-dirs --no-resave-data branchpointer
###
##############################################################################
##############################################################################


* checking for file 'branchpointer/DESCRIPTION' ... OK
* preparing 'branchpointer':
* checking DESCRIPTION meta-information ... OK
* installing the package to build vignettes
* creating vignettes ... OK
* checking for LF line-endings in source and make files and shell scripts
* checking for empty or unneeded directories
* looking to see if a 'data/datalist' file should be added
Omitted 'LazyData' from DESCRIPTION
* building 'branchpointer_1.18.0.tar.gz'