Index of /checkResults/release/bioc-LATEST/branchpointer/raw-results/nebbiolo2

[ICO]NameLast modifiedSizeDescription

[DIR]Parent Directory  -  
[TXT]buildsrc-out.txt04-Dec-2021 03:04 933  
[   ]buildsrc-summary.dcf04-Dec-2021 03:04 435  
[TXT]checksrc-out.txt04-Dec-2021 03:04 3.3K 
[   ]checksrc-summary.dcf04-Dec-2021 03:04 448  
[TXT]install-out.txt04-Dec-2021 03:04 965  
[   ]install-summary.dcf04-Dec-2021 03:04 271