Index of /checkResults/release/bioc-LATEST/branchpointer/raw-results/machv2

[ICO]NameLast modifiedSizeDescription

[DIR]Parent Directory  -  
[TXT]buildsrc-out.txt04-Dec-2021 03:05 2.4K 
[   ]buildsrc-summary.dcf04-Dec-2021 03:05 356  
[TXT]install-out.txt04-Dec-2021 03:05 1.0K 
[   ]install-summary.dcf04-Dec-2021 03:05 281