Back to Multiple platform build/check report for BioC 3.14
A[B]CDEFGHIJKLMNOPQRSTUVWXYZ

This page was generated on 2021-10-26 14:08:28 -0400 (Tue, 26 Oct 2021).

INSTALL results for branchpointer on machv2

To the developers/maintainers of the branchpointer package:
- Please allow up to 24 hours (and sometimes 48 hours) for your latest push to git@git.bioconductor.org:packages/branchpointer.git to
reflect on this report. See How and When does the builder pull? When will my changes propagate? here for more information.
- Make sure to use the following settings in order to reproduce any error or warning you see on this page.

raw results

Package 213/2083HostnameOS / ArchINSTALLBUILDCHECKBUILD BIN
branchpointer 1.19.0  (landing page)
Beth Signal
Snapshot Date: 2021-10-25 14:50:11 -0400 (Mon, 25 Oct 2021)
git_url: https://git.bioconductor.org/packages/branchpointer
git_branch: master
git_last_commit: 6b26be6
git_last_commit_date: 2021-05-19 12:26:29 -0400 (Wed, 19 May 2021)
nebbiolo2Linux (Ubuntu 20.04.2 LTS) / x86_64  OK    OK    OK  UNNEEDED, same version is already published
riesling1Windows Server 2019 Standard / x64  OK    OK    OK    OK  UNNEEDED, same version is already published
merida1macOS 10.14.6 Mojave / x86_64  OK    OK    OK    OK  UNNEEDED, same version is already published
machv2macOS 10.14.6 Mojave / x86_64  OK    ERROR  skippedskipped

Summary

Package: branchpointer
Version: 1.19.0
Command: /Library/Frameworks/R.framework/Resources/bin/R CMD INSTALL branchpointer
StartedAt: 2021-10-25 18:18:41 -0400 (Mon, 25 Oct 2021)
EndedAt: 2021-10-25 18:19:47 -0400 (Mon, 25 Oct 2021)
EllapsedTime: 65.2 seconds
RetCode: 0
Status:   OK  

Command output

##############################################################################
##############################################################################
###
### Running command:
###
###   /Library/Frameworks/R.framework/Resources/bin/R CMD INSTALL branchpointer
###
##############################################################################
##############################################################################


* installing to library ‘/Library/Frameworks/R.framework/Versions/4.1/Resources/library’
* installing *source* package ‘branchpointer’ ...
** using staged installation
** R
** inst
** byte-compile and prepare package for lazy loading
** help
*** installing help indices
** building package indices
** installing vignettes
** testing if installed package can be loaded from temporary location
** testing if installed package can be loaded from final location
** testing if installed package keeps a record of temporary installation path
* DONE (branchpointer)