Back to Multiple platform build/check report for BioC 3.13
A[B]CDEFGHIJKLMNOPQRSTUVWXYZ

This page was generated on 2021-08-02 15:04:43 -0400 (Mon, 02 Aug 2021).

BUILD results for bnem on nebbiolo1

To the developers/maintainers of the bnem package:
- Please allow up to 24 hours (and sometimes 48 hours) for your latest push to git@git.bioconductor.org:packages/bnem.git to
reflect on this report. See How and When does the builder pull? When will my changes propagate? here for more information.
- Make sure to use the following settings in order to reproduce any error or warning you see on this page.

raw results

Package 204/2041HostnameOS / ArchINSTALLBUILDCHECKBUILD BIN
bnem 1.0.0  (landing page)
Martin Pirkl
Snapshot Date: 2021-08-01 04:50:10 -0400 (Sun, 01 Aug 2021)
URL: https://git.bioconductor.org/packages/bnem
Branch: RELEASE_3_13
Last Commit: 3109efd
Last Changed Date: 2021-05-19 12:58:21 -0400 (Wed, 19 May 2021)
nebbiolo1Linux (Ubuntu 20.04.2 LTS) / x86_64  OK    OK    OK  UNNEEDED, same version is already published
tokay2Windows Server 2012 R2 Standard / x64  OK    OK    OK    OK  UNNEEDED, same version is already published
machv2macOS 10.14.6 Mojave / x86_64  OK    OK    OK    OK  UNNEEDED, same version is already published

Summary

Package: bnem
Version: 1.0.0
Command: /home/biocbuild/bbs-3.13-bioc/R/bin/R CMD build --keep-empty-dirs --no-resave-data bnem
StartedAt: 2021-08-01 06:47:16 -0400 (Sun, 01 Aug 2021)
EndedAt: 2021-08-01 06:48:18 -0400 (Sun, 01 Aug 2021)
EllapsedTime: 61.9 seconds
RetCode: 0
Status:   OK  
PackageFile: bnem_1.0.0.tar.gz
PackageFileSize: 1.563 MiB

Command output

##############################################################################
##############################################################################
###
### Running command:
###
###   /home/biocbuild/bbs-3.13-bioc/R/bin/R CMD build --keep-empty-dirs --no-resave-data bnem
###
##############################################################################
##############################################################################


* checking for file ‘bnem/DESCRIPTION’ ... OK
* preparing ‘bnem’:
* checking DESCRIPTION meta-information ... OK
* installing the package to build vignettes
* creating vignettes ... OK
* checking for LF line-endings in source and make files and shell scripts
* checking for empty or unneeded directories
* looking to see if a ‘data/datalist’ file should be added
* building ‘bnem_1.0.0.tar.gz’